BEGIN:VCALENDAR
VERSION:2.0
PRODID:-//https://techplay.jp//JP
CALSCALE:GREGORIAN
METHOD:PUBLISH
X-WR-CALDESC:【申込多数により増枠！】現役フロントエン
 ドエンジニアから学ぶ！WordPress入門
X-WR-CALNAME:【申込多数により増枠！】現役フロントエン
 ドエンジニアから学ぶ！WordPress入門
X-WR-TIMEZONE:Asia/Tokyo
BEGIN:VTIMEZONE
TZID:Asia/Tokyo
BEGIN:STANDARD
DTSTART:19700101T000000
TZOFFSETFROM:+0900
TZOFFSETTO:+0900
TZNAME:JST
END:STANDARD
END:VTIMEZONE
BEGIN:VEVENT
UID:811656@techplay.jp
SUMMARY:【申込多数により増枠！】現役フロントエンドエ
 ンジニアから学ぶ！WordPress入門
DTSTART;TZID=Asia/Tokyo:20210326T150000
DTEND;TZID=Asia/Tokyo:20210326T170000
DTSTAMP:20260425T115825Z
CREATED:20210315T141949Z
DESCRIPTION:イベント詳細はこちら\nhttps://techplay.jp/event/81165
 6?utm_medium=referral&utm_source=ics&utm_campaign=ics\n\nウェビナー
 に関して\nこんにちは、IT職種のフリーランスの方のサ
 ポートサービスを運営しているクラウドテックです。\
 n自身の今後の更なるスキルアップのために、学習をし
 ていきたい…！と考える皆様にご案内です。\nクラウ
 ドテックでは、フロントエンド開発教育事業を行って
 いる\n株式会社Deer様と協業を開始し、\nこの度ウェビ
 ナーを開催する運びとなりましたのでお知らせいたし
 ます。\n現在既にWebエンジニアとして活動されている
 方から、他職種の方まで、\nぜひ奮ってご応募くださ
 いませ！\nウェビナー概要\n日時：2021年3月26日金曜日
 　15:00～17:00　※入退場自由です！\nタイトル：「現役
 フロントエンドエンジニアから学ぶ！WordPress入門」\n
 内容：\n大好評につきDeer社×クラウドテック企画のウ
 ェビナー第二弾！\n普段仕事で使っているため理解を
 深めたい、改めて学びたいと声が多かった「WordPress」
 について\n今回は簡単なデモプレイも盛り込みながら
 解説いたします！\nタイムテーブル：（約2時間ほどを
 予定しております。）\n15:00 株式会社Deerより自己紹介
 、ご挨拶\n15:10 Wordpressの世界観\n15:25 実務で押さえてお
 くべきWordPress知識とは\n15:40 休憩\n15:50 環境構築、簡単
 なデモプレイ\n16:45 質疑応答\n16:55 フロントエンド開発
 学習プログラム告知\n手法：\nZoom（本ウェビナーにお
 申込みいただいた方には、本イベントページ上部に当
 日のZoomURLが表示されます）\n料金：無料\n共催会社概
 要\n株式会社Deer    https://deer.co.jp/\nモダンWebフロントエ
 ンドをベースにWebサービス開発とプログラミング教育
 事業を行われています。\n今回、クラウドテックと連
 携を開始しました。\n当日の講師\n株式会社 Deer　フロ
 ントエンドエンジニア　満井美恵\n自社開発企業にて
 マークアップエンジニアを経験したのち、2019年よりフ
 リーランスのフロントエンドエンジニアとして活動。\
 nWordPressオリジナルテーマ作成やマークアップ案件を得
 意とします。
LOCATION:オンライン（Zoom） オンライン
URL:https://techplay.jp/event/811656?utm_medium=referral&utm_source=ics&utm
 _campaign=ics
END:VEVENT
END:VCALENDAR
