BEGIN:VCALENDAR
VERSION:2.0
PRODID:-//https://techplay.jp//JP
CALSCALE:GREGORIAN
METHOD:PUBLISH
X-WR-CALDESC:【パーソンリンク】オンラインもくもく会 #4
X-WR-CALNAME:【パーソンリンク】オンラインもくもく会 #4
X-WR-TIMEZONE:Asia/Tokyo
BEGIN:VTIMEZONE
TZID:Asia/Tokyo
BEGIN:STANDARD
DTSTART:19700101T000000
TZOFFSETFROM:+0900
TZOFFSETTO:+0900
TZNAME:JST
END:STANDARD
END:VTIMEZONE
BEGIN:VEVENT
UID:811664@techplay.jp
SUMMARY:【パーソンリンク】オンラインもくもく会 #4
DTSTART;TZID=Asia/Tokyo:20210319T193000
DTEND;TZID=Asia/Tokyo:20210319T210000
DTSTAMP:20260419T175015Z
CREATED:20210315T142340Z
DESCRIPTION:イベント詳細はこちら\nhttps://techplay.jp/event/81166
 4?utm_medium=referral&utm_source=ics&utm_campaign=ics\n\n\n一週間お
 疲れ様でした\n仕事終わりにもう少しだけ頑張ろうっ
 て人が集まる会です。\nパーソンリンクの概要\n弊社は
 主にwebの受託開発を行う社員数40人弱の会社です。\n社
 長含め全員がエンジニアの会社であり、日々技術力を
 磨いています。\n弊社のHP\nhttps://person-link.co.jp\nパーソ
 ンリンクもくもく会概要\n弊社主催でゆるくオンライ
 ンもくもく会をすることにしました。\n途中参加OK\, 途
 中退室OK。\n勉強のテーマはなんでも構いません。最後
 にやったことをみんなで共有しましょう。\nテーマ例)\
 n\n今作ってる個人サービス・ポートフォリオの開発\n
 最近流行のプログラミング言語を勉強する\nQiita・ブロ
 グ等に記事を書く\n\nこんな人に来て欲しい\n\n勉強仲
 間が欲しい\n集中できる空間が欲しい\n社外のエンジニ
 アと交流したい\n勉強会に興味がある\n\n簡単な流れ\n\n
 \n\n時間間隔\n内容\n予定時間\n\n\n\n\n5分\ndiscordに集合\n1
 9:25~19:30\n\n\n15分\n説明会＋自己紹介タイム\n19:30~19:45\n\n
 \n60分\nもくもく会\n19:45~20:45\n\n\n15分\n簡単な共有会+雑
 談\n20:45~21:00\n\n\n\n※弊社にご興味をお持ちいただいて
 いる方には、会社のご説明もさせて頂けます\n事前準
 備\nDiscordのダウンロードしておくとスムーズに進めら
 れると思います。\nhttps://discord.com/download\n開催場所\nオ
 ンライン(discord)\nメールにて当日のURLを共有させてい
 ただきます。\n会費\n無料\n最後に\nなかなか人と会う
 ことが難しい世の中ですがその反面、自宅で気軽にも
 くもく会に参加することができるようになりました。\
 n弊社でもより多くのエンジニアと関わっていきたいと
 考え、オンラインもくもく会を企画することにしまし
 た。\nもし途中で予定が変更することとなった場合は
 迅速にメールにて対応します。\nよろしくお願いいた
 します。
LOCATION:オンライン オンライン
URL:https://techplay.jp/event/811664?utm_medium=referral&utm_source=ics&utm
 _campaign=ics
END:VEVENT
END:VCALENDAR
