BEGIN:VCALENDAR
VERSION:2.0
PRODID:-//https://techplay.jp//JP
CALSCALE:GREGORIAN
METHOD:PUBLISH
X-WR-CALDESC:鹿児島Linux勉強会 2021.04(オンライン開催)
X-WR-CALNAME:鹿児島Linux勉強会 2021.04(オンライン開催)
X-WR-TIMEZONE:Asia/Tokyo
BEGIN:VTIMEZONE
TZID:Asia/Tokyo
BEGIN:STANDARD
DTSTART:19700101T000000
TZOFFSETFROM:+0900
TZOFFSETTO:+0900
TZNAME:JST
END:STANDARD
END:VTIMEZONE
BEGIN:VEVENT
UID:811689@techplay.jp
SUMMARY:鹿児島Linux勉強会 2021.04(オンライン開催)
DTSTART;TZID=Asia/Tokyo:20210425T140000
DTEND;TZID=Asia/Tokyo:20210425T170000
DTSTAMP:20260421T104938Z
CREATED:20210315T213444Z
DESCRIPTION:イベント詳細はこちら\nhttps://techplay.jp/event/81168
 9?utm_medium=referral&utm_source=ics&utm_campaign=ics\n\n鹿児島Linux
 勉強会\n※鹿児島と付いていますが，オンラインなの
 で住んでいる地域は問いません．Linux/UNIXやOSSに興味が
 あれば誰でも参加OK．\n月イチペースを目標に集まって
 LinuxをはじめUNIX，UNIX-Like system\, OSS等の関連する様々な
 事を語り合うことを目的としています．\nBoFやアンカ
 ンファレンスのような形式で発表したいネタを持った
 人が発表します．\n発表ネタはLinux やUNIX-Like system\, OSS
 などにかすってればOK\nちょっとした事や相談事とかも
 OK\n(WindowsやMacでもWSLやshell，マルチプラットホームア
 プリケーションの話題なども)\nDiscord を利用する予定
 です．\n※遅刻早退OKです．コメントやアンケートに書
 いてもらえると助かります．\n会場\n\nオンラインDiscord
 \nhttps://discord.gg/cGf9mGg\n\nDiscordサーバのテキストチャン
 ネル「#meetup-202104」と，ボイスチャンネルの「#General」
 で開催します．  \n申し込み\nこのページか， 鹿児島ら
 ぐ のメーリングリストで申し込んでください．\n主催\
 n\n鹿児島らぐ  \n\nMLで告知やフォローアップをしてい
 ます．
LOCATION:Discord オンライン
URL:https://techplay.jp/event/811689?utm_medium=referral&utm_source=ics&utm
 _campaign=ics
END:VEVENT
END:VCALENDAR
