BEGIN:VCALENDAR
VERSION:2.0
PRODID:-//https://techplay.jp//JP
CALSCALE:GREGORIAN
METHOD:PUBLISH
X-WR-CALDESC:hey designers night vol.3
X-WR-CALNAME:hey designers night vol.3
X-WR-TIMEZONE:Asia/Tokyo
BEGIN:VTIMEZONE
TZID:Asia/Tokyo
BEGIN:STANDARD
DTSTART:19700101T000000
TZOFFSETFROM:+0900
TZOFFSETTO:+0900
TZNAME:JST
END:STANDARD
END:VTIMEZONE
BEGIN:VEVENT
UID:812373@techplay.jp
SUMMARY:hey designers night vol.3
DTSTART;TZID=Asia/Tokyo:20210402T200000
DTEND;TZID=Asia/Tokyo:20210402T213000
DTSTAMP:20260423T194656Z
CREATED:20210322T142445Z
DESCRIPTION:イベント詳細はこちら\nhttps://techplay.jp/event/81237
 3?utm_medium=referral&utm_source=ics&utm_campaign=ics\n\n概要\nWEBサ
 ービスにおいてデザインは変化してきています。UIや
 カタチとしてのデザインだけではなく、本当の意味で
 強い体験（Experience）とプロダクトを作り出すため、あ
 らゆるタッチポイントをデザインする必要があります
 。そこで、サービス全体の品質を統一する上で「言語
 のデザイン」をテーマにイベントを開催します。\n本
 イベントでは、GMOペパボ執行役員CDOの小久保 浩大郎氏
 と株式会社コンセント UXデザイナー／アートディレク
 ターの黒坂晋氏をゲストに迎え、サービス全体の言語
 品質や言語による体験設計を作っていく際の考え方や
 デザイン思想や、職種としてUXライターになるための
 スキルや日々の考え方を深ぼってきいきます。また、
 プロフェッショナルなUXライターとしての姿勢や、言
 語をデザインすることの今後についてもディスカッシ
 ョンしていきます。\n開催概要\n\n日時：2021/04/02(金) 20:
 00〜21:30 （19:50開場）\n開催場所： YouTube Live（当日に19
 時半にURLを案内いたします。）\n参加費用： 無料\n定
 員： 上限無し\n\n対象者\n\nUXライターの方、UXライター
 の興味のある方\nサービス全体の言語体験設計に興味
 があるデザイナー、エンジニア、起業家\nUXに興味のあ
 るライターや編集者の方\nデザイナー以外も歓迎です
 ！\n\nhey designers nightとは\n\nhey が主催する、デジタルプ
 ロダクトやブランディングなど、デザイン周辺の幅広
 いテーマについて取り扱うイベントです。デジタルプ
 ロダクト開発に関わるすべての人を対象とした勉強会
 やワークショップなどを開催しています。\n4ヶ月周期
 くらいのペースで開催したいと考えています。共同開
 催にご興味がある方はぜひお声がけください。\nハッ
 シュタグ：#heydesignersnight\n\nタイムテーブル\n\n\n\n開始\
 n終了\n内容\n発表者\n\n\n\n\n19:50\n20:00\n開場\n\n\n\n20:00\n20
 :05\nオープニングトーク\n\n\n\n20:05\n20:15\nトークセッシ
 ョン①\nヘイ株式会社 松本 隆応\n\n\n20:15\n20:25\nトーク
 セッション②\nGMOペパボ  小久保 浩大郎\n\n\n20:25\n20:35\n
 トークセッション③\n株式会社コンセント 黒坂 晋\n\n\n
 20:35\n20:45\n休憩\n\n\n\n20:45\n21:20\nパネルディスカッショ
 ン\nGMOペパボ  小久保 浩大郎株式会社コンセント 黒坂 
 晋ヘイ株式会社 松本 隆応\n\n\n21:20\n21:30\n締め&アンケ
 ート回収\n\n\n\n\nスピーカー\nGMOペパボ CDO兼デザイン部
 部長　小久保 浩大郎\nフロントエンドデベロッパー、
 インターフェイスデザイナーとしていくつかのデザイ
 ンファームやフリーランスを経た後2011年にGoogle。オン
 ラインでのプロダクトマーケティングやブランドコミ
 ュニケーションに IA・デザイン・実装などで一貫して
 携わる。サイドプロジェクトとして Noto Sans JP のディ
 レクションなど。2018年 Google を離れ CAMPIFRE に CXO とし
 てジョインした後、2019年よりGMOペパボ。事業横断組織
 としてのデザイングループのマネージャーを経て 2020
 年4月より現職。デザイン経営を推進し、組織的なデザ
 インの活用とアウトプットの質の向上というミッショ
 ンに取り組んでいる。\n株式会社コンセント User Experien
 ce Design groupマネージャー UXデザイナー／アートディレ
 クター　黒坂 晋\n千葉工業大学卒業、同大学院修了。
 業界、BtoB／BtoC 問わず、さまざまな事業開発・改善プ
 ロジェクトのディレクション・設計・デザインを経験
 。現在は主に新規サービスの体験設計から、そのデジ
 タルプロダクトの設計、デザインに携わっている。多
 面的なUXを構想し、事業と生活者両者の体験をプロト
 タイピングして包括的にデザインする専門部署「User Ex
 perience Design group」を束ねるマネージャーを務める。プ
 ロ野球が大好きで、情報は毎日欠かさずキャッチアッ
 プしている。TVゲームも同じくらい好きで、プレイ中
 は癒やしの時間。\nヘイ株式会社 ブランド本部 マネー
 ジャー　松本 隆応\n2012年にヘイ株式会社の前身である
 コイニー株式会社の創業時にデザイナーとしてジョイ
 ン。\n創業時のブランドアイデンティティ構築から、
 サービスのUX/UIの設計、成長フェーズにおけるミッシ
 ョンやビジョン策定などのコーポレートデザインに至
 るまで幅広い成長フェーズと領域で一貫したブランデ
 ィングを実践。\n「ブランド価値は企業行動のすべて
 から生まれうる」をモットーに、現在はheyのPX（People E
 xperience）におけるブランドマネージャーとして行動に
 つながるインターナルのブランディングに注力してい
 る。\n個人としてもブランディングのコンサルタント
 として様々な領域やフェーズのブランディングを支援
 している。\n諸注意\n\nイベントの様子・内容をまとめ
 、後日公開させていただく場合がございます。\n参加
 目的が不適切だと判断される場合には、運営側で参加
 をキャンセルさせていただく場合がございます。\nセ
 クシュアルハラスメント・パワーハラスメント・スト
 ーカー等の他人への迷惑行為を行うことは禁止します
 。\nネットワークビジネス等、その対象を問わず販売
 、勧誘、あっせん等、宗教活動または政治活動をする
 ことは禁止します。\n何かお困り事などありましたら
 、当イベントページの「イベントへのお問い合わせ」
 よりご連絡お願いいたします。\n\n個人情報の取り扱い
 について\n\nご入力頂いた個人情報は、ヘイ㈱、GMOペパ
 ボ㈱及び㈱コンセントがそれぞれ取得し、以下のとお
 り取り扱います。\nヘイ㈱は、ご入力頂いた個人情報
 をセミナー・イベント等のご案内、お客様のお問い合
 わせに対するご回答及び各種アンケートのお願いのた
 めに利用いたします。上記利用目的を達成するために
 必要な範囲で業務の委託をする場合には、個人情報の
 保護が十分に図られている委託先を選定し、適切な処
 置を実施します。また、上記及び法令等に基づく場合
 を除き、予めご本人の同意を得ることなく第三者に提
 供することはありません。個人情報の開示等のご要望
 につきましては、ご本人確認等の手続を実施のうえ速
 やかに対応します。\nGMOペパボ㈱は、ご入力頂いた個
 人情報を法令及び同社の個人情報保護方針に従って安
 全かつ適切に取り扱います。\n㈱コンセントは、ご入
 力頂いた個人情報を法令及び同社の個人情報保護方針
 に従って安全かつ適切に取り扱います。\n\n\n\n主催：
 ヘイ株式会社\n\n会社紹介資料：hey BOOK\n\nオープンオフ
 ィス：Hello hey
LOCATION:オンライン
URL:https://techplay.jp/event/812373?utm_medium=referral&utm_source=ics&utm
 _campaign=ics
END:VEVENT
END:VCALENDAR
