BEGIN:VCALENDAR
VERSION:2.0
PRODID:-//https://techplay.jp//JP
CALSCALE:GREGORIAN
METHOD:PUBLISH
X-WR-CALDESC:勝てる検索キーワードの探し方
X-WR-CALNAME:勝てる検索キーワードの探し方
X-WR-TIMEZONE:Asia/Tokyo
BEGIN:VTIMEZONE
TZID:Asia/Tokyo
BEGIN:STANDARD
DTSTART:19700101T000000
TZOFFSETFROM:+0900
TZOFFSETTO:+0900
TZNAME:JST
END:STANDARD
END:VTIMEZONE
BEGIN:VEVENT
UID:812499@techplay.jp
SUMMARY:勝てる検索キーワードの探し方
DTSTART;TZID=Asia/Tokyo:20210408T120000
DTEND;TZID=Asia/Tokyo:20210408T130000
DTSTAMP:20260422T152824Z
CREATED:20210324T014142Z
DESCRIPTION:イベント詳細はこちら\nhttps://techplay.jp/event/81249
 9?utm_medium=referral&utm_source=ics&utm_campaign=ics\n\n\n勝てる検
 索キーワードの探し方\n4月8日（木）12:00～13:00\nウェビ
 ナー後のアンケートにて希望された方限定で、弊社保
 有のビッグデータに基づいた競合調査や貴社サイト課
 題点・改善点を用いた面談も行っております。お時間
 のある方はぜひご参加ください。\n▼こんな方にオス
 スメです！\n・選定したキーワードが上位表示されず
 悩んでいる企業様・売り出したいサービスの競合が多
 すぎる企業様・これからコンテンツ制作に取り組む企
 業様\n▼ウェビナー内容\n・「弱者の戦略」でキーワー
 ド選定 ・大手企業ドメインが専有しているKWとは・キ
 ーワードの探し方・KWの注意点\n\n▼ウェビナー開催概
 要\n・開催日時2021年4月8日（木）12:00～13:00・参加費無
 料・開催方法ウェビナー　※Zoomを利用します・参加方
 法お申込後に、別途担当者よりメールにてご案内致し
 ます。\n\n▼タイムスケジュール\n\n\n\n時間\n内容\n\n\n11
 :58〜\n視聴用URL開場\n\n\n12:00〜12:40\nウェビナー本編\n\n\
 n12:40〜13:00\n質疑応答・アンケート回答　※質問がなく
 なり次第終了\n\n\n\n※ 当日予告なく時間配分・内容が
 変更になる可能性がございます。\n▼講師紹介\n\n尾崎
 　篤志\n株式会社CINCコンサルタント\n\n\n高橋　幸大\n
 株式会社CINCコンサルタント\n▼注意事項\n競合他社/同
 業者/企業にご所属でない個人の方からのお申込みなど
 、 当社の判断によりセミナー参加をお断りする場合が
 あります。予めご了承ください。\n 
LOCATION:オンラインセミナー
URL:https://techplay.jp/event/812499?utm_medium=referral&utm_source=ics&utm
 _campaign=ics
END:VEVENT
END:VCALENDAR
