BEGIN:VCALENDAR
VERSION:2.0
PRODID:-//https://techplay.jp//JP
CALSCALE:GREGORIAN
METHOD:PUBLISH
X-WR-CALDESC:「GoldStone採算」で手軽に始めるプロジェクト
 採算管理（4月8日開催）
X-WR-CALNAME:「GoldStone採算」で手軽に始めるプロジェクト
 採算管理（4月8日開催）
X-WR-TIMEZONE:Asia/Tokyo
BEGIN:VTIMEZONE
TZID:Asia/Tokyo
BEGIN:STANDARD
DTSTART:19700101T000000
TZOFFSETFROM:+0900
TZOFFSETTO:+0900
TZNAME:JST
END:STANDARD
END:VTIMEZONE
BEGIN:VEVENT
UID:812501@techplay.jp
SUMMARY:「GoldStone採算」で手軽に始めるプロジェクト採算
 管理（4月8日開催）
DTSTART;TZID=Asia/Tokyo:20210408T160000
DTEND;TZID=Asia/Tokyo:20210408T170000
DTSTAMP:20260420T111946Z
CREATED:20210324T021428Z
DESCRIPTION:イベント詳細はこちら\nhttps://techplay.jp/event/81250
 1?utm_medium=referral&utm_source=ics&utm_campaign=ics\n\n\n弊社、GoldS
 tone採算サービスのデモを交えたWeb説明会を開催いたし
 ます。\n✓普段の採算管理業務にお困りの方\n✓ExcelやV
 BAでの採算管理に限界を感じておられる方\n✓気軽に始
 められる採算管理ツールをお探しの方\nなど、お気軽
 にご参加ください。\n\n◆開催日時：2021年4月8日（木）
 　16時～17時（１時間程度）\n◆内容　　：「GoldStone採
 算」で手軽に始めるプロジェクト採算管理\n　　　　
 　　　　ーGoldStone採算サービスを画面を用いたデモン
 ストレーションを中心に、\n　　　　　　　　　現場
 で手軽に始めることのできる採算管理の方法を紹介し
 ます。\n◆開催方法：Zoomを利用したWebセミナー形式\n
 ※WebセミナーURL等につきましては、後ほどGoldStone運用
 事務局よりご連絡いたします。\n\n◆運営　　：株式会
 社日本ビジネス開発　GoldStone運営事務局\n　　　　　
 　担当：矢野（goldstone@jbd.co.jp）\n＊＊＊＊＊＊＊＊＊
 ＊＊＊＊＊＊＊＊＊＊＊＊＊＊＊＊＊＊＊＊＊＊＊＊
 ＊＊＊＊＊＊＊＊＊＊\n\nタイムスケジュール\n\n\n\n時
 間\n内容\n\n\n\n\n15:45〜\n受付開始\n\n\n16:00〜16:45\n「GoldSt
 one採算」で手軽に始めるプロジェクト採算管理\n\n\n16:4
 5〜17:00\n質疑応答\n\n\n17:00\n終了\n\n\n\n※ 当日予告なく
 時間配分・内容が変更になる可能性がございます。\n\n
 参加対象\n\n経営者\nプロジェクトマネジャー\nエンジ
 ニア\n\n参加費\n無料\n注意事項\n\nリクルーティング、
 勧誘など、採用目的でのイベント参加はお断りしてお
 ります。\n飲食のみを目的としたご応募・ご来場はご
 遠慮ください。\nキャンセル待ち、補欠者の方は、ご
 来場いただいてもご入場いただくことが出来ませんの
 でご了承ください。\n欠席される場合は、お手数です
 が速やかにキャンセル処理をお願い致します。\n無断
 キャンセルや欠席が続く場合、次回以降の参加をお断
 りさせていただく場合がございます。\n
LOCATION:Zoomによるオンライン形式
URL:https://techplay.jp/event/812501?utm_medium=referral&utm_source=ics&utm
 _campaign=ics
END:VEVENT
END:VCALENDAR
