BEGIN:VCALENDAR
VERSION:2.0
PRODID:-//https://techplay.jp//JP
CALSCALE:GREGORIAN
METHOD:PUBLISH
X-WR-CALDESC:オンライン:GW集中⑪CAE技術者の為の勉強会「
 アンサンブルカルマンフィルタとデータ同化」5/5午前
X-WR-CALNAME:オンライン:GW集中⑪CAE技術者の為の勉強会「
 アンサンブルカルマンフィルタとデータ同化」5/5午前
X-WR-TIMEZONE:Asia/Tokyo
BEGIN:VTIMEZONE
TZID:Asia/Tokyo
BEGIN:STANDARD
DTSTART:19700101T000000
TZOFFSETFROM:+0900
TZOFFSETTO:+0900
TZNAME:JST
END:STANDARD
END:VTIMEZONE
BEGIN:VEVENT
UID:812584@techplay.jp
SUMMARY:オンライン:GW集中⑪CAE技術者の為の勉強会「アン
 サンブルカルマンフィルタとデータ同化」5/5午前
DTSTART;TZID=Asia/Tokyo:20210505T094000
DTEND;TZID=Asia/Tokyo:20210505T141000
DTSTAMP:20260421T054020Z
CREATED:20210324T062501Z
DESCRIPTION:イベント詳細はこちら\nhttps://techplay.jp/event/81258
 4?utm_medium=referral&utm_source=ics&utm_campaign=ics\n\n■CAE技術者
 の為のデータサイエンス・GW集中勉強会■\n＜開催120回
 ・参加360名の実績＞\n【テーマ】⑪「アンサンブルカ
 ルマンフィルタとデータ同化」\n    ※ 「ベイズ
 統計学入門(旧ベイズ統計学)」の回に参加された方、\n
       または「ベイズ統計学」の基礎をご理解
 の方向け。\n     （「ベイズ統計学入門」は5月2
 日午前開催予定です）。\n【日 時】 5月5日  (水/こど
 もの日）9:40-14:10  (集合9:35)  (12~13時休憩）\n【参加費】
  4\,000円（1台のパソコンから複数名の参加は出来ませ
 ん）\n    ※同業他社様のご参加はお断りする場
 合があります。 \n     お支払い前にお問合せく
 ださい。\n\n【参加登録】info@meshman.jp へ下記をお送り
 ください。\n     ＊開催日\n     ＊ご希望
 の勉強会テーマ\n     ＊資料送り先の住所・氏
 名\n      （コピー版資料を無料郵送します）\n
      ＊当日連絡が取れる電話番号\n     
 ＊Zoom使用経験（有／無）\n     ＊Connpassでのユ
 ーザー名\n    ※資料送付のため、開催4日前申込
 期限\n【参加までの流れ】\n ・参加登録（お支払い）
 \n ・info@meshman.jp へ上記、必要な情報を送信してくだ
 さい。\n  ↓\n ・資料郵送\n ・（Zoomを初めてご使
 用の方のみ接続確認）\n  ↓\n ・開催30分前までにZ
 oomミーティングへの招待メールをConnpassメールで送り
 ます。\n  定刻に開始の為、５分前までに未接続の
 場合は確認の為、電話致します。\n【お願い】\n  ・
 原則zoomかYouTubeライブ配信、不可能な場合はご相談下
 さい。\n  ※不正ログインを防ぐため、Connpassのユー
 ザー名を含んだ名前でログインしてください。\n  
 ・勉強会の録画・録音・撮影、および資料の2次利用、
 \n  　詳細内容のSNSへの投稿は固くお断りいたしま
 す。\n\n【内容】\n\nデータ同化とは\nベイズの定理の復
 習\nデータ同化の概要\n線形最小分散推定\n確率分布と
 デルタ関数\nデータ同化とベイズ統計学\n状態空間モデ
 ル\nカルマンフィルタ\n拡張カルマンフィルタ\nアンサ
 ンブルカルマンフィルタ \nケーススタディとソースコ
 ード\n質疑その他\n同テーマの勉強会では同じ内容とな
 っておりますが\n講師の説明は少しずつ更新されてお
 り、\nお話する内容も進化しております。\n習得度確認
 のための再度のご参加も歓迎です。\n\n\n株式会社イン
 サイトでは、2018年末より「CAEの為のデータサイエンス
 \n勉強会」を開始、 23のテーマについてオリジナルテ
 キストを作成し、\n述べ120回を超える開催を行って参
 りました。また、企業への出張セミナー、\n外部での
 セミナー講師も行っております。\n内容は、シミュレ
 ーション結果の分析、生産工程で得られるデータの\n
 より高度な分析、より効率的な実験計画と実験結果の
 分析、開発時の実験と\nシミュレーションの融合、製
 品運用時の計測データとシミュレーションの\n融合な
 ど、データ同化の実用化を念頭に、基礎技術を一つず
 つ固めることを\n目標としています。\n「データサイエ
 ンスを仕事に取り入れたいが漠然としていてどのよう
 に\n着手したらよいか分からない。」「仕事でデータ
 サイエンスを使っているが、\n何となく曖昧だったと
 ころをはっきりさせたかった。」など、様々な動機で\
 n幅広い分野の方々に、継続的にご参加頂いております
 。\n\n少人数の勉強会ですので、お気軽にご参加くださ
 い。\nまた、こんな事が出来るといいなと言う意見が
 あれば、\n是非お聞かせください。\n\n<テキスト>\nオリ
 ジナルテキストをコピーして無料配布しますが、簡易
 製本版の販売も行っております。\n簡易製本　１冊　5\
 ,000円（税、送料込み）\nhttp://www.meshman.jp/seminar/textsales.
 html\n*簡易製本テキストと無料のテキストとの違い\n　
 　http://www.meshman.jp/seminar/TextSample.png\n(1)簡易製本：1ス
 ライド1頁の印刷\n　 無料テキスト：4スライド1頁の印
 刷\n(2)製本の有無\n＊販売の理由＊\n無料配布の資料は1
 /4サイズですが、フルサイズの簡易製本では\n数式など
 見やすくなっております。\nもう一つ別の観点が御座
 います。\n現在、この勉強会の参加費は会の運営費の
 みを賄う程度です。\nこの企画にご賛同頂ける方は「
 カンパ」の意味で購入頂けると有り難いです。 \n購入
 は強制ではありませんので\nそれによって参加が出来
 なくなるという事は一切ございません。\nコピー版で
 の参加も歓迎です。\nテキストのお申込みは「参加受
 付方法」より「参加＋簡易製本版資料」を選択くださ
 い。\n    セットでご購入（12冊:50\,000円）の場合
 はhttp://www.meshman.jp/seminar/textsales.html\n    をご参照
 ください。\n    既に1冊以上ご購入の方で買い足
 しによるセット割引をご希望の方はinfo@meshman.jpへご相
 談ください。\nGW集中勉強会\n\n\n4月29日(木)\n①Python/Nump
 y基礎講習会②ADVENTURE_on_Windowsを用いた回帰分析\n(集合9
 :35)9:40-14:10(12:00～1h昼食休憩)(集合14:25)14:30-18:00\n\n5月1
 日(土)\n③深層学習１④深層学習２\n(集合9:35)9:40-14:10(12
 :00～1h昼食休憩)(集合14:25)14:30-18:00\n\n\n5月2日(日)\n⑤ベ
 イズ統計学入門⑥ベイズ統計学２\n(集合9:35)9:40-14:10(12:
 00～1h昼食休憩)(集合14:25)14:30-18:00\n\n\n5月3日(月)\n⑦MCMC
 １⑧ベイズ最適化\n(集合9:35)9:40-14:10(12:00～1h昼食休憩)(
 集合14:25)14:30-18:00\n\n\n5月4日(火)\n⑨カルマンフィルタ
 ⑩データ同化初歩の初歩\n(集合9:35)9:40-14:10(12:00～1h昼
 食休憩)(集合14:25)14:30-18:00\n\n\n5月5日(水)\n⑪アンサンブ
 ルカルマンフィルタとデータ同化⑫粒子フィルタによ
 るデータ同化\n(集合9:35)9:40-14:10(12:00～1h昼食休憩)(集合
 14:25)14:30-18:00\n\n\n\nCAEソフトウェアMeshman◆株式会社イ
 ンサイト
LOCATION:オンライン オンライン
URL:https://techplay.jp/event/812584?utm_medium=referral&utm_source=ics&utm
 _campaign=ics
END:VEVENT
END:VCALENDAR
