BEGIN:VCALENDAR
VERSION:2.0
PRODID:-//https://techplay.jp//JP
CALSCALE:GREGORIAN
METHOD:PUBLISH
X-WR-CALDESC:【無料:オンライン】初心者のためのプログラ
 ミング超入門【別日開催あり】
X-WR-CALNAME:【無料:オンライン】初心者のためのプログラ
 ミング超入門【別日開催あり】
X-WR-TIMEZONE:Asia/Tokyo
BEGIN:VTIMEZONE
TZID:Asia/Tokyo
BEGIN:STANDARD
DTSTART:19700101T000000
TZOFFSETFROM:+0900
TZOFFSETTO:+0900
TZNAME:JST
END:STANDARD
END:VTIMEZONE
BEGIN:VEVENT
UID:812706@techplay.jp
SUMMARY:【無料:オンライン】初心者のためのプログラミン
 グ超入門【別日開催あり】
DTSTART;TZID=Asia/Tokyo:20210507T193000
DTEND;TZID=Asia/Tokyo:20210507T210000
DTSTAMP:20260421T083615Z
CREATED:20210325T095023Z
DESCRIPTION:イベント詳細はこちら\nhttps://techplay.jp/event/81270
 6?utm_medium=referral&utm_source=ics&utm_campaign=ics\n\nプログラミ
 ングの概念と必要性を学ぶ\n★授業風景を、こちら（
 動画）からご覧いただけます！\n2020年5月、日本全国の
 小学校でプログラミング教育がはじまりました。\nそ
 こで大人向けの統計教室「WAKARA」では、”今更聞けな
 い”社会人に必要なプログラミングの仕組みを、「scra
 tch」と「Python」による実践例を通じて学ぶ講座を開始
 しました。\nScratch…小学校教育で2020年5月より導入さ
 れたプログラミング学習ツール。Python…現在もっとも
 人気が高いプログラミング言語の一つ。\n本セミナー
 では、プログラミングを初めて学ぼうとされる方に、
 小学校教育で使われているプログラミングツール「scra
 tch」と、現在人気の高い「Python」による実践例を通じ
 て、プログラミングとは何か、どのような考え方が必
 要なのかを解説致します。\n本セミナーは別日にも開
 催しております。スケジュールが合わない場合は弊社W
 ebページ（こちら）から他日程をご確認ください。\nセ
 ミナー内容\n・プログラミング言語とは・様々なプロ
 グラミング言語の特徴・プログラミングでできること
 ※カリキュラム内容は進捗等によって変更されること
 があります。\n受講対象\n・プログラミングを書いたこ
 とがない方・プログラミングを書けるようになりたい
 方・プログラミングを学んだことがあるが、うまく身
 につかなかった方・プログラミングで何ができるか知
 りたい方\n講師\n岡崎 凌（おかざき　りょう）\n近年注
 目を集めるAI技術(Deep Learning)の全フロー（開発・実装
 ・運用）を実施し、統計学と機械学習を中心にセミナ
 ー、企業研修、イベント講演、オンライン講義などを
 手掛ける。\n大阪大学大学院卒業。初心者の簡単な統
 計の活かし方から、多変量解析学や機械学習など発展
 的な分析手法まで幅広く対応できるスキルを持つ。さ
 らに、近年注目を集めるAI技術(Deep Learning)の全フロー
 （開発・実装・運用）を実施し、統計学と機械学習を
 中心にセミナー、企業研修、イベント講演、オンライ
 ン講義などを手掛ける。\n分野は前職の半導体工学分
 野のデータ分析をはじめ、医療統計、アンケート項目
 の設計と分析、集計データの可視化からメーカーの売
 上分析のコンサルティングなども行う。※経営道場と
 して名高い「澤田経営道場」にて統計担当講師。\nご
 参加にあたって（必ずご確認ください）\n■開催当日
 は、以下の手順でご入場いただけます。1. メニューよ
 りマイページの「参加申込イベント」を選択2. 本セミ
 ナーの「詳細ページへ」を選択3. セミナー詳細ページ
 の「オンライン配信情報」にある【配信ページを表示
 】ボタンを押すとzoomの会場ページに繋がります。\n■
 開場は開催の約15分前となります。それ以前のご入場
 はお控え下さい。■開催当日の電話対応はできかねま
 す。お問合せはメール、もしくはお問合せフォームよ
 りお願い致します。■iPad等タブレットの使用は一部機
 能が制限される場合がございます。パソコン端末での
 ご参加を推奨いたします。\n\nhttps://wakara.co.jp/course/11287
 \nzoomを用いてセミナーを行いますので、ブラウザが利
 用できるPCやタブレットなどの環境をご用意ください
 。
LOCATION:オンライン
URL:https://techplay.jp/event/812706?utm_medium=referral&utm_source=ics&utm
 _campaign=ics
END:VEVENT
END:VCALENDAR
