BEGIN:VCALENDAR
VERSION:2.0
PRODID:-//https://techplay.jp//JP
CALSCALE:GREGORIAN
METHOD:PUBLISH
X-WR-CALDESC:UX基礎「創業100年のメーカーが新規事業のアイ
 デア創出に採用したUXデザインプロセスとは#19
X-WR-CALNAME:UX基礎「創業100年のメーカーが新規事業のアイ
 デア創出に採用したUXデザインプロセスとは#19
X-WR-TIMEZONE:Asia/Tokyo
BEGIN:VTIMEZONE
TZID:Asia/Tokyo
BEGIN:STANDARD
DTSTART:19700101T000000
TZOFFSETFROM:+0900
TZOFFSETTO:+0900
TZNAME:JST
END:STANDARD
END:VTIMEZONE
BEGIN:VEVENT
UID:812805@techplay.jp
SUMMARY:UX基礎「創業100年のメーカーが新規事業のアイデ
 ア創出に採用したUXデザインプロセスとは#19
DTSTART;TZID=Asia/Tokyo:20210427T110000
DTEND;TZID=Asia/Tokyo:20210427T123000
DTSTAMP:20260420T110222Z
CREATED:20210326T062320Z
DESCRIPTION:イベント詳細はこちら\nhttps://techplay.jp/event/81280
 5?utm_medium=referral&utm_source=ics&utm_campaign=ics\n\n4/27 UX CARAVAN 
 -CaseStudy 概要\n\n最新事例をもとにUXデザインを用いた
 新規事業開発の進め方を学ぶ、\n少人数制のセミナー
 【アイデア開発編/基礎レベル/座学のみ】\n今回のテー
 マは「創業100年のメーカーが新規事業のアイデア創出
 に採用したUXデザインプロセスとは」です。自社の新
 規事業開発を担当されている方向けに、『新規事業開
 発において最も高い失敗リスクを回避するデザインプ
 ロセス』を、最新事例を交えてご紹介します。\n※2020
 年7月以前に、当社のUXワークショップ「新規事業アイ
 デアの発想＆検証フレームワーク」に参加された方は
 、同等の内容となりますのでご注意ください。（復習
 としてのご参加は歓迎します！）\n※質疑応答が終わ
 り次第、セミナー終了となります。\nお申込／ご参加
 方法について\nconnpassでお申込みいただくか、または下
 記サイトよりお申込みください。\nhttps://esaura.jp/news/eve
 nt/202103261790.html\n※セミナー終了後にアンケートにご回
 答いただいた方に配布しております、\nセミナー資料
 の事前入手をご希望される場合は、上記サイトよりお
 申込をお願いただけましたら、\nセミナー前に資料を
 送付させていただきます。\nセミナー開催日前にconnpass
 経由のメッセージ、またはアンケートでご回答いただ
 いたメールアドレスへご参加方法をご案内いたします
 。\nイベント詳細\n書籍やセミナーでUXデザインの “理
 論” を学ぶ機会はたくさんあっても、「リアルな成功
 /失敗事例」や現場で使われている「実践的なノウハウ
 」を学べる機会はそう多くありませんよね。本セミナ
 ーでは、弊社の過去100を超える事業支援実績の中から
 、他ではなかなか聞けないリアルな事例をご紹介しま
 す。\n※下記はトピックの一例で変わる可能性があり
 ます\n1）新規事業における最大の失敗リスクとは\n2）
 作りながら考えるプロトタイピングでは遅すぎる理由\
 n3）アイデア開発段階での学び方\n4）磨かなければな
 らないのは、アイデアではなく問いそのもの\n5）ピボ
 ットのマネージメント実践例\nこんな人におすすめで
 す\n「事業会社で新規事業開発を担当されている方」\n
 ・自社でこれから新規事業を立ち上げようとしている
 方\n・新規事業の立ち上げ経験が少なく、どう進めて
 いくべきか悩んでいる方\n・良い事業アイデアが見つ
 からない方、あるいはアイデアはあるがまだ自信が持
 てていない方\n・不確定性の高いアイデアに対して経
 営陣の承認を得るのに苦労している方\n・デザイン思
 考やUXデザインアプローチによるアイデア開発に興味
 のある方\nこんなことが学べます\n「最新事例をベース
 に、UXデザインを用いた新規事業開発の進め方を学べ
 ます」\n・新規事業の立ち上げでつまずきやすいポイ
 ントとは\n・UXデザインを導入することでどうして失敗
 リスクが下がるのか\n・ユーザーを中心としたアイデ
 ア開発の進め方\n<参加特典>\nクローズドな相談コミュ
 ニティにご招待（無償／現在150名が参加！）\n複数回
 ご参加いただく場合のご注意\nこちらのイベントは同
 内容の講座を繰り返し行なっているため、「＃19」と
 表記しております。\n複数回ご参加いただく際には同
 内容ということをご了承の上、お申込みをお願いいた
 します。\n講師・ファシリテーター\n\n喜多 竜二\nえそ
 ら合同会社\n代表社員／HCD-Net認定人間中心設計専門家\
 n2009年にUXデザインコンサルティングを専門とする「え
 そら合同会社」を設立、これまでに新規事業をはじめ
 とする100を超える事業を支援してきた。自身は行動観
 察をはじめとするエスノグラフィを専門とし、生活者
 に対する共感を出発点としたユニークなアイデア発想
 の場づくりや、UXデザインの組織導入に力を入れてい
 る。東京大学工学部卒業、シドニー工科大学大学院修
 了。\n主な担当クライアント：リクルート住まいカン
 パニー、コクヨ、東京ガス、エポスカード、日本航空
 ほか\nプログラム\n\n\n\n時間\n内容\n\n\n\n\n10:55\nアクセ
 ス可能\n\n\n11:00〜11:45\n座学\n\n\n11:45〜12:00\nまとめ・ア
 ンケート記入\n\n\n12:00〜12:30\n質疑応答\n\n\n12:30\nセミナ
 ー終了（質疑応答が終わり次第、セミナー終了となり
 ます）\n\n\n\n開催概要\n日時\n2021年4月27日（火）11:00～1
 2:30‬（12:55からアクセス可能）\nアクセス方法\n配信プ
 ラットフォーム：オンライン開催（Zoom）\n※PCやタブ
 レットなどの端末と、インターネット環境が必要とな
 ります。\n※Zoomアプリ、またはWEBブラウザからのご参
 加が可能です。\n※セミナー開催日前にconnpass経由のメ
 ッセージ、またはアンケートでご回答いただいたメー
 ルアドレスに、ご参加方法をご案内いたします。\n参
 加費\n無料\n定員\n20名（最少催行人数3名／先着順）\n
 備考　※以下について、予めご了承ください\n※自社
 で製品・サービスの開発を行っている事業会社さま向
 けのセミナーとなります。当社と同業・同業態の方、
 フリーランス、学生の方は参加をお断りさせていただ
 くことがありますので、ご了承ください。\n※少人数
 開催のため、キャンセルはできる限りご遠慮ください
 。他の回も含め、同一人物の当日キャンセルが続く場
 合は、その後のエントリーをご遠慮いただく場合がご
 ざいますので、ご了承ください。\n※当日の撮影、録
 音等と合わせて、セミナー内でご紹介する【事例】に
 ついての外部公開はご遠慮ください。その他の内容に
 ついては、外部でご紹介いただいて差し支えございま
 せん。（当社のブログやイベント告知ページへのリン
 クを貼っていただけると嬉しいです！）\n※当日の様
 子は撮影の上、公開させていただくことがあります。\
 n主催\n主催：えそら合同会社 http://esaura.jp/\n★えそらLL
 C「UX CARAVAN」https://ux-caravan.connpass.com/\nグループにご参
 加いただくといち早くイベントの情報をご連絡いたし
 ます！\nお問い合わせ先\nえそら合同会社 小宮宛て（ux
 @esaura.jp3
LOCATION:オンライン オンライン
URL:https://techplay.jp/event/812805?utm_medium=referral&utm_source=ics&utm
 _campaign=ics
END:VEVENT
END:VCALENDAR
