BEGIN:VCALENDAR
VERSION:2.0
PRODID:-//https://techplay.jp//JP
CALSCALE:GREGORIAN
METHOD:PUBLISH
X-WR-CALDESC:Matsue.rb定例会R03.04
X-WR-CALNAME:Matsue.rb定例会R03.04
X-WR-TIMEZONE:Asia/Tokyo
BEGIN:VTIMEZONE
TZID:Asia/Tokyo
BEGIN:STANDARD
DTSTART:19700101T000000
TZOFFSETFROM:+0900
TZOFFSETTO:+0900
TZNAME:JST
END:STANDARD
END:VTIMEZONE
BEGIN:VEVENT
UID:812861@techplay.jp
SUMMARY:Matsue.rb定例会R03.04
DTSTART;TZID=Asia/Tokyo:20210424T093000
DTEND;TZID=Asia/Tokyo:20210424T170000
DTSTAMP:20260421T142225Z
CREATED:20210327T060020Z
DESCRIPTION:イベント詳細はこちら\nhttps://techplay.jp/event/81286
 1?utm_medium=referral&utm_source=ics&utm_campaign=ics\n\n4月24日（土
 ）に松江Ruby(Matsue.rb)定例会を開催します。\n\n\n松江オ
 ープンソースラボで、開催時間は09:30から17:00までを予
 定しています。\nオンラインも同時に準備します。こ
 ちらは10:00から12:00、13:00から16:30までを予定していま
 す。\n\n新型コロナウイルスの影響で松江オープンソー
 スラボが休館の場合、オンライン開催のみに変更しま
 す。\nまた、新型コロナウイルス対策で、参加者は以
 下の事項に該当する方のみとさせていただきます。\n\n
 \n当日の検温の結果、37.5℃以下であり発熱は見られま
 せん。\n咳、のどの痛み、鼻水、体のだるさなどの症
 状はありません。\n2週間以内に首都圏・関西圏・名古
 屋圏他 感染拡大地域への移動歴はありません。\n\n\n\n
 島根県で新型コロナウイルスの感染者が確認されてい
 る状況ですので、オンライン開催のみとさせていただ
 きます。\n10:00から12:00、13:00から16:30までを予定してい
 ます。\n\n本イベントは、午前中から参加している人同
 士で昼食をとり、それ以外の時間は自由にRubyに関する
 なにかを行うというものです。参加時間も自由で午前
 中だけとか、午後だけとか、2時間だけとか、仕事の合
 間にRubyに関する質問をしにきたりとか。\n\n\n\nこれま
 で、みなさんがMatsue.rbで取り組まれたことをざっと挙
 げてみます。参加するかどうかの判断の参考にしてく
 ださいね。\n\n小学5年生から参加。Rubyの資格をとった
 よ！\nMatsue.rb定例会を通して企業間を超えた技術者の
 友人ができた。\n仕事で文字コード関連で困っておりMa
 tsue.rb定例会で質問して解決した。\n今は学生で、Rubyで
 仕事をしている企業の方と知り合いになれた。\nその
 他のイベントはこちら (http://matsue.rubyist.net/schedule/) で
 ご確認いただけます。
LOCATION:松江オープンソースラボ 島根県 松江市朝日町478-
 18　松江テルサ別館２F
URL:https://techplay.jp/event/812861?utm_medium=referral&utm_source=ics&utm
 _campaign=ics
END:VEVENT
END:VCALENDAR
