BEGIN:VCALENDAR
VERSION:2.0
PRODID:-//https://techplay.jp//JP
CALSCALE:GREGORIAN
METHOD:PUBLISH
X-WR-CALDESC:こっそりEMSオンライン勉強会 （2021年4月 4回目
 ）
X-WR-CALNAME:こっそりEMSオンライン勉強会 （2021年4月 4回目
 ）
X-WR-TIMEZONE:Asia/Tokyo
BEGIN:VTIMEZONE
TZID:Asia/Tokyo
BEGIN:STANDARD
DTSTART:19700101T000000
TZOFFSETFROM:+0900
TZOFFSETTO:+0900
TZNAME:JST
END:STANDARD
END:VTIMEZONE
BEGIN:VEVENT
UID:812914@techplay.jp
SUMMARY:こっそりEMSオンライン勉強会 （2021年4月 4回目）
DTSTART;TZID=Asia/Tokyo:20210424T183000
DTEND;TZID=Asia/Tokyo:20210424T213000
DTSTAMP:20260422T124009Z
CREATED:20210327T142215Z
DESCRIPTION:イベント詳細はこちら\nhttps://techplay.jp/event/81291
 4?utm_medium=referral&utm_source=ics&utm_campaign=ics\n\n■ EMS勉強会
  について\nMicrosoft の公式セミナーやイベントではあり
 ません。\n本勉強会についての質問は Microsoft ではなく
  connpass から直接お問い合わせください。\nJapan EMS Users 
 Group では、参加費や内容、各セッションの時間等の運
 営については運営者も手探りな状態の為、\n本勉強会
 で皆様からいただけるフィードバックを期待していま
 す。フィードバックや実施結果に基づいて、\n今後の
 勉強会をより良いものにしていきたいと考えています
 。\n(フィードバックはイベント当日にアンケート回答
 用ページをお伝えするので、そちらで是非ご回答くだ
 さい。)\n■2021年4月こっそりオンライン勉強会のテー
 マ\nMicrosoft Cloud App Security の概要と設計ポイント \nMicros
 oft Cloud App Security  の機能に関する概要と、設計要素に
 ついて学習します。 \nQAコーナーでは、Microsoft 365、Azur
 e Sentinel に関するご質問を受け付けますので、\nお困り
 ごとがある方もどうぞご参加ください。\n注意事項\n当
 日は説明事項を遵守してください。\n■こっそりオン
 ライン勉強会\n定期的に開催される勉強会とは別に、
 こっそりと開催するオンライン勉強会です。\n大規模
 な勉強会ではなくて、放課後の勉強会のようなイメー
 ジですすめたいと考えています。\n\n不明点があればコ
 メントへ\n■ハッシュタグ\n‪ #jpemsug\n■日時\n2021年4月
 24日(土)　19:00開始\n※ 当初17日と間違って記載してい
 ました。\n■ 場所\nオンライン Teams を予定 \n参加者へ
 の情報　を確認してください。 \n当日の12時ごろに Team
 s 参加URLを公開します。\n■ 内容\nAzure Active Directory を
 こっそりと勉強会しましょう。 \n時間は目安です。（
 約2時間を予定しています）\n\n\n\n時間(予定)\nタイトル
 \n発表者\n\n\n\n\n18:30～19:00\n受付\nJPEMSUG\n\n\n19:00～19:10\n
 諸所注意事項等々\nJPEMSUG\n\n\n19:10～20:00\nMicrosoft Cloud App
  Security  概要\nseafay\n\n\n20:00～20:10\n休憩　\n各自\n\n\n20:1
 0～21:00\nMicrosoft Cloud App Security  設計\nseafay\n\n\n21:00～21:3
 0\nQA やお知らせ\n\n\n\n\nリンク\nコミュニティの詳細はW
 ebサイトをご確認ください。 \nhttps://jpemsug.com/\nFacebook
 コミュニティ「Japan EMS User Group」も運営しています。 \
 nhttps://www.facebook.com/JPEMSUG
LOCATION:オンライン オンライン
URL:https://techplay.jp/event/812914?utm_medium=referral&utm_source=ics&utm
 _campaign=ics
END:VEVENT
END:VCALENDAR
