BEGIN:VCALENDAR
VERSION:2.0
PRODID:-//https://techplay.jp//JP
CALSCALE:GREGORIAN
METHOD:PUBLISH
X-WR-CALDESC:[新宿御苑前]がやがやと勉強する会(テーマ自
 由、初心者歓迎！)
X-WR-CALNAME:[新宿御苑前]がやがやと勉強する会(テーマ自
 由、初心者歓迎！)
X-WR-TIMEZONE:Asia/Tokyo
BEGIN:VTIMEZONE
TZID:Asia/Tokyo
BEGIN:STANDARD
DTSTART:19700101T000000
TZOFFSETFROM:+0900
TZOFFSETTO:+0900
TZNAME:JST
END:STANDARD
END:VTIMEZONE
BEGIN:VEVENT
UID:812916@techplay.jp
SUMMARY:[新宿御苑前]がやがやと勉強する会(テーマ自由、
 初心者歓迎！)
DTSTART;TZID=Asia/Tokyo:20210424T130000
DTEND;TZID=Asia/Tokyo:20210424T170000
DTSTAMP:20260422T011751Z
CREATED:20210327T142218Z
DESCRIPTION:イベント詳細はこちら\nhttps://techplay.jp/event/81291
 6?utm_medium=referral&utm_source=ics&utm_campaign=ics\n\nこの会につ
 いて\nコワーキングスペースに集まって、みんなでも
 くもくと勉強する会です。\n基本自習形式ですが、意
 見交換等でおしゃべるするのは大歓迎です(^^♪\n家で
 はどうも集中できない方、気分転換にお外で作業した
 い方……などなど、一緒に勉強しましょう\nテーマ自
 由ですので、是非お気軽にご参加くださいませ\n※騒
 がしめかもなので、気になる方はヘッドホン、イヤホ
 ンなどあると良いかもしれないです。\nコロナ対策へ
 のご協力のお願い\nこの会の性質上、オフラインでの
 開催となりますので、お手数ではありますが下記のご
 協力をお願い致します\n\n参加者は恐縮ですがマスクの
 着用をお願いいたします。各自でご用意ください。\n
 入室時の手洗い・うがいのご協力もお願いいたします
 。\n窓は常時開けて換気します。\nアルコール除菌は主
 催者側で用意しますので、手指消毒のご協力をお願い
 いたします。\n機材等の消毒用に、各席アルコール除
 菌シート等をご用意します。\n体調が少しでも悪い場
 合は、当日のキャンセル料等は一切かかりませんので
 、ご参加をご遠慮ください。\n→ その際のキャンセル
 は、当サイトから行っていただき、当日はTwitter@C_sagyob
 a へDMいただければOKです。\nコロナウイルスの状況に
 より、急遽開催を中止させていただく可能性もござい
 ますので、何卒ご容赦くださいませ。\n\n＜参考＞厚生
 労働省HP「新型コロナウイルスを防ぐには」\n開催情報
 \n定員\n会場の都合上、最大8人までとなります。\nスペ
 ース貸切のため、最小人数２名に満たない場合は、開
 催を見送ります。\nもし予定がかわった方はお早めに
 ご連絡をお願い致します\n持ち物\n\n会場費(税込600円)\n
 → 当日に現金、またはPayPay でお支払いくださいませ
 。\n各自もくもくに必要なもの(PC、書籍など）\nマスク
 \n\nなお会場には下記のご用意があります。\n\nアルコ
 ール除菌\n超高速WiFi（NURO)\n各席に電源あります\n\nタ
 イムスケジュール\nざっくりと下記の流れになります
 。\n途中参加や帰宅もできますので、お気軽にご参加
 ください。\n\n\n\n時間\n予定\n\n\n\n\n12:45 ~\nこの時間か
 ら入場できます\n\n\n13:00 ~\n簡単な自己紹介と今日のや
 ること発表 → もくもく\n\n\n16:30 ~\n軽い成果発表、雑
 談\n\n\n17:00 ~\n解散。お疲れ様でした\n\n\n\n会場情報\n開
 催場所\nコワーキングスペース C作業場\n\n\n\n\n\n\n\n\n\n
 住所\n東京都新宿区四谷4-28-7 吉岡ビル４F\n\n\nアクセス
 \n東京メトロ丸ノ内線　新宿御苑前駅（大木戸門方面
 改札口）徒歩5分　四谷三丁目駅徒歩６分JR新宿駅　徒
 歩15分\n\n\n電話番号\n03-6877-1027\n\n\n運営会社\n株式会社C
 作業場​​​\n\n\n\n各種リンク\n\n公式Facebook\n公式Twitte
 r\n公式サイト\n\n備考\n\n会場費の中にお茶かお水のペ
 ットボトル1本付いております\n近所にコンビニ多数\n
 ビル１Fに自販機あり\n飲食持込み可\n途中入退室OK\n\n
 その他\nよくある質問\n1. テーマ自由と聞いたのですが
 、どんなことをされている人が多いですか？\n主催のSh
 ion は主にAndroid 開発をしているので、モバイル関連の
 勉強が多いです。\nちなみに過去の参加者様は、こう
 いうことをされている方が多かったと感じております
 。\n\nUnity\nWeb バックエンド(Laravel\, Ruby on Rails\, PHP)\nWeb 
 フロントエンド(React\, Vue)\n\n2. 勉強テーマってどう探
 せば良いか分からないです……\n実は主催のShion もま
 だまだ手探りだったりしますが、まずは下記のような
 教材にチャレンジしてみるのはどうでしょうか？\n詳
 細はプログラミング関連のリンク集 にまとめていきた
 いと思います。\n初心者向け\nレッスン形式で取り組め
 るので、実際に作りながら作業できて良いかもです。\
 n\npaiza\n→ 動画の解説後に、そのままブラウザ上で演
 習問題に取り組めるようです。\n→ 腕試し用の演習問
 題も豊富なので、基礎文法を覚えた後に取り組むと良
 いかもです。\nProgate。\n→ スライド文書の解説後に、
 そのままブラウザ上で演習問題に取り組めるようです
 。\nドットインストール。\n→ 動画レッスンが中心の
 ようです。\n\n少し慣れた人向け\nレッスン形式で取り
 組めるので、実際に作りながら作業できて良いかもで
 す。\n\nGoogle Codelabs\nMicrosoft Learn | Microsoft Docs\nアマゾン
  ウェブ サービス（AWS）の開始方法 | AWS\n\n画像につい
 て\nコワーキングスペース C作業場さんの公式Twitter の
 このツイートより引用しました。
LOCATION:コワーキングスペースC作業場 東京都新宿区四谷4
 -28-7（吉岡ビル４F）
URL:https://techplay.jp/event/812916?utm_medium=referral&utm_source=ics&utm
 _campaign=ics
END:VEVENT
END:VCALENDAR
