BEGIN:VCALENDAR
VERSION:2.0
PRODID:-//https://techplay.jp//JP
CALSCALE:GREGORIAN
METHOD:PUBLISH
X-WR-CALDESC:【初心者向け】簡単なゲーム開発に挑戦【Unity
 】
X-WR-CALNAME:【初心者向け】簡単なゲーム開発に挑戦【Unity
 】
X-WR-TIMEZONE:Asia/Tokyo
BEGIN:VTIMEZONE
TZID:Asia/Tokyo
BEGIN:STANDARD
DTSTART:19700101T000000
TZOFFSETFROM:+0900
TZOFFSETTO:+0900
TZNAME:JST
END:STANDARD
END:VTIMEZONE
BEGIN:VEVENT
UID:812919@techplay.jp
SUMMARY:【初心者向け】簡単なゲーム開発に挑戦【Unity】
DTSTART;TZID=Asia/Tokyo:20210425T190000
DTEND;TZID=Asia/Tokyo:20210426T220000
DTSTAMP:20260420T190257Z
CREATED:20210327T142252Z
DESCRIPTION:イベント詳細はこちら\nhttps://techplay.jp/event/81291
 9?utm_medium=referral&utm_source=ics&utm_campaign=ics\n\n概要\nUnityの
 初心者向けのチュートリアルをハンズオン形式で行い
 ます。\n完全な初心者大歓迎です。\nUnityをインストー
 ルし、登録するところからご説明します。\nLego のパッ
 ケージを活用すれば、簡単に Lego のゲームを作成する
 ことができます。\n対象者\nゲーム開発をしてみたいけ
 ど、何から始めればいいか分からない方\nプログラミ
 ング初心者で、何かしら挑戦したい方.. etc\nこのよう
 に初心者大歓迎です。\n年齢も問わず、ゲーム開発に
 興味がある小学生も大歓迎です。\n講座内容\nUnityを使
 い、簡単な玉転がしゲームを作成します。\n・Unityの環
 境構築\n・ゲーム開発ハンズオン\nこれからゲーム開発
 を始めたい初心者の方や、ノンプログラマーの方も大
 歓迎です！\nこんな人におススメ\n・ゲームを作ってみ
 たい初心者の方！\n（プログラミングを触ったことが
 なくてもゲームを作りたい意思さえあれば大歓迎です
 ！！）\n\n▼コロナ対策など\n\n会場の入り口付近にハ
 ンドジェルとマスクを設置してあります。\nまた、参
 加者さん達が密にならないように座席１つ分のスペー
 スを開けるようにスペースを仕切ります。\n\n▼スケジ
 ュール\n毎週・定期的にBoltの勉強会をやります！\n継
 続して勉強会に参加で目指せBoltマスター\n\n\n\n\n時間\n
 内容\n\n\n\n\n19:00\n開場・受付\n\n\n19:05-19:15\n会の説明\n\n
 \n19:15-19:25\n自己紹介など\n\n\n19:25-22:00\nハンズオン\n\n\n
 \n\n※途中参加や途中退出は自由です。\n　途中退出し
 た方には資料など提供いたします。\n▼場所\n〒210-0023 
 神奈川県川崎市川崎区小川町１３−２０\n高木ビル 6F Q
 itzオフィス\n\n電源 ・ Wi-Fiや\n4０インチモニター・プ
 ロジェクターあります。\n\n▼参加費\n2000円  (会場払い
 )\n\n持ち物\nUnityインストール済のノートPC\n※インスト
 ールには時間がかかります。もしインストールの方法
 が分からない方は、30分ほど早めに会場にご参加くだ
 さい。\n○Unity DLリンク\n(https://unity3d.com/jp/get-unity/downlo
 ad)\n\n\nQ&A\nQ.今回から初めての参加ですが、大丈夫です
 か？\nA.はい、大丈夫です。お気軽にご参加ください^^\
 nQ.Unityに興味があるのですが、プログラミングが全く
 わかりません・・・・大丈夫ですか＞＜？\nA.はい、大
 丈夫です!Unityのインストールのしかたから、ゲームの
 簡単な作りかたまでレクチャーいたします！\nお気軽
 にご参加ください^^\nDiscord\n▼こちら、勉強会のDiscord
 になります。\n以下ボタン押下で参加可能なので是非
 是非ご参加ください。\n次回勉強会の開催の情報や、
 交流などができます\n\n\n\n
LOCATION:川崎高木ビル16 6F Qitzオフィス 210-0023 神奈川県川
 崎市川崎区小川町１３−２０ 高木ビル 16 6F
URL:https://techplay.jp/event/812919?utm_medium=referral&utm_source=ics&utm
 _campaign=ics
END:VEVENT
END:VCALENDAR
