BEGIN:VCALENDAR
VERSION:2.0
PRODID:-//https://techplay.jp//JP
CALSCALE:GREGORIAN
METHOD:PUBLISH
X-WR-CALDESC:スタテク DevMeetUP 【ハンズオン】AWS Lambdaで自
 然言語解析APIを作ろう！
X-WR-CALNAME:スタテク DevMeetUP 【ハンズオン】AWS Lambdaで自
 然言語解析APIを作ろう！
X-WR-TIMEZONE:Asia/Tokyo
BEGIN:VTIMEZONE
TZID:Asia/Tokyo
BEGIN:STANDARD
DTSTART:19700101T000000
TZOFFSETFROM:+0900
TZOFFSETTO:+0900
TZNAME:JST
END:STANDARD
END:VTIMEZONE
BEGIN:VEVENT
UID:813147@techplay.jp
SUMMARY:スタテク DevMeetUP 【ハンズオン】AWS Lambdaで自然言
 語解析APIを作ろう！
DTSTART;TZID=Asia/Tokyo:20210424T180000
DTEND;TZID=Asia/Tokyo:20210424T200000
DTSTAMP:20260421T073950Z
CREATED:20210330T062242Z
DESCRIPTION:イベント詳細はこちら\nhttps://techplay.jp/event/81314
 7?utm_medium=referral&utm_source=ics&utm_campaign=ics\n\nタイムテー
 ブル\n\n18:00-19:00 【ハンズオン】AWS Lambdaで自然言語解
 析APIを作ろう！\n19:00-20:00 懇親会\n\n参加方法\n\nハンズ
 オン\nYouTubeにてハンズオンを配信します（当日参加者
 の皆様にご案内します）。\nZoomにてご質問等お伺いし
 ます（当日参加者の皆様にご案内します）。\n\n\n懇親
 会\nZoomにて開催します（当日参加者の皆様にご案内し
 ます）。\n\n\n\n対象者（開発経験のある方が対象です
 ）\n\n本イベントは、Web開発経験者を対象としています
 。下記前提知識を必要とするため、完全な未経験の方
 には少し難易度が高い可能性がございます。\nWeb APIに
 関する基本的な仕組みの理解\nWeb フロントエンド、バ
 ックエンドのプログラミングに関する理解\nパブリッ
 ククラウド（AWS）に関する理解\n\n\n不明点等は可能な
 限りお答えいたしますが、運営人数の都合上、ご参加
 いただく皆様全員のハンズオン完遂はお約束できませ
 んので、ご了承ください。\n途中、APIの疎通確認のた
 めにネットワーク関連のコマンドやツールを適宜使用
 していただく必要がございますが、PCの操作方法や基
 本的なコマンドに関する解説は行いませんので、ご了
 承ください。\n\nハンズオン内容\n\nAWS Lambda\, Amazon API Ga
 teway\, Amazon Comprehend\, Amazon SES を利用して、テキストか
 らの感情解析と解析結果のメール送信を行うAPIを作成
 します。\n\nポイント\n\nAmazon Comprehendを使用して、簡単
 に自然言語処理を体験していただけます。\n自然言語
 処理だけでなく、サーバーレスとはどんなものかや、L
 ambda + API Gatewayを利用した具体的なAPIの作成方法などを
 体験していただけます。\n本イベントでは対応しませ
 んが、お問い合わせフォームなどに利用できます。\n\n
 必要なもの\n\n作業用PC（Mac\, Windows\, Linux等のOSは問い
 ません。Webブラウザを使用してAWSマネジメントコンソ
 ールが操作できれば問題ございません）\nAWSアカウン
 トを事前に作成して、ログインできる状態にしておい
 てください。\n数十円単位のAWS利用料が発生する可能
 性があります。\n\n登壇者\n松井英俊\n\n\n株式会社スタ
 ートアップテクノロジー所属\n静岡県浜松市を拠点と
 しており、JAWS-UG浜松支部、Hamamatsu.js等の地方系ITコミ
 ュニティの運営メンバー\nJAWS DAYS 2021 - re:Connectにて実
 行委員として配信サイト構築を担当\n技術情報の共有
 やシビックテックに取り組んでおり、下記のメディア
 掲載実績あり\nAWS 公式 Web マガジン builders.flash✨ : AWS A
 mplify と Vue.js を使って、基本的な認証と CRUD 操作がで
 きる Web アプリケーションを作る\nNHK クローズアップ
 現代+ :市民と行政で作る“新しい公共”　～シビック
 テックストーリーin浜松～\nYahoo!ニュース（静岡朝日テ
 レビ）: コロナ禍の課題・苦しみをITを利用して市民が
 解決「シビックテック」　浜松市\n弊社tech-blog: JAWS DAYS
  2021 -RE:CONNECT- セッション配信サイトを構築しました\n\
 n\n
LOCATION:オンライン開催 オンライン
URL:https://techplay.jp/event/813147?utm_medium=referral&utm_source=ics&utm
 _campaign=ics
END:VEVENT
END:VCALENDAR
