BEGIN:VCALENDAR
VERSION:2.0
PRODID:-//https://techplay.jp//JP
CALSCALE:GREGORIAN
METHOD:PUBLISH
X-WR-CALDESC:【広告主様向け】第3回『実践！効果を出すWeb
 サイトプロモーションやPDCAについて』
X-WR-CALNAME:【広告主様向け】第3回『実践！効果を出すWeb
 サイトプロモーションやPDCAについて』
X-WR-TIMEZONE:Asia/Tokyo
BEGIN:VTIMEZONE
TZID:Asia/Tokyo
BEGIN:STANDARD
DTSTART:19700101T000000
TZOFFSETFROM:+0900
TZOFFSETTO:+0900
TZNAME:JST
END:STANDARD
END:VTIMEZONE
BEGIN:VEVENT
UID:813174@techplay.jp
SUMMARY:【広告主様向け】第3回『実践！効果を出すWebサイ
 トプロモーションやPDCAについて』
DTSTART;TZID=Asia/Tokyo:20210422T160000
DTEND;TZID=Asia/Tokyo:20210422T170000
DTSTAMP:20260420T190744Z
CREATED:20210330T070524Z
DESCRIPTION:イベント詳細はこちら\nhttps://techplay.jp/event/81317
 4?utm_medium=referral&utm_source=ics&utm_campaign=ics\n\n第3回『実践
 ！効果を出すWebサイトプロモーションやPDCAについて』
 \n概要\n【このような方におすすめです】・ネットショ
 ップ運営責任者・ネットショップ運営担当者・これか
 らネットショップの立ち上げを検討している方・これ
 からネットショップの強化を行いたい企業・まだネッ
 トでの展開を強化されていない企業※個人、学生、代
 理店の方のお申し込みはご遠慮ください。\n本ウェビ
 ナーは、①年商1000万円未満/1000万円以上のネットショ
 ップ担当者に実施したアンケート調査レポート（使用
 しているカート/ツール/MAツールなどとその満足度など
 ）、②ユーザー調査とネットショップ戦略への活かし
 方、③売上アップのためのプロモーション戦略を、計3
 回予定しています。\n今回は、第3回目の『実践！効果
 を出すWebサイトプロモーションやPDCAについて』です。
 ご興味のあるネットショップWeb担当の方はぜひご参加
 ください。\nタイムスケジュール\n\n\n\n時間\n内容\n\n\n\
 n\n15:30〜\n受付開始\n\n\n16:00〜16:50\n●Webサイトリニュー
 アル後に行うべきこと●Webプロモーションの基本-集客
 （Webプロモーション）-接客（ユーザビリティ改善-追
 客（リピート改善）●Webサイトを成功に導くためのポ
 イント　・アクセス数の確保　・指名検索を誘発する
 施策　・トータルでのプロモーション最適化　・A/Bテ
 ストによるPDCA　・キラーコンテンツでの差別化\n\n\n16:
 50〜17:00\n質疑応答/相談\n\n\n\n※ 当日予告なく時間配分
 ・内容が変更になる可能性がございます。\n登壇者\n\n
 田中 雅人\nECマーケティング株式会社　取締役\nPR会社
 を経て、1996年にWeb業界へ。IT上場企業の取締役を経てE
 Cマーケティングへ参画。Webサイト制作、大規模システ
 ム開発、ECサイト構築、ECサイト運営・販売促進、SEM、
 CRM、WebPRなど、Webプロモーション戦略全般のコンサル
 ティングを20年以上実施。セミナー講師、Webメディア
 への執筆、eラーニング講師などの経験もあり。\n\n参
 加対象\nWebサイトを運営する広告主様※同業他社様の
 ご参加はご遠慮いただいております。予めご了承くだ
 さい。※学生・個人の方のご参加は、ご遠慮ください
 ますようお願いいたします。※定員を超えた場合は抽
 選とさせていただきます。\n参加費\n無料
LOCATION:オンライン
URL:https://techplay.jp/event/813174?utm_medium=referral&utm_source=ics&utm
 _campaign=ics
END:VEVENT
END:VCALENDAR
