BEGIN:VCALENDAR
VERSION:2.0
PRODID:-//https://techplay.jp//JP
CALSCALE:GREGORIAN
METHOD:PUBLISH
X-WR-CALDESC:VR Creators Labs：Unity初心者脱出！初めてのUniRx
X-WR-CALNAME:VR Creators Labs：Unity初心者脱出！初めてのUniRx
X-WR-TIMEZONE:Asia/Tokyo
BEGIN:VTIMEZONE
TZID:Asia/Tokyo
BEGIN:STANDARD
DTSTART:19700101T000000
TZOFFSETFROM:+0900
TZOFFSETTO:+0900
TZNAME:JST
END:STANDARD
END:VTIMEZONE
BEGIN:VEVENT
UID:813219@techplay.jp
SUMMARY:VR Creators Labs：Unity初心者脱出！初めてのUniRx
DTSTART;TZID=Asia/Tokyo:20210424T100000
DTEND;TZID=Asia/Tokyo:20210424T120000
DTSTAMP:20260423T131427Z
CREATED:20210330T142330Z
DESCRIPTION:イベント詳細はこちら\nhttps://techplay.jp/event/81321
 9?utm_medium=referral&utm_source=ics&utm_campaign=ics\n\nVR Creators Labs
 主催 ：Unity初心者脱出！初めてのUniRx体験会\n日時：4
 月24日（土）10:00～12:00\n実施形態：オンライン（ZOOM）\
 nUnity経験者の方が対象です\n参加の前提：ラムダ式やLI
 NQについて、理解していなくても良いので、\n「なんと
 なく聞いたことある」人以上が対象です。\n全くのUnity
 初心者の方は、別日で開催の初心者の方向け体験会に
 ご参加ください。\nVR Creators Labsでは経験者向け講習 も
 開催中\n関心のある分野を選択して、毎月変わるテー
 マを1ヵ月完結（4回）で受講できます。​\n直近の開催
 テーマや、料金等詳細はこちら \n【テーマ例】\nUnity実
 践、PM・マーケティング、photonマルチコンテンツ、\nGIT
 、HoloLens2開発、Nreal開発、スマホAR開発、Vive開発など\n
 \n\n講師は一流！経験豊富な現役エンジニアが担当\n担
 当講師：橋本　裕\n（VR　Creators Labs所長、TECH Planning合
 同会社技術顧問）\n\n【プロフィール】 フリーランス
 エンジニア／テクノロジーコンサルタント。\nデジタ
 ルハリウッド大学院　研究員。\nXR（AR/VR/MR)を、エンジ
 ニアリング、メディアアート、教育・研究の三つの側
 面で関わりながら、\nちょっと先の未来をプロトタイ
 ピングしている。\n京都大学卒業、デジタルハリウッ
 ド大学院修了。\n住友商事（海外スタートアップへの
 投資事業）、ジー・モード（上場（当時）モバイルコ
 ンテンツ企業　取締役）、\nエレクトロニック・アー
 ツ（モバイル部門の事業責任者）を経て、2011年独立。
 \n第77回ベネチア国際映画祭 VR部門「VENICE VR EXPANDED」に
 ノミネートされたVRアニメーション『Beat』の\n制作チ
 ームにてテクニカルサポートも担当。\nhttps://prtimes.jp/m
 ain/html/rd/p/000000006.000045020.html\nVRのプロフェッショナル
 である橋本講師から直接学べるチャンスです！\n是非
 この機会にご参加ください♪
LOCATION:オンライン オンライン
URL:https://techplay.jp/event/813219?utm_medium=referral&utm_source=ics&utm
 _campaign=ics
END:VEVENT
END:VCALENDAR
