BEGIN:VCALENDAR
VERSION:2.0
PRODID:-//https://techplay.jp//JP
CALSCALE:GREGORIAN
METHOD:PUBLISH
X-WR-CALDESC:【少人数開催】はんだ付け体験ワークショッ
 プ
X-WR-CALNAME:【少人数開催】はんだ付け体験ワークショッ
 プ
X-WR-TIMEZONE:Asia/Tokyo
BEGIN:VTIMEZONE
TZID:Asia/Tokyo
BEGIN:STANDARD
DTSTART:19700101T000000
TZOFFSETFROM:+0900
TZOFFSETTO:+0900
TZNAME:JST
END:STANDARD
END:VTIMEZONE
BEGIN:VEVENT
UID:813504@techplay.jp
SUMMARY:【少人数開催】はんだ付け体験ワークショップ
DTSTART;TZID=Asia/Tokyo:20210515T134500
DTEND;TZID=Asia/Tokyo:20210515T154500
DTSTAMP:20260423T115315Z
CREATED:20210401T061819Z
DESCRIPTION:イベント詳細はこちら\nhttps://techplay.jp/event/81350
 4?utm_medium=referral&utm_source=ics&utm_campaign=ics\n\nコロナ対策
 について\n・来場時はマスク着用と会場に設置されて
 いるアルコールでの消毒をお願いいたします。\n・当
 日は起床後に検温して問題ないことを確認した上で来
 場ください。\n・ご見学される保護者の方は１組につ
 き1名まででお願いいたします。  \nイベントの概要\n小
 学生・中学生の子供たちを対象とした無料のプログラ
 ミングワークショップです。\nプログラミングと電子
 工作で物を動かしたり、ミニゲームを作ったりなど、
 ものづくり体験をしましょう！\n一人では難しいこと
 も、みんなでやれば実現できるかもしれません。  \n今
 回はブザーやLEDをはんだ付けしながらはんだ付けの基
 本を学んでいきましょう。\n完成したらラズベリーパ
 イとブロックを使ってセンサープログラミングに挑戦
 します。\nはんだごては全てお貸しします。\nノートパ
 ソコンの貸し出しは数に限りがありますので、ノート
 パソコンを持ちの方はご持参をお願いします。\nノー
 トパソコンをお持ちでない方はレンタル枠からお申し
 込みください。  \nタイムスケジュール\n\n\n\n時刻\nス
 ケジュール\n\n\n\n\n13:45\n受付開始（この時間前には、
 部屋に入れません。）\n\n\n14:00\nプログラミングワーク
 ショップ開始\n\n\n15:30\nひとこと感想＆記念撮影＆アン
 ケート\n\n\n15:45\n解散\n\n\n\n持ち物\n【パソコン持参の
 方のみ】\n・Wi-Fi接続可能なノートパソコン(Windows\, Mac
 どちらでも)\n　電源アダプターもお忘れなく！\n※Wi-Fi
 は会場で無料で利用できます。  \n注意事項\n・会場内
 では活動報告などに利用する写真を撮影します。\n　
 ブログやSNSなどで利用し、インターネットで公開する
 場合があります。 あらかじめご了承ください。\n・ワ
 ークショップで使用したマイコンボード等は持ち帰り
 はできません。\n・参加できなくなった場合は、お早
 めにキャンセルをお願いします。\n・イベントは、や
 むを得ず変更・中止させて頂く場合があります。\n　
 その際は、connpassのメッセージでご連絡させていただ
 きます。
LOCATION:秋葉原 東京都台東区台東1-13-9 BRIDD秋葉原 3B
URL:https://techplay.jp/event/813504?utm_medium=referral&utm_source=ics&utm
 _campaign=ics
END:VEVENT
END:VCALENDAR
