BEGIN:VCALENDAR
VERSION:2.0
PRODID:-//https://techplay.jp//JP
CALSCALE:GREGORIAN
METHOD:PUBLISH
X-WR-CALDESC:エリック・エヴァンスのドメイン駆動設計 輪
 読会「第14章 モデルの整合性を維持する」前編
X-WR-CALNAME:エリック・エヴァンスのドメイン駆動設計 輪
 読会「第14章 モデルの整合性を維持する」前編
X-WR-TIMEZONE:Asia/Tokyo
BEGIN:VTIMEZONE
TZID:Asia/Tokyo
BEGIN:STANDARD
DTSTART:19700101T000000
TZOFFSETFROM:+0900
TZOFFSETTO:+0900
TZNAME:JST
END:STANDARD
END:VTIMEZONE
BEGIN:VEVENT
UID:813697@techplay.jp
SUMMARY:エリック・エヴァンスのドメイン駆動設計 輪読会
 「第14章 モデルの整合性を維持する」前編
DTSTART;TZID=Asia/Tokyo:20210424T200000
DTEND;TZID=Asia/Tokyo:20210424T220000
DTSTAMP:20260420T230434Z
CREATED:20210403T141357Z
DESCRIPTION:イベント詳細はこちら\nhttps://techplay.jp/event/81369
 7?utm_medium=referral&utm_source=ics&utm_campaign=ics\n\nこちらのイ
 ベントはエリック・エヴァンスのドメイン駆動設計の
 輪読会です\nあらかじめ対象範囲を読んでおいて頂き
 、当日に感想・気づき・疑問を共有して話し合ってい
 く形式です。\n\nエヴァンス本に挫折した人\nエヴァン
 ス本1周したけど、よくわからんかったし周回プレイし
 たい人\nエヴァンス本読んで、こんな事思ったので、
 話して共有したい人\n\n参加をお待ちしております！\n
 ※あくまでも輪読会なので、DDDに関する正しい答えが
 必ずしも貰えるという場ではありません。\nエヴァン
 ス本を読んでの感想や気づき、疑問を共有することで
 お互いの学びに繋げていく場となります\n読む範囲\nP.3
 36- 362\n\n第4部 戦略的設計\n第14章 コンテキストマップ
 の節まで\n\n当日までにやっておくこと\n\n「読む範囲
 」のところをあらかじめ読んでおいてください\nHackMD
 に感想、気付き、疑問を書いておく\nサービスの節か
 ら書き込みお願いします\n\n\nEvans本輪読会　はじめの
 一歩 - Speaker Deckをご一読お願いします。\n10枚くらいの
 簡易的な説明スライドです。\n\n\n\n当日の流れ\n\n19:50- 
 集合開始\n20:00- 当日の流れと、グランドルールの共有\
 n20:15- HackMD の気になる感想や質問に  をつけるタイム\n
 20:25- HackMDに書いてある感想や気づきを元に、ディスカ
 ッション\n22:00   完全終了(以降自由解散)\n\n当日のディ
 スカッションについて\n当日はDDD-Community-JPのDiscordサー
 バにある「#evans本輪読会」「VC-読書会」で行います\n
 招待リンク\ndiscord.gg/fBTE9wf\nこのディスカッションでは
 、\nテキストチャットもボイス使える人が可能な限り
 拾って読み上げるラジオスタイルで行いますので、テ
 キストのみでの参加も歓迎です！\n（ただし、テキス
 トチャットは全部拾えるかわからないので、絶対拾っ
 てほしかったら音声で参加して頂けたらと思います）\
 n本輪読会での「モデル」の定義\nこの輪読会では、モ
 デルの定義をDDD Referenceの model および、DDD本のP.519の用
 語集に載っている モデル を定義とします。（どちら
 も同じ意味です）
LOCATION:オンライン
URL:https://techplay.jp/event/813697?utm_medium=referral&utm_source=ics&utm
 _campaign=ics
END:VEVENT
END:VCALENDAR
