BEGIN:VCALENDAR
VERSION:2.0
PRODID:-//https://techplay.jp//JP
CALSCALE:GREGORIAN
METHOD:PUBLISH
X-WR-CALDESC:CoderDojo天白‐N094
X-WR-CALNAME:CoderDojo天白‐N094
X-WR-TIMEZONE:Asia/Tokyo
BEGIN:VTIMEZONE
TZID:Asia/Tokyo
BEGIN:STANDARD
DTSTART:19700101T000000
TZOFFSETFROM:+0900
TZOFFSETTO:+0900
TZNAME:JST
END:STANDARD
END:VTIMEZONE
BEGIN:VEVENT
UID:813736@techplay.jp
SUMMARY:CoderDojo天白‐N094
DTSTART;TZID=Asia/Tokyo:20210508T133000
DTEND;TZID=Asia/Tokyo:20210508T160000
DTSTAMP:20260420T024705Z
CREATED:20210403T211845Z
DESCRIPTION:イベント詳細はこちら\nhttps://techplay.jp/event/81373
 6?utm_medium=referral&utm_source=ics&utm_campaign=ics\n\nCoderDojo天白\
 n\n\n4月の2回でTfabWorksのセットでの動かし方（ダンシン
 グ・ロボット）の目途がついて、やはり、センサーが
 欲しいなということで、CoderDojo日進の寺島さんからMaqu
 eenを3セットお借りしました。同じプログラムをこちら
 に切り替えて、機能アップしてはどうでしょう？\n\n\n4
 月、5月とTFabWorksのサーボモーター・セット　https://tfab
 works.com/product/tfw-kr1/　を使います。\n4回使えますので
 、1回でも4回使うことを考えてもらっても結構です。\n
 必要に応じて、CoderDojo天白の部品も(あれば）使ってく
 ださい。\nmicro:bit用 ---TfabWorks 説明\n\nスピーカー付き
 サーボコネクトボード\n型番：TFW-KR1\n本体価格 ¥2\,200
 （税込 ¥2\,420）\nmicro:bitで様々な動く作品を作ること
 ができます。車やロボット、可能性はアイデア次第。\
 nサーボモーター2台をコントロールできます。スピー
 カーも搭載しました。\nmicro:bitとサーボモーター兼用
 の電池ボックスが載っているので、サーボを接続する
 だけで簡単に使えます。\nmicro:bitとの接続は、弊社独
 自のバネプラグでワンタッチで脱着できます。\n\n当分
 、生涯学習センター第２集会室で行います。開始時間
 も13時30分にします**\n内容は原則、自由ですが、今回
 も何かテーマを作って、みんなで楽しめればと思って
 います。\n\n新型コロナウイルス感染症対策について\n
 施設を利用するにあたって、とりあえず、下記の事柄
 に配慮願います。\n　\n 　・入館の際には、手洗いや
 消毒を促すようにして、密集して入館しません。\n 　
 ・部屋に消毒液を置きます。\n 　・館内ではマスクを
 着用し、活動中もできる限りマスクを着用します。\n 
 　・館内では、密集しないよう対策を講じ、できるだ
 け、それぞれの距離を２ｍ程度空けます。\nまた、来
 館前に平熱以上の方、風邪症状がある方、体調不良の
 方は利用を避けてください\nーーーーーーーーーーー
 ーーーーーーーーーーーーーーーーーーーーーーーー
 ーーーーーーーーーーーーーーーーーー\nCoderDojo 天白
 では今まで、授業をやったり、自主的にやってもらっ
 たり必ずしも一貫した姿勢ではやっていませんでした
 。今年から、さらに自主的にプログラミングを楽しむ
 という方向でやっていきたいと思います。\nCoderDojo天
 白でできること\n・　Scratchを使ったプログラミング・
 ・・作品制作を楽しみましょう！\n・　テキスト・プ
 ログラミング・・・ホームページ、ゲーム作成をサポ
 ートします\n・　Processingという画像処理アプリでテキ
 ストによるお絵描き。アニメーションを楽しみましょ
 う\n・　ビスケット・プログラミング・・・お絵かき
 を楽しみながらプログラミング感覚を養いましょう\n
 こんないろんなことができるはずです。。。\n参加す
 るときは\n・　原則、自主制作です。自分で作品を作
 ったり、勉強したりすることを楽しんでください。\n
 ・　会場についたら受付でどんなことをやるか言って
 ください。\n・　よかったら、少額でいいので募金箱
 に寄付をしてくれるとありがたいです。\n・　はじま
 る前に皆さんがどういうことをやるかをお聞きします
 。\n・　メンターがいい話があれば紹介します。\n・　
 1時間程度、自主的に作品制作を通じた勉強をします。
 \n・　おわりの前に今日の結果を発表します。\n・　最
 後に集合写真を撮ります。\n・　帰る前に会場の整理
 を手伝いましょう。\n・　挨拶をして帰りましょう\n新
 しく忍者として参加される方へ\n・　開始１０～１５
 分前に受付を済ませてください\n新しくメンターとし
 て参加される方へ\n・　メンター枠で応募してくださ
 い\n・　後日、連絡を取りますので、メールアドレス
 をお知らせください\nサポーターとして参加される方
 へ\n会場での受付・写真撮影などをお願いできればと
 思います。\n当日、お願いするかもしれません。その
 時はよろしくお願いします。\nprogate_ の利用\n・　CoderD
 ojo Japan とProgateの提携により、Progateのオンライン学習
 サービスが無料で使えるようになりました。テキスト
 ・プログラミングの基本的な内容を少しずつ、小テス
 ト形式で進めていくようです。\n・　利用を希望され
 る方は　coderdojotempaku@gmail.com へ申請願います。\n・　
 定員15名ですので、多くなればやりくりしながら使っ
 ていこうと思います。\n参加に際しては次のことをお
 願いします。\n\n\nDojo内では Cool! が原則です。他人の
 迷惑にならないように行動しましょう。\n\n\nCoderDojoで
 は参加忍者の年齢は7歳から17歳までとなっていますが
 、天白では、もう少し若年の忍者はビスケットで楽し
 んでもらえます。高学年の忍者はユースメンターとし
 て活動していただくとありがたいです。\n\n\nScratchの利
 用に際してはつぎの順序でお願いします\n・　初心者
 、また、低学年の忍者はScratchデスクトップから始めて
 もらう。\n・　Scratchアカウントは家庭でとってもらう
 。\n・　当面、Wifi環境はそのままにしておきますので
 、必要と感じられたらパスワードを聞いて設定してい
 ただく。\n\n　Scratchデスクトップのダウンロードは下
 記からお願いします。\n　https://scratch.mit.edu/download\n\n\n
 プログラミングでは、計画などのために、メモ用紙、
 筆記用具もあると便利です！\n\n\n参加費は無料ですが
 、会の諸雑費の費用として寄付していただければと思
 い、募金箱を受付に置きます。\n\n\nでは、楽しい時間
 を過ごしましょう！！
LOCATION:天白区生涯学習センター 第2集会室 愛知県名古屋
 市天白区天白町大字島田黒石
URL:https://techplay.jp/event/813736?utm_medium=referral&utm_source=ics&utm
 _campaign=ics
END:VEVENT
END:VCALENDAR
