BEGIN:VCALENDAR
VERSION:2.0
PRODID:-//https://techplay.jp//JP
CALSCALE:GREGORIAN
METHOD:PUBLISH
X-WR-CALDESC:先進事例に学ぶ、企業競争力を生む “DX” の
 本質
X-WR-CALNAME:先進事例に学ぶ、企業競争力を生む “DX” の
 本質
X-WR-TIMEZONE:Asia/Tokyo
BEGIN:VTIMEZONE
TZID:Asia/Tokyo
BEGIN:STANDARD
DTSTART:19700101T000000
TZOFFSETFROM:+0900
TZOFFSETTO:+0900
TZNAME:JST
END:STANDARD
END:VTIMEZONE
BEGIN:VEVENT
UID:813849@techplay.jp
SUMMARY:先進事例に学ぶ、企業競争力を生む “DX” の本質
DTSTART;TZID=Asia/Tokyo:20210426T200000
DTEND;TZID=Asia/Tokyo:20210426T210000
DTSTAMP:20260422T043023Z
CREATED:20210405T061540Z
DESCRIPTION:イベント詳細はこちら\nhttps://techplay.jp/event/81384
 9?utm_medium=referral&utm_source=ics&utm_campaign=ics\n\n本セミナー
 について\n2月\, 3月に実施したDXセミナーを、好評につ
 き再度開催いたします。\n何かの技術や考え方を「な
 んとなくの理解 (表面的な理解)」で使いこなせるでし
 ょうか？\n多くの場合、答えは「No」だと思います。\nD
 X (Digital Transformation) の場合もそれは同じ。\n表面的な
 理解では、単なるサブスクリプションなどに落ち着い
 てしまうケースが多いようです。\nしかし、それで本
 当に企業競争力が生まれるでしょうか？\nだからこそ
 、我々は「腹落ち (本質の理解)」を大事にしたDXセミ
 ナーを開催しています。\n　「なるほど、だからDXが重
 要なのか」\n　「自社／自分も本当のDXに挑戦してみた
 い」\nそう思っていただけるよう、DXの成功事例を独自
 視点で分析することで、DXの本質をお伝えします。\n本
 セミナーで、DXの本質とそれを企業競争力に繋げるた
 めのヒントにぜひ触れてみませんか？\nイベント詳細 :
   https://www.deruqui.com/biz/dxseminar\n＜こんな人におすすめ
 ！＞\n\nDX で自社を変えたいと考える経営者\n自社でDX
 を推進するために、DXの本質を理解したいと考える企
 業幹部\n自社のDXを担い、これから活躍していきたいと
 考える若手社員\n\n＜当日の予定＞\n\n19:45-　入室可（
 参加登録をされた方に当日のZoomURLをお伝えします）\n2
 0:00-　セミナー\n最新事例に学ぶDXの本質\nDXを理解し、
 推進するための「DX思考」とは\nDXを推進するための組
 織と人材\n\n\n20:50-　質疑応答\n21:00-　終了\n\n＜講師紹
 介＞\n株式会社エクスモーション フェロー / 大阪大学 
 招へい准教授 / 総務大臣懇談会 構成員\n 中川郁夫　Nak
 agawa Ikuo \nhttps://www.deruqui.com/team \nデジタル時代の変革
 を独自視点で分析し、価値創造戦略と成長モデルを軸
 とする新規事業創出の取り組みに関わる。DeruQui の構
 想・企画から運営まで中心的に活動する。1993年より 
 大手IT企業でインターネットの研究に従事。その後、
 社内ベンチャーを設立し、経営、戦略、事業創出、そ
 の他の雑用を経験。2005年 東京大学より 博士号 (情報
 理工学) を取得し、2012年 大阪大学 招へい准教授、同
 年 Tクラウド研究会 設立。2020年より現職。\n＜主催＞\
 nDeruQui（株式会社エクスモーション）\nDXや人材育成に
 関するセミナーやゼミを開催しています。今の延長に
 はない「新しい未来」を描けるとんがった人材による
 価値創造を目指すコミュニティです。\nサイト : https://
 www.deruqui.com\n\n定員について\n他の媒体に掲載している
 ため、こちらで定員に達する前に募集を締め切らせて
 いただく場合がございます。\n（場合によってはキャ
 ンセル待ちとなります）ぜひお早めにご登録ください
 。
LOCATION:ウェブセミナー オンライン
URL:https://techplay.jp/event/813849?utm_medium=referral&utm_source=ics&utm
 _campaign=ics
END:VEVENT
END:VCALENDAR
