BEGIN:VCALENDAR
VERSION:2.0
PRODID:-//https://techplay.jp//JP
CALSCALE:GREGORIAN
METHOD:PUBLISH
X-WR-CALDESC:【少人数開催】動画撮影＆編集体験会
X-WR-CALNAME:【少人数開催】動画撮影＆編集体験会
X-WR-TIMEZONE:Asia/Tokyo
BEGIN:VTIMEZONE
TZID:Asia/Tokyo
BEGIN:STANDARD
DTSTART:19700101T000000
TZOFFSETFROM:+0900
TZOFFSETTO:+0900
TZNAME:JST
END:STANDARD
END:VTIMEZONE
BEGIN:VEVENT
UID:813860@techplay.jp
SUMMARY:【少人数開催】動画撮影＆編集体験会
DTSTART;TZID=Asia/Tokyo:20210503T134500
DTEND;TZID=Asia/Tokyo:20210503T161500
DTSTAMP:20260420T093940Z
CREATED:20210405T061921Z
DESCRIPTION:イベント詳細はこちら\nhttps://techplay.jp/event/81386
 0?utm_medium=referral&utm_source=ics&utm_campaign=ics\n\nコロナ対策
 について\n・来場時はマスク着用と会場に設置されて
 いるアルコールでの消毒をお願いいたします。\n・当
 日は起床後に検温して問題ないことを確認した上で来
 場ください。\n・ご見学される保護者の方は１組につ
 き1名まででお願いいたします。  \nイベントの概要\n小
 学生・中学生の子供たちを対象とした無料のプログラ
 ミングワークショップです。\nプログラミングと電子
 工作で物を動かしたり、ミニゲームを作ったりなど、
 ものづくり体験をしましょう！\n一人では難しいこと
 も、みんなでやれば実現できるかもしれません。  \n今
 回は、ナレーション体験や動画撮影、動画編集な動画
 に関する内容を体験してみよう。\n動画編集に興味が
 ある方、初めての方など歓迎です。\nタイムスケジュ
 ール\n\n\n\n時刻\nスケジュール\n\n\n\n\n13:45\n受付開始（
 この時間前には、部屋に入れません。）\n\n\n14:00\nワー
 クショップ開始\n\n\n16:00\nひとこと感想＆記念撮影＆ア
 ンケート\n\n\n12:15\n解散\n\n\n\n持ち物\n【パソコン持参
 の方のみ】\n・Wi-Fi接続可能なノートパソコン(Windows\, M
 acどちらでも)\n　電源アダプターもお忘れなく！\n※Wi-
 Fiは会場で無料で利用できます。  \n注意事項\n・会場
 内では活動報告などに利用する写真を撮影します。\n
 　ブログやSNSなどで利用し、インターネットで公開す
 る場合があります。 あらかじめご了承ください。 \n・
 参加できなくなった場合は、お早めにキャンセルをお
 願いします。\n・イベントは、やむを得ず変更・中止
 させて頂く場合があります。\n　その際は、connpassのメ
 ッセージでご連絡させていただきます。
LOCATION:秋葉原 東京都台東区台東1-13-9 BRIDD秋葉原 3B
URL:https://techplay.jp/event/813860?utm_medium=referral&utm_source=ics&utm
 _campaign=ics
END:VEVENT
END:VCALENDAR
