BEGIN:VCALENDAR
VERSION:2.0
PRODID:-//https://techplay.jp//JP
CALSCALE:GREGORIAN
METHOD:PUBLISH
X-WR-CALDESC:【成功するEC構築と売上向上の手法～顧客接点
 の在り方とは】ECサイト運営「効率化・品質向上」EC運
 用を成功に導く品質保証と体制構築のコツ
X-WR-CALNAME:【成功するEC構築と売上向上の手法～顧客接点
 の在り方とは】ECサイト運営「効率化・品質向上」EC運
 用を成功に導く品質保証と体制構築のコツ
X-WR-TIMEZONE:Asia/Tokyo
BEGIN:VTIMEZONE
TZID:Asia/Tokyo
BEGIN:STANDARD
DTSTART:19700101T000000
TZOFFSETFROM:+0900
TZOFFSETTO:+0900
TZNAME:JST
END:STANDARD
END:VTIMEZONE
BEGIN:VEVENT
UID:813863@techplay.jp
SUMMARY:【成功するEC構築と売上向上の手法～顧客接点の
 在り方とは】ECサイト運営「効率化・品質向上」EC運用
 を成功に導く品質保証と体制構築のコツ
DTSTART;TZID=Asia/Tokyo:20210421T170000
DTEND;TZID=Asia/Tokyo:20210421T180000
DTSTAMP:20260424T035218Z
CREATED:20210405T062615Z
DESCRIPTION:イベント詳細はこちら\nhttps://techplay.jp/event/81386
 3?utm_medium=referral&utm_source=ics&utm_campaign=ics\n\n※お申し込
 みは必ず以下バナーリンクからご登録をお願いいたし
 ます。\nTECH PLAYで「イベントに参加する」をクリック
 されても正式なお申し込み受付ができません。大変お
 手数をおかけいたしますが、よろしくお願いいたしま
 す。\n概要\n溢れかえるデジタルチャネルのなかでも市
 場競争力が求められるECサイト運営を取り上げ、成功
 事例を中心に、これからとるべき手法、施策まで一挙
 にご紹介する当セミナー。\n第3回目は「効率化・品質
 向上」をテーマに、リリース後のECサイト運営におけ
 る運用体制の在り方を、株式会社SHIFTから多数の事例
 をもとにご紹介します。\nEC構築から運営まで、売上向
 上の課題をお持ちの方はぜひお早めにお申込、ご参加
 ください！\n\n\n\n是非、ご期待ください。\n\nタイムス
 ケジュール\n\n\n\n時間\nコンテンツ\n\n\n\n\n16:45~\n入室開
 始\n\n\n17:00~17:10\n開演・ご挨拶\n\n\n17:10~17:55\nECサイト運
 営「効率化・品質向上」 ～EC運用を成功に導く品質保
 証と体制構築のコツ\n\n\n17:55~18:00\n質問タイム\n\n\n18:00\
 n終了\n\n\n\n※ 当日予告なく時間配分・内容が変更にな
 る可能性がございます。\n登壇者\n\n高橋　遼\n株式会
 社SHIFT営業本部 産業流通営業部　流通グループ長補佐\
 n大手SIerにて官公庁・自治体向けのソリューション提
 案に従事した後、外資系ベンダーに転職。 小売業・サ
 ービス業や人材系の企業向けに、マーケティングツー
 ルを拡販する新規営業として活動。 その後、2018年にSH
 IFT入社。金融機関担当を経て、現在は産業流通営業部
 、流通グループ長補佐を務める。\n\n\n\n櫻井　優\n株式
 会社SHIFTビジネストランスフォーメーション事業本部
 　エンタープライズ産業・流通統轄部産業流通ビジネ
 スユニット長補佐\n独立系IT企業にて12年在籍。主に金
 融（メガバンク）の基幹システム開発において開発チ
 ームリーダー、 またはPMOとして500人／月規模のプロジ
 ェクト推進支援を実施し大規模PJTの成功に寄与。 その
 後、2016年にSHIFT入社。金融業界（保険）の国内大手企
 業担当を経て、 現在は流通業界の超巨大アパレル企業
 を担当しながら、産業流通ビジネスユニット長補佐も
 務める。\n\n参加費\n無料\n開催概要\n開催日：2021年4月2
 1日（水）17:00-18:00参加料：無料→[お申し込みはこちら
 ]\n視聴方法：オンラインセミナーシステムにて開催※
 動画視聴方法につきましては、お申し込みいただいた
 方へのみご案内させていただきます。※同業他社・競
 合他社様、個人様のお申し込みはお断りする場合がご
 ざいます。\n■個人情報保護方針について申込み時に
 取得した個人情報は、イベント主催企業における個人
 情報保護方針に基づき厳重に管理し、本イベントに関
 する連絡ならびに今後のイベント案内・製品情報告知
 のために利用いたします。株式会社SHIFT　個人情報保
 護方針　https://www.shiftinc.jp/privacy/*\nハッシュタグ\n*#tech
 playjp
LOCATION:オンライン
URL:https://techplay.jp/event/813863?utm_medium=referral&utm_source=ics&utm
 _campaign=ics
END:VEVENT
END:VCALENDAR
