BEGIN:VCALENDAR
VERSION:2.0
PRODID:-//https://techplay.jp//JP
CALSCALE:GREGORIAN
METHOD:PUBLISH
X-WR-CALDESC:Unityゆるもく勉強会 in 島根 #13
X-WR-CALNAME:Unityゆるもく勉強会 in 島根 #13
X-WR-TIMEZONE:Asia/Tokyo
BEGIN:VTIMEZONE
TZID:Asia/Tokyo
BEGIN:STANDARD
DTSTART:19700101T000000
TZOFFSETFROM:+0900
TZOFFSETTO:+0900
TZNAME:JST
END:STANDARD
END:VTIMEZONE
BEGIN:VEVENT
UID:813911@techplay.jp
SUMMARY:Unityゆるもく勉強会 in 島根 #13
DTSTART;TZID=Asia/Tokyo:20210424T130000
DTEND;TZID=Asia/Tokyo:20210424T170000
DTSTAMP:20260421T142220Z
CREATED:20210405T141401Z
DESCRIPTION:イベント詳細はこちら\nhttps://techplay.jp/event/81391
 1?utm_medium=referral&utm_source=ics&utm_campaign=ics\n\nゆるゆるも
 くもく勉強会\n島根県を中心に活動をしている、地域
 おこしXR研究会主催のUnityゆるもく会です。\nUnity初め
 ての人からUnity仕事で使っている人まで、ゆるーく、
 もくもくする会です。\n何かを作ったり勉強したり、
 分からないことを相談したり……。\nUnity以外のツール
 や技術の勉強も大丈夫です。気軽にご参加ください！\
 n\nBlender\nMetasequoia\nVR\nAR\nデジタルフォトグラメトリ―\
 nUnreal Engine\n\nなどなど\nLTについて\nゆるもく勉強会で
 はLTを募集しています。\n参加希望の方は申込後に、イ
 ベントの問い合わせ等でLTのタイトルと時間をお伝え
 ください。\n今回は特にPLATEAUのLTを募集します！\nUnity
 チュートリアルサポート欲しい枠について\nUnityにこれ
 から入門する人、最近入門した人向けに、少人数でUnit
 yのチュートリアルをやる枠です。\nUnity初めてやるけ
 ど、1人でやるのが不安。わかる人に聞きながらやりた
 い等々一緒にやる人が欲しい方はどうぞ。\n開催場所
 について\n新型コロナウイルスの対策のため、地域お
 こしXR勉強会のDiscordチャンネルで開催します。  \nイベ
 ントの進行方法\nゆるもく勉強会はDiscord上で行います
 。\nわからないことがあった場合、全体チャンネルで
 わかる人を募って、グループチャットで画面共有をし
 ながら、作業を進めることを想定しています。  \n準備
 が必要なもの\n必須\n\nDiscordアカウント\n  Discordアカウ
 ントを用途で分けたい人は、前もってサブアカウント
 を作りましょう。\nマイク(ノートPCの人は組み込みの
 ものでOK)\n\nオプション(必要な人のみ)\n\nDiscordサブア
 カウント\nDiscordデスクトップアプリケーション\nChrome
 リモートデスクトップ (質問、相談等で使用 ※1 )\nVisua
 l Studio\nVisual Studio Code\n\n※1\n別途Google Chromeをインスト
 ールする必要があります\n設定方法はこちらのページ\n
 タイムテーブル\n\n\n\n時間\n内容\n\n\n\n\n13:00 ~ 13:15\n自
 己紹介(できること、今日やること)\n\n\n13:15 ~ 17:00\nゆ
 るもく会 + LT\n\n\n17:00\n解散\n\n\n
LOCATION:地域おこしXR研究会Discordチャンネル オンライン
URL:https://techplay.jp/event/813911?utm_medium=referral&utm_source=ics&utm
 _campaign=ics
END:VEVENT
END:VCALENDAR
