BEGIN:VCALENDAR
VERSION:2.0
PRODID:-//https://techplay.jp//JP
CALSCALE:GREGORIAN
METHOD:PUBLISH
X-WR-CALDESC:【オンライン】オタクが最新技術を追うLTイベ
 ント#23【初心者歓迎】【テーマフリー】
X-WR-CALNAME:【オンライン】オタクが最新技術を追うLTイベ
 ント#23【初心者歓迎】【テーマフリー】
X-WR-TIMEZONE:Asia/Tokyo
BEGIN:VTIMEZONE
TZID:Asia/Tokyo
BEGIN:STANDARD
DTSTART:19700101T000000
TZOFFSETFROM:+0900
TZOFFSETTO:+0900
TZNAME:JST
END:STANDARD
END:VTIMEZONE
BEGIN:VEVENT
UID:814208@techplay.jp
SUMMARY:【オンライン】オタクが最新技術を追うLTイベン
 ト#23【初心者歓迎】【テーマフリー】
DTSTART;TZID=Asia/Tokyo:20210428T193000
DTEND;TZID=Asia/Tokyo:20210428T210000
DTSTAMP:20260420T223601Z
CREATED:20210408T061721Z
DESCRIPTION:イベント詳細はこちら\nhttps://techplay.jp/event/81420
 8?utm_medium=referral&utm_source=ics&utm_campaign=ics\n\n概要\nとら
 のあなのWebサービス開発を手掛ける「虎の穴ラボ株式
 会社」が主催するライトニングトーク会です。\n虎の
 穴ラボのエンジニア が現在学習中の最新技術や、業務
 で扱っている「Java」「Kotlin」「Ruby」「Ruby on Rails」な
 どの技術、オタク×ITなどについてライトニングトーク
 を行います！\nまた一般公募者からもライトニングト
 ークをしていただき、ライトニングトークの練習をし
 ながら最新技術への導入・入門として一緒に勉強して
 いく会となります。\n初心者の方も練習の場としてお
 気軽にご参加ください！\nトークテーマ\nフリーテーマ
 \n最近学んだ言語や読んだ本、はたまたリモートワー
 クノウハウなど、ITに関連する内容や、他のITに関連す
 るLT会を紹介しても大丈夫です。是非ご参加ください
 。 \nリクルーティングや商品販売等の勧誘はご遠慮く
 ださい。\nイベント日時\n2021年4月28日（水）19:30 〜 21:0
 0  \nオンライン開催について\nYouTubeライブ配信による 
 オンライン開催 です。\nYouTubeライブ配信URL https://youtu.
 be/VJ3XnM7XLpU\n虎の穴ラボYouTubeチャンネル\nhttps://www.youtub
 e.com/channel/UC2LQCTWBg7da5JHxQdGNGyw/\n YouTube配信を全体公開い
 たします。   \n参加枠について\n一般参加枠\nライトニ
 ングトークの聴講参加となります。\n未参加でも虎の
 穴ラボ公式YouTubeチャンネルからLT会の視聴が可能です
 。\n参加頂いた方にはconnpassよりリマインドメールが前
 日に送られます。\nトークに対する質問や意見など、
 自由に発言していってください。\n(鋭利なマサカリは
 ご勘弁ください。)\nコメントや質問はYouTubeチャット上
 で受け付けます。\nLT登壇枠\nライトニングトークを行
 う枠となります。1人、 5分   を目安としております。\
 n経験を問わないので、誰でも申し込みが可能となりま
 す。\n可能であればオタク要素を盛り込んでください
 。\n アーカイブも全体公開いたします。 \nオープンな
 場として登壇内容が残ることになりますので、ご注意
 ください。\n「参加者への情報」欄のSlackワークスペー
 スへの招待URLを記載しております。\n登壇時の注意事
 項や案内を行いますので、必ずSlackワークスペースに
 ご参加ください \n当日はGoogle Meetの会議室に参加いた
 だき、資料を画面共有しながら登壇頂く予定です。\n
 予め、登壇資料やマイク等をご用意ください。\n顔出
 しは自由です。\nスケジュール\n4/28（水）19:30〜21:00\n\n
 \n\n時間\n内容\n発表者\n\n\n\n\n19:30〜19:45\n虎の穴ラボに
 ついて\n\n\n\n19:45〜19:55\nGo言語でのWeb APIの作り方3選\n
 虎の穴ラボ Y.F\n\n\n19:55〜20:05\nGoogleスプレッドシートと
 GASでイベント出欠管理ツールを作ってみた話\n虎の穴
 ラボ A.K\n\n\n20:05〜20:15\nRust製の全文検索エンジン（Tanti
 vy/Bayard）を試してみた\n虎の穴ラボ H.K\n\n\n20:15〜20:20\n
 休憩\n\n\n\n20:20〜20:30\nシリコンバレーオタクが語るベ
 イエリアで流行の製品2選\nyuki さん\n\n\n20:30〜20:40\nLT5\n
 LT登壇枠\n\n\n20:40〜20:50\nLT6\nLT登壇枠\n\n\n20:50〜20:55\n閉
 会の挨拶\n\n\n\n21:00\n終了予定\n\n\n\n\n注意事項\n\nセク
 シュアルハラスメント、パワーハラスメント、ストー
 カー等の他者への迷惑行為を禁止します。\nネットワ
 ークビジネス等、その対象を問わず販売、勧誘、あっ
 せん等を行うこと。また、宗教活動または政治活動を
 禁止します。\nその他、イベントの趣旨・目的から逸
 脱した行為や、本来のイベント趣旨とは異なる行為が
 あると判断した場合、次回以降のイベント参加をお断
 りさせて頂きます。\n\nその他\n\nツイッターへのつぶ
 やきは #toralab_lt をつけて呟いて頂けると嬉しいです！
 \n発表したLTの資料は各人任意での公開となります\n質
 問等ありましたらツイッターアカウントまでご連絡く
 ださい\nhttps://twitter.com/toranoana_lab\n
LOCATION:YouTubeライブ配信 オンライン
URL:https://techplay.jp/event/814208?utm_medium=referral&utm_source=ics&utm
 _campaign=ics
END:VEVENT
END:VCALENDAR
