BEGIN:VCALENDAR
VERSION:2.0
PRODID:-//https://techplay.jp//JP
CALSCALE:GREGORIAN
METHOD:PUBLISH
X-WR-CALDESC:第30回ゆるはち.it: アクセシビリティついてゆ
 るく話す
X-WR-CALNAME:第30回ゆるはち.it: アクセシビリティついてゆ
 るく話す
X-WR-TIMEZONE:Asia/Tokyo
BEGIN:VTIMEZONE
TZID:Asia/Tokyo
BEGIN:STANDARD
DTSTART:19700101T000000
TZOFFSETFROM:+0900
TZOFFSETTO:+0900
TZNAME:JST
END:STANDARD
END:VTIMEZONE
BEGIN:VEVENT
UID:814209@techplay.jp
SUMMARY:第30回ゆるはち.it: アクセシビリティついてゆるく
 話す
DTSTART;TZID=Asia/Tokyo:20210428T190000
DTEND;TZID=Asia/Tokyo:20210428T203000
DTSTAMP:20260420T113654Z
CREATED:20210408T061723Z
DESCRIPTION:イベント詳細はこちら\nhttps://techplay.jp/event/81420
 9?utm_medium=referral&utm_source=ics&utm_campaign=ics\n\nグループの
 概要\nゆるはち.itは、「都心まで行くのは億劫だが、
 八王子で新しめのITの話をしたいぞ」という主旨で設
 立したコミュニティです。\n八王子市に本社を置くシ
 ステム開発会社 株式会社ビルディット のメンバーが
 主体となって活動していますが、ご興味の方には、お
 気軽に参加していただけると嬉しいです。\nかっちり
 した講義講演タイプのイベントではなく、毎回テーマ
 を決めつつ、新しめの技術を調べたり触ってみたりし
 た感触(ひょっとしたら間違ったことをいうかもしれな
 い)を、ゆるく共有できる場として、毎月開催していけ
 ると良いなと思っています。\nこれまでのイベント開
 催履歴については ゆるはち.itのグループページ をご
 覧ください。また、よろしければ、後日談として配信
 されているポッドキャストもどうぞ。Google\, Apple\, Spoti
 fy のポッドキャストから「ゆるはち」で検索してお楽
 しみください。\nイベント概要\n第30回のテーマは、 「
 アクセシビリティについてゆるく話す」 です。\nみな
 さんはアクセシビリティについて意識して開発されて
 ますか？\n意識したいところですが、対応の優先度が
 下がってしまう現場も多いと思います。\nWebサイトは
 誰にとっても貴重な情報源です。\nとくに行動の範囲
 が限られる高齢者や障がいを持つ方々にとっては、自
 立した生活を営むために必要不可欠な存在であると言
 えそうです。\nパソコンやスマホの操作にハンデを持
 つ方たちこそが、掲載されたコンテンツに問題なくア
 クセスし、情報を利用できるようにするために必要な
 ことを、改めてお話してみましょう。\n（主催がITまわ
 りを仕事とするメンバーなので、ほか界隈での扱いが
 わからず、Web限定のようなメッセージになってしまい
 ましたが、どんな界隈の話題もウェルカムです！）\n\n
 \n\n時間\nタイトル\n説明\n\n\n\n\n18:45-19:00\nセッションオ
 ープン・受付\n入室時に、お名前をお知らせください
 。映像・音声チェックをおこないます。集まり具合に
 よっては、少人数のブレイクアウトルームで懇親の時
 間をつくります\n\n\n19:00-19:15\nご挨拶・乾杯・各自の簡
 単な自己紹介\nご挨拶のときは、カメラONにご協力くだ
 さい\n\n\n19:15-19:25\n色のアクセシビリティ @uniq\n\n\n\n19:2
 5-19:35\nMDN アクセシビリティ読んでみた @junara\nhttps://dev
 eloper.mozilla.org/ja/docs/Web/Accessibility\n\n\n19:35-19:45\nトーク3
 : アクセシビリティを意識させる開発環境を整える @sp_
 DEGU\n\n\n\n19:45-20:00\n懇親の部(ブレイクアウトセッショ
 ン)\n\n\n\n20:00-20:05\n終わりの挨拶\n\n\n\n\n\n※ 開会後、
 しばらくしたら新規参加をロックします。所定時刻内
 にセッションにご参加ください。\n※ 参加者の皆さま
 の安全のため、自己紹介時はカメラONでのご参加をお
 願いいたします。\n\n対象者\nWebエンジニア、デザイナ
 ー、あるいはそれらを志す学生さんなど、実際に自身
 で手を動かして、つくることに取り組んでいる方\n※ 
 やや実践的なトークが多いため、トーク予定をよくご
 確認の上お申し込みください\n※ 人事職や人材紹介会
 社の方のご参加はご遠慮ください\n参加費\n無料\n備考\
 n\nイベント開催中、写真・ビデオ撮影をおこなうこと
 があります。イベント開催報告時に映り込む可能性が
 ありますが、顔出ししたくない方は、当日の受付時に
 お申し出ください。\nイベント参加者への営業・販売
 活動および宗教・マルチ商法・転職などの執拗な勧誘
 や絡みはおやめください。\n
LOCATION:オンライン オンライン
URL:https://techplay.jp/event/814209?utm_medium=referral&utm_source=ics&utm
 _campaign=ics
END:VEVENT
END:VCALENDAR
