BEGIN:VCALENDAR
VERSION:2.0
PRODID:-//https://techplay.jp//JP
CALSCALE:GREGORIAN
METHOD:PUBLISH
X-WR-CALDESC:脆弱性診断のススメ〜CSRFとBlind SQL Injectionを試
 そう！
X-WR-CALNAME:脆弱性診断のススメ〜CSRFとBlind SQL Injectionを試
 そう！
X-WR-TIMEZONE:Asia/Tokyo
BEGIN:VTIMEZONE
TZID:Asia/Tokyo
BEGIN:STANDARD
DTSTART:19700101T000000
TZOFFSETFROM:+0900
TZOFFSETTO:+0900
TZNAME:JST
END:STANDARD
END:VTIMEZONE
BEGIN:VEVENT
UID:814246@techplay.jp
SUMMARY:脆弱性診断のススメ〜CSRFとBlind SQL Injectionを試そ
 う！
DTSTART;TZID=Asia/Tokyo:20210423T193000
DTEND;TZID=Asia/Tokyo:20210423T210000
DTSTAMP:20260424T021358Z
CREATED:20210408T141326Z
DESCRIPTION:イベント詳細はこちら\nhttps://techplay.jp/event/81424
 6?utm_medium=referral&utm_source=ics&utm_campaign=ics\n\nイベント概
 要\n今回もやってきましたセキュリティ勉強会！\nセキ
 ュリティについて知りたい！セキュリティに強いエン
 ジニアになりたいという方向けの勉強会です。\n今回
 のテーマは「CSRFとSQLインジェクションの深堀り」とい
 うことでCSRFとBlind SQL Injectionをテーマに開催します！\n
 現役のセキュリテのィエンジニアが理論から実践まで
 を広くお伝えしますのでお楽しみに！\n終了後は希望
 者で飲み会をやりますので、参加されたい方はアンケ
 ートの回答をお願いします！\nこんな人にオススメ\nセ
 キュリティに興味がある方、興味はあるがやることが
 わからないという方\n概要\n当日の流れ:\n①自己紹介＋
 勉強会の趣旨\n②勉強会(21:00終了予定)\n③懇親会！\n場
 所:\n山手線代々木駅　徒歩5分 　TECH LOUNGE\n\n住所：東
 京都渋谷区代々木1-5-8　SEBON代々木105\n料金:\n無料\n＊
 飲み会参加の方は会費をいただきます！\n（事前予約15
 00円、当日支払い2000円です）\n来場のルール\n＊マスク
 着用必須でお願いします。来場時は必ず手洗い、うが
 いの徹底をお願いします。体調が優れない方は退出を
 お願いする場合があります。\n＊15分以上連絡なく遅刻
 される際は来場をお断りいたします。よろしくお願い
 いたします\n＊自身のPCをお持ちください\n講師\n\n名前
 ：kmrr(@Neko_no_me)\n仕事：セキュリティエンジニア(脆弱
 性診断を主に実施)\n趣味：アセンブラの勉強、映画鑑
 賞(主にサメ映画)\n運営\n\n名前：すがやん\nG’s ACADEMY D
 EV10期卒/PHP/Laravel/Azure触ってます周りからの評価：「ち
 ょっと頼りないけど、助けたくなる」(-_-\;)/
LOCATION:Tech Lounge 東京都新宿区代々木１丁目
URL:https://techplay.jp/event/814246?utm_medium=referral&utm_source=ics&utm
 _campaign=ics
END:VEVENT
END:VCALENDAR
