BEGIN:VCALENDAR
VERSION:2.0
PRODID:-//https://techplay.jp//JP
CALSCALE:GREGORIAN
METHOD:PUBLISH
X-WR-CALDESC:■SNS運用■ プロチームに学ぶ、スポーツマー
 ケティングに学ぶSNS活用したファンづくり 〜フォロワ
 ーをファンに育てるtwitter活用法〜
X-WR-CALNAME:■SNS運用■ プロチームに学ぶ、スポーツマー
 ケティングに学ぶSNS活用したファンづくり 〜フォロワ
 ーをファンに育てるtwitter活用法〜
X-WR-TIMEZONE:Asia/Tokyo
BEGIN:VTIMEZONE
TZID:Asia/Tokyo
BEGIN:STANDARD
DTSTART:19700101T000000
TZOFFSETFROM:+0900
TZOFFSETTO:+0900
TZNAME:JST
END:STANDARD
END:VTIMEZONE
BEGIN:VEVENT
UID:814292@techplay.jp
SUMMARY:■SNS運用■ プロチームに学ぶ、スポーツマーケテ
 ィングに学ぶSNS活用したファンづくり 〜フォロワーを
 ファンに育てるtwitter活用法〜
DTSTART;TZID=Asia/Tokyo:20210416T200000
DTEND;TZID=Asia/Tokyo:20210416T220000
DTSTAMP:20260420T220339Z
CREATED:20210409T045634Z
DESCRIPTION:イベント詳細はこちら\nhttps://techplay.jp/event/81429
 2?utm_medium=referral&utm_source=ics&utm_campaign=ics\n\n【こんな方
 に参加をオススメしたい！】\n・戦略的運用するため
 に、プロや他の業界ではどう設計しているのか知りた
 い方・（SNSを含む）プロモーションが全て場当たり的
 で上手く行かず悩んでいる方・売上や見込み客のリー
 ド獲得に繋がった事例が知りたい方・今SNS運用してい
 て、施策が頭打ちになり、次何をしたらいいか分から
 ない方\n【イベント概要】\n本イベントはプロバスケッ
 トチームBリーグ所属の「東京エクセレンス」様との共
 同セミナーになります。\n\n\n「どんなマーケティング
 戦略に基づくか」\nを、大手広告代理店から個人事業
 まで幅広くコンサルティングを行う元Yahoo!Japanの福田
 正義が解説。\n明日から即実践できるマーケティング
 戦略の基本と応用を2部構成でお届けいたします。\n【
 当日のトピックス】\n・SNS運用がうまくいっていない
 のはどうして？デジタルマーケターのプロが語る、う
 まくいかない原因・twitter運用において大事なものは投
 稿数や他のアカウントへのいいね！数など数の管理の
 みに終始しているから？・投稿のネタ切れで、とりあ
 えず、飯テロ！みたいな投稿してたら黄色信号？・実
 は投稿やいいね！の前に、大事なブランド構築できて
 ますか？\n【セミナー詳細】\n参加料：無料日時　：4
 月16日（金）20:00～22:00　場所　：zoomにて実施 (予定時
 間30分前までにURLを送付させて頂きます)\nハッシュタ
 グ#mercedu\n【参加者特典】\n希望者の方にはWeb施策、マ
 ーケティング施策に関して無料で60分コンサルを致し
 ますタイムスケジュール\n\n【福田 正義　（ふくだ　
 まさよし）】元Yahoo!Japanコンサルティングマネージャ
 ー合同会社YuMK 最高経営責任者マーベリック株式会社 
 執行役員merc Education代表\n【石坂　聡（いしざか　さと
 し）】元食品包装資材メーカー　マーケテイィングセ
 ンター所属元東京八王子トレインズ所属プロバスケッ
 トボールチーム　東京エクセレンス　事業部　部長\n
 東京エクセレンス公式HPはこちら\n【注意事項】\n※ 参
 加を辞退する場合は、詳細ページより申込のキャンセ
 ルをお願い致します。※ 無断キャンセル・欠席が続く
 場合、次回以降の参加をお断りさせていただく場合が
 ございますのでご了承ください。\n【お問い合わせ】\n
 お問い合わせ本講座に関するお問い合わせは、公式LINE
 アカウントよりお問い合わせください。
LOCATION:オンライン（Zoom）
URL:https://techplay.jp/event/814292?utm_medium=referral&utm_source=ics&utm
 _campaign=ics
END:VEVENT
END:VCALENDAR
