BEGIN:VCALENDAR
VERSION:2.0
PRODID:-//https://techplay.jp//JP
CALSCALE:GREGORIAN
METHOD:PUBLISH
X-WR-CALDESC:RPA勉強会！Power Automate Talk #10～PAD最新情報！ラ
 イブデモ！
X-WR-CALNAME:RPA勉強会！Power Automate Talk #10～PAD最新情報！ラ
 イブデモ！
X-WR-TIMEZONE:Asia/Tokyo
BEGIN:VTIMEZONE
TZID:Asia/Tokyo
BEGIN:STANDARD
DTSTART:19700101T000000
TZOFFSETFROM:+0900
TZOFFSETTO:+0900
TZNAME:JST
END:STANDARD
END:VTIMEZONE
BEGIN:VEVENT
UID:814367@techplay.jp
SUMMARY:RPA勉強会！Power Automate Talk #10～PAD最新情報！ライ
 ブデモ！
DTSTART;TZID=Asia/Tokyo:20210421T193000
DTEND;TZID=Asia/Tokyo:20210421T210000
DTSTAMP:20260425T022111Z
CREATED:20210409T141156Z
DESCRIPTION:イベント詳細はこちら\nhttps://techplay.jp/event/81436
 7?utm_medium=referral&utm_source=ics&utm_campaign=ics\n\n\n\n\n\n\n匿名
 の質問フォームはこちら\nイベント中にできるだけ取
 り上げます！何でもご質問ください！\n※「Open Q&A」で
 入ると他の質問も見れます\n\n\nタイムテーブル\n\n\n\n
 時間\n内容\n発表タイトル\n\n\n\n\n19:00\nZoom開放\nイベン
 ト前の交流\n\n\n19:30\nイベント開始\n\n\n\n\nオープニン
 グ：RPACommunity最新情報\nMitz&Ayy\n\n\n\nセミナー１Power Auto
 mate Desktop最新情報\nマイクロソフト 吉田 大貴さん\n\n\n
 \n休憩\n\n\n\n\nセミナー２Power Automate事例紹介・ライブ
 デモ※「スマホからのデスクトップフローの呼出」な
 ど\nロボ研 佐々木 伸明さん\n\n\n\nクロージング：イラ
 レコ紹介＆集合写真\n\n\n\n21:00\n撤収\n\n\n\n\n\n【講師】
 吉田 大貴さん ／ マイクロソフトコーポレーション\n\n
 【講師】佐々木 伸明さん  ／ 株式会社ASAHI Accounting Robo
 t 研究所\n\nRPACommunityについて\n\nRPAユーザー同士で情報
 や悩みを共有しながらRPAを学び、各々が目指す業務改
 善・働き方改革の実現に繋げる事を目的にしているの
 がRPACommunityです。\n\n\nすでにRPAに取り組んでいる方、
 これから学ぼうとしている方、ちょっと興味がある方
 、どんな方でも大歓迎です。\n\nRPAに関するネタ、悩み
 や、言いたい事を、狭くはRPAですが広くは自動化、業
 務改善、働き方改革に繋がるテーマでセミナーやライ
 トニングトーク（LT※）を楽しむコミュニティです！\n
 \n\n※ LTとは「Lightning Talk(s)」の頭文字を取ったもので5
 分間程度の短い時間で行われる発表を連続して続けて
 いく形式のプレゼンテーション。\n\n\n参加メリット\n\n
 \nユーザー主体だからこそ、つまらない営業トークも
 宣伝トークもありません。RPAに関する情報を得ながら
 、拡くは業務改善・働き方改革に至る様々な情報を参
 加者同士で楽しく交換し合えるコミュニティです。\n\n
 \n\n参考\nRPACommunity YouTubeチャンネル\nイベントレポート
  web記事\n\n\n\n開催前後の交流ためのFBグループもあり
 ます！\n\n\nRPACommunity FBグループ \n\n\n是非ご参加下さい
 ！\n\n\n\n参加費　無料\n\n\n\n協力・パートナー\n\n\n\n株
 式会社ASAHI Accounting Robot 研究所\n\n\n\n\n\n\nRPABANK\n\n\n\n\nR
 PACommunity PowerAutomate Talk支部 主催 チャラ電Mitz ＆ あや
 や\n\n諸注意\n\nイベント内容は一部変更になる可能性
 がございます。\nイベント当日の様子は後日何らかの
 媒体にて公開させていただくことがございます。\nお
 申込後運営都合によりご参加をキャンセルさせて頂く
 場合がございます。予めご了承頂けますようお願いい
 たします。\n当イベントでは全ての参加者がこのイベ
 ントを楽しめるよう、RPACommunity運営グループの管理の
 もと開催しています。そのため、以下のような行動を
 取られた方は退室いただく場合があります。また次回
 以降の参加をお断りしますのでご了承下さい。過去に
 以下のような行動を取られた方からのお申込について
 もお断りさせていただく場合がございます。\n\n　■他
 の参加者やLT登壇者に対しての迷惑行為と見られる言
 動や行動\n　■人材紹介、転職、マルチ商法、宗教な
 ど、本イベントとは関係のない勧誘\n
LOCATION:オンライン オンライン
URL:https://techplay.jp/event/814367?utm_medium=referral&utm_source=ics&utm
 _campaign=ics
END:VEVENT
END:VCALENDAR
