BEGIN:VCALENDAR
VERSION:2.0
PRODID:-//https://techplay.jp//JP
CALSCALE:GREGORIAN
METHOD:PUBLISH
X-WR-CALDESC:SASEとゼロトラストでテレワークはこう変わる
X-WR-CALNAME:SASEとゼロトラストでテレワークはこう変わる
X-WR-TIMEZONE:Asia/Tokyo
BEGIN:VTIMEZONE
TZID:Asia/Tokyo
BEGIN:STANDARD
DTSTART:19700101T000000
TZOFFSETFROM:+0900
TZOFFSETTO:+0900
TZNAME:JST
END:STANDARD
END:VTIMEZONE
BEGIN:VEVENT
UID:814384@techplay.jp
SUMMARY:SASEとゼロトラストでテレワークはこう変わる
DTSTART;TZID=Asia/Tokyo:20210428T140000
DTEND;TZID=Asia/Tokyo:20210428T150000
DTSTAMP:20260420T013945Z
CREATED:20210409T141802Z
DESCRIPTION:イベント詳細はこちら\nhttps://techplay.jp/event/81438
 4?utm_medium=referral&utm_source=ics&utm_campaign=ics\n\n概要\nこの
 度は「SASEとゼロトラストでテレワークはこう変わる」
 というテーマ\nに関するウェビナーを開催致します。\n
 SASEとゼロトラストを実現するには何が必要なのか、\n
 またテレワーク時代のセキュリティがどう変化してい
 くのかを解説していきます。\n切れないVPN #セキュリテ
 ィ #ネットワーク #ゼロトラスト\n※配信URLは前日まで
 にメールにてご連絡させていただきます\nタイムスケ
 ジュール\n13:45〜  受付開始\n14:00〜14:05 オープニング　
 \n14:05〜14:50 「SASEとゼロトラストでテレワークはこう
 変わる」\nNetMotion Software Japan  高松篤史   成田孝弘\n14:5
 0〜15:00 Ｑ＆Ａ\n※ 当日予告なく時間配分・内容が変更
 になる可能性がございます。\n参加対象\n•   エンジニ
 ア\n•   管理職\n•   経営者\n参加費\n無料\nハッシュタ
 グ\nセキュリティ　#ネットワーク 　#ゼロトラスト　
 ＃VPN
LOCATION:オンライン オンライン
URL:https://techplay.jp/event/814384?utm_medium=referral&utm_source=ics&utm
 _campaign=ics
END:VEVENT
END:VCALENDAR
