BEGIN:VCALENDAR
VERSION:2.0
PRODID:-//https://techplay.jp//JP
CALSCALE:GREGORIAN
METHOD:PUBLISH
X-WR-CALDESC:【合格率93%・合格者数No.1】AVILENの全人類がわ
 かるE資格コース説明会
X-WR-CALNAME:【合格率93%・合格者数No.1】AVILENの全人類がわ
 かるE資格コース説明会
X-WR-TIMEZONE:Asia/Tokyo
BEGIN:VTIMEZONE
TZID:Asia/Tokyo
BEGIN:STANDARD
DTSTART:19700101T000000
TZOFFSETFROM:+0900
TZOFFSETTO:+0900
TZNAME:JST
END:STANDARD
END:VTIMEZONE
BEGIN:VEVENT
UID:814420@techplay.jp
SUMMARY:【合格率93%・合格者数No.1】AVILENの全人類がわかる
 E資格コース説明会
DTSTART;TZID=Asia/Tokyo:20210427T193000
DTEND;TZID=Asia/Tokyo:20210427T203000
DTSTAMP:20260419T150932Z
CREATED:20210410T081551Z
DESCRIPTION:イベント詳細はこちら\nhttps://techplay.jp/event/81442
 0?utm_medium=referral&utm_source=ics&utm_campaign=ics\n\n参加方法\n1.
  登録フォームに記入：https://zoom.us/webinar/register/311618193
 6667/WN_xx4gFfykS2y0Nt8xZKzmaw\n2. ウェビナー参加リンクを受
 け取る\n3. 定刻にウェビナーに参加する\n※配信ツール
 にはZoomミーティングではなく、Zoomウェビナーを利用
 します。　アカウントの作成は不要です。（デスクト
 ップアプリのインストールを推奨）　参加者様同士の
 顔や氏名は見えない形式になっております。\n概要\n「
 E資格」とは、AIエンジニアに必要な理論の理解度や実
 装力をはかる資格です。受験資格を得るためには、日
 本ディープラーニング協会（JDLA）の認定を受けた特定
 の学習プログラムを受講・修了しなければなりません
 。\n認定プログラムの1つであるAVILENの「全人類がわか
 るE資格コース」は、直近試験で「合格率93.6％・合格
 者数No.1」を達成。2期連続で合格率90％超えを誇る、最
 高品質のオンライン講座です。\n＜合格者の声（一部
 抜粋）＞\n◎Aさん\n「講義内容が分かりやすく、演習
 により知識を深めることができた。非常に多くの設問
 が用意されたため、全く初見の言葉が試験ででること
 はなかった。そういった意味で網羅性は非常に高く、
 合格率が高いのだと思う。受験者同士でコミュニティ
 で質問を相互に教えあったり、それで深い知識を得た
 りと、仕組みも良いのだと思う。」\n\n◎Bさん\n「本当
 に初心者レベルから合格できました。内容が濃くて、
 何度も教材の動画を見直しながら理解を進めることが
 できました。Pythonコード提出課題もよかったです。」\
 n\n\n今回のオンライン説明会では本コース担当者が登
 壇し、\n\n講座の合格率が驚くほど高い理由\n講座内容
 解説・講師による質疑応答\n法人限定のサポートプラ
 ン等の紹介\n\nなど、疑問やお悩みを徹底解決いたしま
 す。\n法人・個人問わず、自社AIエンジニアの育成やE
 資格取得をご検討中の方々は、ぜひ奮ってご参加くだ
 さい！\n参加対象\n制限なし（定員30人）\n参加費\n無料
 ※申込数が定員を大きく超えた場合、抽選となる可能
 性がございます。\nスケジュール・内容詳細\n※時間・
 内容は一部変更となる可能性がございます。※投影さ
 れるスライド資料はセミナー終了後に配布させていた
 だきます。\nトークセッション\n・はじめに・概要\n・
 講座の全体構成\n・カリキュラム詳細\n・サポート・オ
 プション紹介\n・まとめ、その他学習方法\n質疑応答\n
 セミナー内容やAI関連のご質問について、時間の許す
 限りお答えいたします。\n登壇者\n平野 邑季\nAIソリュ
 ーションプランナー（株式会社AVILEN）\n営業・マーケ
 ティングの他にWEBクリエイティブを担当。前職ではD2C
 スキンケアメーカーにWEBコンサルタントとして従事し
 、新卒２カ月で商品の販促企画を行ったところ３日で
 売上個数を10倍増に成功。\n\n中島 捷\nデータサイエン
 ティスト（株式会社AVILEN）\n慶應義塾大学大学院理工
 学研究科出身。大学・大学院時代は統計学を専攻して
 おり、地震やスポーツに関する位相的ビッグデータ解
 析の研究を行っていた。AVILENではE資格コースの運営・
 教材作成、AI専門Webメディア「AVILEN AI Trend」の記事監
 修、法人研修のプログラムデザインなどに従事してい
 る。\n\nお問い合わせ\n\n本ページ右上の「イベントへ
 のお問い合わせ」よりお問い合わせください。\n\n注意
 事項\n\nリクルーティング、勧誘など、採用目的でのイ
 ベント参加はお断りしております。\n欠席される場合
 は、お手数ですが速やかにキャンセル処理をお願い致
 します。\n無断キャンセルや欠席が続く場合、次回以
 降の参加をお断りさせていただく場合がございます。\
 n\nAVILENとは\n株式会社AVILENとは、AI・機械学習に関する
 技術開発と人材育成でビジネスを総合支援する会社で
 す。「最新のテクノロジーを、多くの人へ」をビジョ
 ンに掲げ、多岐に渡る事業を行っています。事業内容
 の一部を下記に紹介します。\n\nAI特化型メディアAVILEN 
 AI Trendの運営\nディープラーニング技術を搭載した「最
 適レコメンドエンジン」「画像認識エンジン」「自然
 言語処理エンジン」の開発・提供\nAIの活用に関するコ
 ンサルティング支援\nAI人材育成支援（法人研修、デー
 タサイエンスに関する講座の開講など）\n
LOCATION:オンライン
URL:https://techplay.jp/event/814420?utm_medium=referral&utm_source=ics&utm
 _campaign=ics
END:VEVENT
END:VCALENDAR
