BEGIN:VCALENDAR
VERSION:2.0
PRODID:-//https://techplay.jp//JP
CALSCALE:GREGORIAN
METHOD:PUBLISH
X-WR-CALDESC:第1回　CLOTO　プログラミングLTイベント
X-WR-CALNAME:第1回　CLOTO　プログラミングLTイベント
X-WR-TIMEZONE:Asia/Tokyo
BEGIN:VTIMEZONE
TZID:Asia/Tokyo
BEGIN:STANDARD
DTSTART:19700101T000000
TZOFFSETFROM:+0900
TZOFFSETTO:+0900
TZNAME:JST
END:STANDARD
END:VTIMEZONE
BEGIN:VEVENT
UID:814445@techplay.jp
SUMMARY:第1回　CLOTO　プログラミングLTイベント
DTSTART;TZID=Asia/Tokyo:20210515T200000
DTEND;TZID=Asia/Tokyo:20210515T220000
DTSTAMP:20260426T023412Z
CREATED:20210410T142033Z
DESCRIPTION:イベント詳細はこちら\nhttps://techplay.jp/event/81444
 5?utm_medium=referral&utm_source=ics&utm_campaign=ics\n\n御挨拶\nこ
 んにちは！\nCLOTO運営です！\n5月のCLOTO内イベントとし
 てLTイベントを開催します！\nあまり硬いものではなく
 、\n「こんなこと思いついた！」や「こんなもん作っ
 て見ました！」とか「自分のサービスをブラッシュア
 ップしてください！」といったようなレベル感でも構
 いません！もちろん素晴らしいプロダクトのご紹介も
 大歓迎です！幅の広いざっくばらんなLTイベントにな
 ればと思います！\n最近学習されたことや、創ったプ
 ロダクトについてなど、今回は内容はプログラミング
 に関することなら自由で行ってみようと思います！\n
 またこのイベントを通じてユーザーの皆様と交流する
 ことができればと考えております！\nこんな人におす
 すめ！〜登壇者〜\n・初めてLTする人！\n・近日中にプ
 レゼンを控えている人\n・最近おもしろいアイデアを
 考えついた人\n・自分のプロダクトを知って欲しい人\n
 ・最近知ったことがある人\n・プログラミングが好き
 な人\nこんな人におすすめ！〜観覧者〜\n・これからプ
 ログラミング学習に取り組む人\n・色々なアイデアに
 触れたい人\n・学習仲間が欲しい人\n・休憩がてらにの
 ぞいて見たい人\n当日の流れ\n・お申し込みをされまし
 たら、CLOTOのホームページより新規登録の上ご利用く
 ださい。ログインしていただきますと、ヘッダー上に
 「使い方とQ&A」というボタンがございますので、そち
 ら一読の上入室ください。\n開催時間になりましたら
 、運営が、ご利用方法について簡単にアナウンスをさ
 せていただきますのでご不明点などはそちらでお伺い
 いただけますと幸いです。\n今回は「なんでもの間」
 で行います。お時間になったら301号室の自習席（青い
 床）に御着席の上お待ちください。また、掲示板に連
 絡事項をアップしておきますのであらかじめご覧くだ
 さい！\n登壇される方へ\n登壇時間は5分！登壇席では
 ビデオのオン/オフ、音声通話、画面共有が可能です！
 数枚程度のスライドを用いてご自身の関心ごとや伝え
 たいことを発表していただけたらと思います！\nその
 後質疑応答時間を5分程度設けさせていただきます！運
 営が司会を務めておりますので、こちらからも適宜質
 問させていただきます！！\n前日までにLTの題名をこち
 らのGoogleフォームにご記入ください！\n登壇順は運営
 がランダムで設定します‍♂️\n\n\n\n順番\n登壇者\n内
 容\n\n\n\n\n\n\n\n\n\n\n※現在CLOTOはα版につき、認証の関
 連でビデオ、マイクのついたPCでご利用いただく必要
 がございます。登壇中のビデオのオンオフは任意です
 のでご安心ください。また推奨ブラウザはGoogle Chromeで
 す！登壇者様はぜひ19:50~の説明会にご参加ください！\
 n観覧される方へ\n基本的に出入りは自由です。観覧者
 の席からはテキストチャットでリアルタイムで質問や
 感想を共有することができます！\n開催日時・タイム
 テーブル\n2021年5月15日(土)\n\n\n\n時間\n内容\n説明\n\n\n\n
 \n12:00~19:50\n開場\n202で一般開放中\n\n\n19:50~20:00\nCLOTOに
 ついてのご説明\n初めてお越しの方へ 301へお集いくだ
 さい。\n\n\n20:00~20:10\n開会の辞\n開会します。\n\n\n20:10~2
 1:50\nなんでもLT大会！\n発表時間5分＋質疑応答5分です
 ！\n\n\n21:50~22:00\n閉会の辞\n一旦閉会します。\n\n\n22:00~2
 2:30\nもくもく or 交流 or オンライン飲み会\n要は自由時
 間です！\n\n\n22:30~24:00\nサービス開放時間\n学習の継続
 、交流されたい方は継続してご利用いただけます！\n\n
 \n24:00~\nシステムメンテナンス\nサービスを停止します
 。\n\n\n\nイベント終了後\n上のタイムテーブルにも記載
 の通り、イベント終了後は簡単なオンライン交流会な
 どもできればなと思います！
LOCATION:バーチャル学習施設CLOTO オンライン
URL:https://techplay.jp/event/814445?utm_medium=referral&utm_source=ics&utm
 _campaign=ics
END:VEVENT
END:VCALENDAR
