BEGIN:VCALENDAR
VERSION:2.0
PRODID:-//https://techplay.jp//JP
CALSCALE:GREGORIAN
METHOD:PUBLISH
X-WR-CALDESC:はんなりkaggle部 05
X-WR-CALNAME:はんなりkaggle部 05
X-WR-TIMEZONE:Asia/Tokyo
BEGIN:VTIMEZONE
TZID:Asia/Tokyo
BEGIN:STANDARD
DTSTART:19700101T000000
TZOFFSETFROM:+0900
TZOFFSETTO:+0900
TZNAME:JST
END:STANDARD
END:VTIMEZONE
BEGIN:VEVENT
UID:814507@techplay.jp
SUMMARY:はんなりkaggle部 05
DTSTART;TZID=Asia/Tokyo:20210426T210000
DTEND;TZID=Asia/Tokyo:20210426T230000
DTSTAMP:20260420T091300Z
CREATED:20210411T141619Z
DESCRIPTION:イベント詳細はこちら\nhttps://techplay.jp/event/81450
 7?utm_medium=referral&utm_source=ics&utm_campaign=ics\n\nはんなりPyth
 on Kaggle部\nkaggleはデータ分析コンペティションです。  
     \n本イベントは、これまでkaggleに参加したかったけ
 どできてなかった人が、ゆるゆる参加・継続してみる
 ことを目的に開催します。外に出れない期間中に新た
 な技能を身につけましょう！ 基本モクモク会で、LTが
 あればLTを聞くスタイルです。     \nLTは機械学習絡み
 だったら何でもよいです。機械学習コンペに挑戦して
 みた話、これちょっと良いんじゃ見たいなライブラリ
 の紹介もありです。LT枠は質問込みで1人20分までです
 。LT聞かずにモクモク・ワイワイも大歓迎です（今回
 はいくつかのチャンネルに分けてテストしてみます）
 。\nAI人材になりたい方から、AI人材様と話せるように
 なりたい方までドシドシご応募ください。masterな方で
 教えてあげても良いよという方のご参加もお待ちして
 おります。       \n何らかのプログラミング言語が使え
 た方が良いと思いますが、それもチャレンジしたいと
 いう方の参加もウェルカムです。    \n日時\n2021年3月29
 日　21時から23時（2次会あり）\n\nタイムテーブル\n\n\n\
 n時間\nやること\nやる人\n\n\n\n\n21:00\nスタート\n\n\n\n21:0
 5\nアイスブレイク\n\n\n\n21:15\nLT会\n\n\n\n\n「不変情報ク
 ラスタリング（ＩＩＣ）で、MNISTを分類してみた」\n@ma
 lo21stさん\n\n\n22:00\n各自で作業\n\n\n\n23:00\n2次会へ: （は
 んなりPython Discordへ）\n\n\n\n\n勉強会の雰囲気\n参加者
 同士の交流や情報交換がしやすいような雰囲気を作っ
 ています。\n現役のエンジニアや女性エンジニア、プ
 ログラミング学習者など幅広い方々との出会いの場に
 なってほしいです。  \nブログやScrapboxなどのメディア
 で勉強会の様子を記録しているので、ご覧ください！\
 nチャットでオンラインの交流もしています！\nブログ
 ：　https://hannaripython.hatenadiary.com/     \nscrapbox:  https://scr
 apbox.io/hannari-python/\nチャット：https://gitter.im/hannari-python
 /Lobby  \n参加費について\n任意ですが、運営費、Zoomライ
 センス料として利用します。\npaypayで投げ銭受付中で
 す。\nアンチハラスメントポリシー\nPyConJPの行動規範 
 に準拠しています。\nはんなりPythonはみなさんの参加
 で成り立っていますので、いかなる場合であれいやが
 らせ行為は禁止です。\n嫌がらせ行為は、言葉による
 性別、性的指向、障碍の有無、外見、身体の大きさ、
 人種、宗教に関する攻撃的なコメント、公的空間での
 性的な映像表現、意図的な威力行為、ストーキング、
 つきまとい、写真撮影や録音によるいやがらせ、トー
 クやその他の会議イベントに対して繰り返して中断し
 ようとする行為、不適切な身体接触、そして望まれな
 い性的な注意を引きつける行為を含みます。\n参加者
 は、これらのハラスメント行為を止めるように求めら
 れた場合、すぐに従わなければなりません。\nelse\nス
 ポンサー募集中！\nAfter Party\n勉強会後は飲み会はでき
 ませんが、みんなで話し合いましょう！アルコール持
 ち込み可能！
LOCATION:オンライン オンライン
URL:https://techplay.jp/event/814507?utm_medium=referral&utm_source=ics&utm
 _campaign=ics
END:VEVENT
END:VCALENDAR
