BEGIN:VCALENDAR
VERSION:2.0
PRODID:-//https://techplay.jp//JP
CALSCALE:GREGORIAN
METHOD:PUBLISH
X-WR-CALDESC:【PHP中上級者対象】Webセキュリティの大家 徳
 丸浩先生ご登壇！「徳丸浩はいかにしてセキュリティ
 の専門家になったか」 & PHP8技術者認定上級試験 勉強
 法
X-WR-CALNAME:【PHP中上級者対象】Webセキュリティの大家 徳
 丸浩先生ご登壇！「徳丸浩はいかにしてセキュリティ
 の専門家になったか」 & PHP8技術者認定上級試験 勉強
 法
X-WR-TIMEZONE:Asia/Tokyo
BEGIN:VTIMEZONE
TZID:Asia/Tokyo
BEGIN:STANDARD
DTSTART:19700101T000000
TZOFFSETFROM:+0900
TZOFFSETTO:+0900
TZNAME:JST
END:STANDARD
END:VTIMEZONE
BEGIN:VEVENT
UID:814654@techplay.jp
SUMMARY:【PHP中上級者対象】Webセキュリティの大家 徳丸浩
 先生ご登壇！「徳丸浩はいかにしてセキュリティの専
 門家になったか」 & PHP8技術者認定上級試験 勉強法
DTSTART;TZID=Asia/Tokyo:20210427T190000
DTEND;TZID=Asia/Tokyo:20210427T201000
DTSTAMP:20260421T063136Z
CREATED:20210413T060014Z
DESCRIPTION:イベント詳細はこちら\nhttps://techplay.jp/event/81465
 4?utm_medium=referral&utm_source=ics&utm_campaign=ics\n\nPRIME STUDY エ
 ンジニア向けキャリアセミナー\n\n【PHP中上級者対象】
 エンジニア道を究める～Webセキュリティの大家、徳丸
 浩先生ご登壇！「徳丸浩はいかにしてセキュリティの
 専門家になったか」\n\nPHP8上級試験の最新情報とPHP上
 級試験「合格までの勉強法」もお伝えします\n\n今回の
 PRIME STUDYエンジニア向けキャリアセミナーでは、スペ
 シャルゲストとして、日本屈指のWebセキュリティコン
 サルタントであり『体系的に学ぶ 安全なWebアプリケー
 ションの作り方 脆弱性が生まれる原理と対策の実践』
 （SB Creative）の著者として知られる徳丸 浩 先生（EGセ
 キュアソリューションズ株式会社 代表取締役）をお招
 きしています。\n\n徳丸先生には「徳丸先生はいかにし
 て、セキュリティの大家として日本のエンジニアにWeb
 セキュリティを教え導くまでになられたのか」という
 テーマで、徳丸先生が「Webセキュリティ」という専門
 分野を究めるに至るまでの知られざる努力や工夫など
 を、主にPHP中上級エンジニアの皆さまに向けてお話し
 いただきます。\n\nまた今年秋より通年開催が予定され
 ている「PHP8技術者認定上級試験」に向け、PHP技術者認
 定機構代表理事・吉政忠志様からはPHP8技術者認定試験
 のご案内をいただきます。\n\nさらに当社エンジニアで
 PHP5上級試験合格経験をもつ三雲より「PHP8技術者認定
 上級試験」の勉強方法をお伝えいたします。\n\nセミナ
 ー後に当社の「オンライン就職相談」にお申込み・ご
 参加いただきました先着8名の方に、こちらのプレゼン
 トがございます（先着順で1～3のいずれかよりお選び
 いただけます）。\n\n1.徳丸浩先生著『体系的に学ぶ 安
 全なWebアプリケーションの作り方 第2版 脆弱性が生ま
 れる原理と対策の実践』（SB Creative）…3冊\n\n2.吉政忠
 志様著「ITエンジニアのための企画力と企画書の教科
 書」 …2冊\n\n3.PHP技術者認定機構　 「マグカップ」…
 ３個\n\nどうぞ最後までお楽しみください。\n\n【対象
 】PHP中上級エンジニアの皆さま\n\n【主催】プライム・
 ストラテジー株式会社 \n\n【協賛】一般社団法人PHP技
 術者認定機構 \n\n【参加費】無料\n\n【開催日時】４月2
 7日（火） 19時00分～20時10分（開場18時55分）\n途中参加
 ・途中退場可です。お気軽にご参加ください。なお参
 加には事前登録が必要です。\n\n【開催ツール】Zoom\n\n
 【定員】先着50名\n\n【スケジュール / 登壇内容・講師
 紹介】\n1.はじめに（19:00～19:05）\n\n2.PHP8技術者認定上
 級試験 のご紹介（19:05～19:15）\n一般社団法人PHP技術者
 認定機構　代表理事　吉政 忠志 氏\n2021年秋より開始
 予定のPHP8技術者認定上級試験について、最新の情報を
 交えてご紹介いただきます。\n\n3.「PHP8技術者認定上級
 試験」合格までの勉強法（19:15～19:35）\nプライム・ス
 トラテジー株式会社  開発部   三雲 勇二\nIT試験のうち
 でも難関の1つ「PHP5上級試験」（合格率6.4％）に１回
 で合格した経験を持つ当社エンジニアの三雲が、「PHP8
 技術者認定上級試験」の合格に向けた勉強法をお伝え
 します。\n\n4.当社採用とキャンペーンのご案内につい
 て（19:35～19:40）\nプライム・ストラテジー株式会社  
 業務部  人材採用担当リーダー 村上 千以\n当社では世
 界の各事業分野でのハイパーオートメーションを実現
 するため、サーバ自動化とクラウドサービス開発、AI
 開発の中心となる人材を求めています。(当社エンジニ
 ア採用情報サイトをご覧ください)\n今回は当社エンジ
 ニアの在宅勤務の様子をご紹介します。\nまた５月末
 までの在宅勤務応援キャンペーン  についてお知らせ
 します。\n\n5.徳丸浩はいかにしてセキュリティ専門家
 になったか（19:40～20:10）\nEGセキュアソリューション
 ズ株式会社　代表取締役　徳丸 浩 氏\n日本屈指のWebセ
 キュリティコンサルタントであり、『体系的に学ぶ 安
 全なWebアプリケーションの作り方 脆弱性が生まれる原
 理と対策の実践』（SB Creative）の著者として知られる
 徳丸 浩 先生に、徳丸先生が「Webセキュリティ」とい
 う専門分野を究めるに至るまでの知られざる努力や工
 夫などを、主にPHP中上級エンジニアの皆さまに向けて
 お話しいただきます。\n\n5.おわりに（20:10～少々）\n\n
 【番外編】~20:20まで「疑問解決！質問コーナー」\nお
 時間に余裕のある方は、ぜひ登壇者へご自由にご質問
 ください。\n\n※登壇内容は予告なく変更になる可能性
 があります。ご了承ください。
LOCATION:オンライン
URL:https://techplay.jp/event/814654?utm_medium=referral&utm_source=ics&utm
 _campaign=ics
END:VEVENT
END:VCALENDAR
