BEGIN:VCALENDAR
VERSION:2.0
PRODID:-//https://techplay.jp//JP
CALSCALE:GREGORIAN
METHOD:PUBLISH
X-WR-CALDESC:『CROSS Party 公開企画会議 2021』
X-WR-CALNAME:『CROSS Party 公開企画会議 2021』
X-WR-TIMEZONE:Asia/Tokyo
BEGIN:VTIMEZONE
TZID:Asia/Tokyo
BEGIN:STANDARD
DTSTART:19700101T000000
TZOFFSETFROM:+0900
TZOFFSETTO:+0900
TZNAME:JST
END:STANDARD
END:VTIMEZONE
BEGIN:VEVENT
UID:814767@techplay.jp
SUMMARY:『CROSS Party 公開企画会議 2021』
DTSTART;TZID=Asia/Tokyo:20210423T200000
DTEND;TZID=Asia/Tokyo:20210423T210000
DTSTAMP:20260425T131042Z
CREATED:20210414T061356Z
DESCRIPTION:イベント詳細はこちら\nhttps://techplay.jp/event/81476
 7?utm_medium=referral&utm_source=ics&utm_campaign=ics\n\n『CROSS Party 
 公開企画会議 2021』\n概要\n昨年は新型コロナウイルス
 禍で、働き方や暮らしの状況が一変した方が多くいら
 っしゃったかと思います。\n長引く自粛生活において
 、ストレスも感じられていたことと思います。そんな
 中、いかに暮らしを充実させるか悩みながら、\n新し
 い習慣の流入や良い変化があった方もいらっしゃった
 のではないでしょうか。\n昨年のCROSS Partyでは「明日の
 自分を今日変える」をテーマに多種多様なコンテンツ
 をご用意させていただき、\n初めてのオンライン開催
 であったにも関わらず、2033名（Facebook/YouTubeLive）の方
 にご参加いただきました。\nそこで、今年のCROSS Party 
 では、皆様が聞いてみたい、興味があるネタ、など、
 プログラム案を大募集いたします！\n※最近よく聞く
 この技術、皆さんが抱えている課題、話題の人、など
 など気になることがあれば何でも結構です。\n普段は
 エンジニア向けのセッションがメインとはなりますが
 、エンジニア以外の方、例えばデザイナーの方などの
 ご参加も大歓迎です。エンジニアに関すること、エン
 ジニアが興味を持ちそうなこと、学びになることなど
 を様々な観点から議論し、プログラムに採用させてい
 ただきます。皆様からのアイディアをぜひお寄せくだ
 さい～！\n会場\nonline\n※参加申し込みいただいた方に
 別途ご案内させていただきます。\nタイムテーブル\n\n\
 n\n時間\n内容\n\n\n\n\n20:00～20:10\n概要説明＆メンバー紹
 介\n\n\n20:10～20:55\n企画会議スタート！！\n\n\n20:55～21:00
 \nクロージング、告知\n\n\n\n※企画会議の進め方はオン
 ラインホワイトボードツール「miro」を使って企画案を
 出し合っていただきます。\n登壇者\n司会\n\nCROSS実行委
 員長 久保俊平（IBM）\n\n参加対象\n\nITエンジニア、デ
 ザイナーなど、IT業界でお仕事をされている方\n\n参加
 費\n無料\nCROSS とは\nCROSS は 2012年より例年 1000人規模で
 開催されているエンジニア向けの交流の場を提供して
 きました。近年では「興味の外側の自分に会いに行く
 」をコンセプトとし、エンジニアをいう枠を飛び越え
 、様々な職種とのコラボレーションを行うことでIT業
 界の発展に貢献できる場づくりを目指しています。 htt
 ps://www.cross-party.com\n運営支援企業(スタッフ)\n\n日本ア
 イ・ビー・エム株式会社\nさくらインターネット株式
 会社\n富士通クラウドテクノロジーズ株式会社　他\n\n
 一緒に CROSS を作り上げる仲間を募集しています！
LOCATION:オンライン オンライン
URL:https://techplay.jp/event/814767?utm_medium=referral&utm_source=ics&utm
 _campaign=ics
END:VEVENT
END:VCALENDAR
