BEGIN:VCALENDAR
VERSION:2.0
PRODID:-//https://techplay.jp//JP
CALSCALE:GREGORIAN
METHOD:PUBLISH
X-WR-CALDESC:【無料/オンライン・オフライン同時開催】Edge
 AIがアツい！デモ実演Meet-Up
X-WR-CALNAME:【無料/オンライン・オフライン同時開催】Edge
 AIがアツい！デモ実演Meet-Up
X-WR-TIMEZONE:Asia/Tokyo
BEGIN:VTIMEZONE
TZID:Asia/Tokyo
BEGIN:STANDARD
DTSTART:19700101T000000
TZOFFSETFROM:+0900
TZOFFSETTO:+0900
TZNAME:JST
END:STANDARD
END:VTIMEZONE
BEGIN:VEVENT
UID:814978@techplay.jp
SUMMARY:【無料/オンライン・オフライン同時開催】EdgeAIが
 アツい！デモ実演Meet-Up
DTSTART;TZID=Asia/Tokyo:20210430T120000
DTEND;TZID=Asia/Tokyo:20210430T130000
DTSTAMP:20260421T165251Z
CREATED:20210416T043222Z
DESCRIPTION:イベント詳細はこちら\nhttps://techplay.jp/event/81497
 8?utm_medium=referral&utm_source=ics&utm_campaign=ics\n\n※受付は終
 了しました。ご応募ありがとうござました。\n当社の
 自社サービスエッジAIカメラのデモ実演を行います！
 ！\nAvintonジャパンには新しい技術を学ぼうと強い意欲
 を持つひとを歓迎する風土があります。その証明の1つ
 として、ホームページ上で公開するエンジニア教育コ
 ンテンツ「AvintonAcademy」 は、なんと無料で外部公開し
 ております。\nAvintonAcademy以外にも、エンジニアによる
 エンジニアのための技術勉強会や、英語勉強会など学
 ぶ機会は活発にある環境といえます。\nそんな文化か
 ら、現在反響を多くいただいている「EdgeAI」について
 、社外の方にも肌で感じていただく機会をつくりたい
 と考え、企画しました。\nーーーーーーーーーーーー
 ーーーーーーーーーーーーーーーー日時：4月 30日 (金
 曜日)⋅午前12:00～午後1:00\n費用：無料\n開催形式：来
 社（10名限定）、オンライン人数制限無し（GoogleMeet使
 用予定）場所：Avintonジャパン 横浜オフィス\n神奈川県
 横浜市西区花咲町７丁目１５０ ウエインズ＆イッセイ
 横浜ビル 4階（最寄りは横浜市営地下鉄・高島町駅 徒
 歩1分、JR横浜駅 徒歩約10分）\n服装：自由（マスク着
 用をお願いします。当日は入り口で非接触型体温計で
 検温させていただきます）\n当日の流れ：１、代表 中
 瀬よりご挨拶（自社サービス「Edge AI Camera」「Avinton Dat
 a Platform」のご紹介）２、Edge AI Cameraのデモ機実演３、A
 vintonのエンジニア入社後の仕組み・特徴についてご案
 内４、質疑応答５，アンケートーーーーーーーーーー
 ーーーーーーーーーーーーーーーーーー\n登壇者Avinton
 ジャパン株式会社　代表取締役／CEO　中瀬 幸子（なか
 せ・さちこ）\n\n2010年Avintonジャパン創業、現在年商20
 億/30カ国のエンジニア200名が所属\n6ヶ国に通信事業者
 向けデータ分析自社サービスを展開し、近年は日本の
 大手製造業が自社AIソリューションを採用。\nソフトバ
 ンクアカデミア生\n\n企業プロジェクト支援 / 企業講演
 実績Mayaホールディングス様/ノキアソリューションズ&
 ネットワークス合同会社/エリクソンジャパン株式会社
  / 楽天モバイル株式会社 / 株式会社トヨタプロダクシ
 ョンエンジニアリング キリンテクノシステム株式会社
  / 凸版印刷株式会社 /株式会社Fronteo /株式会社カカク
 コム /富士ソフト株式会社 / アクセンチュア株式会社 /
  Sky株式会社 / 日本システムウェア株式会社\n※The event 
 will be conducted in only Japanese language.
LOCATION:Avintonジャパン横浜本社/オンライン同時開催 神奈
 川県横浜市西区花咲町７丁目１５０ ウエインズ＆イッ
 セイ横浜ビル 4階
URL:https://techplay.jp/event/814978?utm_medium=referral&utm_source=ics&utm
 _campaign=ics
END:VEVENT
END:VCALENDAR
