BEGIN:VCALENDAR
VERSION:2.0
PRODID:-//https://techplay.jp//JP
CALSCALE:GREGORIAN
METHOD:PUBLISH
X-WR-CALDESC:「ビジュアルデザイン」で組織の共通認識を
 作った事例とは？
X-WR-CALNAME:「ビジュアルデザイン」で組織の共通認識を
 作った事例とは？
X-WR-TIMEZONE:Asia/Tokyo
BEGIN:VTIMEZONE
TZID:Asia/Tokyo
BEGIN:STANDARD
DTSTART:19700101T000000
TZOFFSETFROM:+0900
TZOFFSETTO:+0900
TZNAME:JST
END:STANDARD
END:VTIMEZONE
BEGIN:VEVENT
UID:815002@techplay.jp
SUMMARY:「ビジュアルデザイン」で組織の共通認識を作っ
 た事例とは？
DTSTART;TZID=Asia/Tokyo:20210422T170000
DTEND;TZID=Asia/Tokyo:20210422T180000
DTSTAMP:20260426T005858Z
CREATED:20210416T061305Z
DESCRIPTION:イベント詳細はこちら\nhttps://techplay.jp/event/81500
 2?utm_medium=referral&utm_source=ics&utm_campaign=ics\n\n\n今回のウ
 ェビナーでは、グッドパッチの「ビジュアル専任パー
 トナーTORO」のビジュアルデザイナーが、「ビジュアル
 デザイン」で組織の共通認識を作った事例をご紹介し
 ます！\n参加者の方から質問をいただきながら行うイ
 ンタラクティブなセッションを考えておりますので、
 是非お気軽にご参加ください！\nイベント概要\nビジュ
 アル専任パートナーTOROとは？\nグッドパッチでは価値
 観やビジョン、文化など、曖昧な共通認識をビジュア
 ライズし、可視化する\n「ビジュアル専任パートナーTO
 RO」の提供を開始しました。\nビジュアルデザインの力
 で組織の共通認識をパートナーの皆さんと一緒に作成
 します。\nメンバー意識のバラつきや、抽象的なビジ
 ョンで、企業文化がしっかり浸透せず、100%のパフォー
 マンスが発揮できない事はありませんか？例えば…\n
 ・組織が急拡大し、会社のビジョンが浸透していなか
 ったり、一人ひとりの捉え方に齟齬が生まれている\n
 ・ビジョンや事業の方向性の言語化はできているが、
 メンバー一人ひとりのイメージがバラバラなので擦り
 合わせに時間がかかる\n・会社の戦略が現場まで浸透
 しておらず、現場がやらされ仕事になりメンバーのモ
 チベーションが落ちている\n　\n共通認識の浸透は社員
 の士気を高めるだけではなく、組織の成長と業績に大
 きく影響します。TOROは、目の前のタスクを取り組む前
 に組織として大切にしている想いや目指す方向性に共
 感してもらう事で、進むべき道を明確にし、より大き
 な成果に向けてアシストします。\nTOROができること\n
 各メンバーの意識下にある思考のビジュアル化を行い
 ます。\n・ビジョンとミッションに基づいたバリュー
 の浸透\n・組織メンバーが考えていること、感じてい
 ることのヒアリング\n・共通認識（行動指針やVMV）が
 浸透していない場合に共通認識の解釈を広げることで
 納得するポイントの提案\n\n こんな方におすすめ！\nプ
 ロジェクト初期段階に携わる新規事業開発担当者、プ
 ロダクトマネージャーなどが持つ下記のような課題を
 解決したい方におすすめです。\n・目指す組織のビジ
 ョンが伝わっておらず、メンバー一人一人の頭の中の
 イメージがバラバラ\n・会社の戦略をストーリーで説
 明したい\n・言葉だけでの説得では時間がかかる\n・イ
 メージにあったビジュアルがそもそも分からない\n・
 委託ではなく一緒にビジュアルを考えてくれる人を探
 している\n 日時\n2021年4月22日 (木) 17:00～18:00（開場： 1
 6:55）\n 会場・申し込み方法\nオンライン（Zoom）\n※当
 日はZoomでのオンライン配信を予定しております。\n　C
 onnpass上でお申し込みいただいても下記のZoomに直接参
 加登録いただいても構いません。\n　当日のご案内メ
 ールが届かない方はお手数ですが (kazuumi.gotoh@goodpatch.co
 m) までご連絡ください。\n　\nこちらの参加申し込みフ
 ォームよりお申込みください\n https://goodpatch.zoom.us/webin
 ar/register/WN_Ee0V2VhBSoWqc3dn-kwy5Q\n　\n 登壇者紹介\n\n山木 
 拓実｜グッドパッチ Design Lead／TORO責任者\n広告代理店
 、フリーランスを経て2009年に株式会社コロプラに入社
 。主にアートディレクションを始めとして、色々なゲ
 ームの立ち上げや運営を担当。\n2018年に退職後、ドロ
 ーンファンド株式会社が発信する2020年代のドローン前
 提社会実現プロジェクトに参加。ビジュアル部分担当
 。\n2018年11月グッドパッチに入社。いくつかのスプリ
 ントを担当し、現在はリードデザイナーとしてメンバ
 ーのスキルとクオリティアップ、マネージメントを担
 当。\n一児の父で猫が一匹。今は酒とロードバイクが
 好き。\n　\n高城栄一朗｜グッドパッチ Design Strategist\n
 前職ではデザインシンキングを使ったインキュベーシ
 ョン業務に従事。全国で組織開発や新規事業創造支援
 のためのワークショップの設計・実施をおこなう。\n
 現在はデザインの力を様々な領域に浸透させるべく、
 デザイン型事業戦略の立案をメイン業務としながら、
 ワークショップの設計やファシリテーションを行う。\
 n　\n石黒 澪｜グッドパッチ UI Designer\nグッドパッチで
 は「出前館」やサントリー食品インターナショナルの
 「サントリープラス 」の新規事業立ち上げからグロー
 スに携わる。　\n社内の組織バリュー浸透施策のクリ
 エイティブを担当。サントリープラスで2020年度グッド
 デザイン賞を受賞。\n「心を動かす」デザインを作る
 ことをモットーに、ロジックとエモーションを共存さ
 せたデザインを日々模索中。\n　\n中田 彩｜グッドパ
 ッチ UI Designer\n2011年 東京藝術大学 デザイン科卒。デ
 ジタルクリエイティブの制作会社AID-DCC.incに入社。　\n
 デザイナー/アートディレクターとしてキャンペーン、
 ブランド、ECなどのWeb制作を行う。2019年12月よりグッ
 ドパッチにジョインし、UI Designerとしてクライアント
 ワークに従事。\nD&AD Awards Wood Pencil、ADFEST ブロンズ受
 賞。\n　\n 企業紹介\n株式会社グッドパッチ\n\nグッド
 パッチは、東京、ベルリン、ミュンヘンにオフィスを
 構えるデザインの力でビジネスを前進させるグローバ
 ルデザインカンパニーです。\nデザインパートナー事
 業では、新規事業の立ち上げ、既存事業のリニューア
 ル、企業のデザイン戦略立案、デザイン組織構築支援
 などを行い、大企業からスタートアップまで企業が持
 つビジネス課題をデザインで解決しています。デザイ
 ンプラットフォーム事業では、プロトタイピングツー
 ル「 Prott」、デザイナー特化型キャリア支援サービス
 「ReDesigner」、フルリモートデザイン組織「Goodpatch Anywh
 ere」、クラウド型ワークスペース「Strap」を提供しデ
 ザインの価値向上を目指しています。\n　\n✍ 注意事
 項\n（情報の利用について）\n本サイト、Zoom及びGoogle
 フォームにご入力いただいた個人情報は、株式会社グ
 ッドパッチ プライバシーポリシー に基づき取り扱い
 ます。\n株式会社グッドパッチは、「プライバシーポ
 リシー」に則り、ご記入、登録頂いた個人情報を厳正
 かつ適切に管理・保護・維持します。「このイベント
 に申し込む」を押下した段階で、以下の個人情報の取
 り扱いについて同意したものとします。\nプライバシ
 ーポリシー：https://goodpatch.com/privacy-policy\n（利用目的
 ）\n* 本セミナー受付手続き。\n* 本セミナーの統計・
 分析処理および今後のセミナー業務改善に利用。\n* 本
 セミナー要望事項等について、弊社の担当からのメー
 ル、送付物またはお電話でのご案内に利用。\n（利用
 範囲）\n上記利用目的の範囲内で、お預かりした情報
 を利用させていただきます。\n（外部委託について）\n
 外部委託の予定はありません。\n（個人情報提供の任
 意性）\n 個人情報欄にご記入がない場合は、利用目的
 に記載したサービスのご提供を控えさせていただきま
 す。\n（開示請求またはお問い合わせ）\n 本セミナー
 でご提供いただいたお客様ご自身の個人情報に関する
 確認、開示等のご請求またはお問い合わせにつきまし
 ては、下記セミナー事務局までお問い合わせください
 。\n(本セミナーの個人情報に関するお問い合わせ先)\n
 株式会社グッドパッチ\nセミナー事務局　後藤\nE-mail：
 kazuumi.gotoh@goodpatch.com 
LOCATION:オンライン オンライン
URL:https://techplay.jp/event/815002?utm_medium=referral&utm_source=ics&utm
 _campaign=ics
END:VEVENT
END:VCALENDAR
