BEGIN:VCALENDAR
VERSION:2.0
PRODID:-//https://techplay.jp//JP
CALSCALE:GREGORIAN
METHOD:PUBLISH
X-WR-CALDESC:第36回 オンライン味見会（その14） : BiometricPro
 mpt
X-WR-CALNAME:第36回 オンライン味見会（その14） : BiometricPro
 mpt
X-WR-TIMEZONE:Asia/Tokyo
BEGIN:VTIMEZONE
TZID:Asia/Tokyo
BEGIN:STANDARD
DTSTART:19700101T000000
TZOFFSETFROM:+0900
TZOFFSETTO:+0900
TZNAME:JST
END:STANDARD
END:VTIMEZONE
BEGIN:VEVENT
UID:815006@techplay.jp
SUMMARY:第36回 オンライン味見会（その14） : BiometricPrompt
DTSTART;TZID=Asia/Tokyo:20210423T080000
DTEND;TZID=Asia/Tokyo:20210423T090000
DTSTAMP:20260424T142109Z
CREATED:20210416T061405Z
DESCRIPTION:イベント詳細はこちら\nhttps://techplay.jp/event/81500
 6?utm_medium=referral&utm_source=ics&utm_campaign=ics\n\n毎回ライブ
 ラリやサービスを1つ取り上げて味見する味見会（オン
 ライン）を開催します。\nしばらく金曜日の朝8時〜9時
 で行います。\n今回は BiometricPrompt (https://developer.android.
 com/training/sign-in/biometric-auth)  をやります。 \nBiometricPromp
 t を使うと自分のアプリに指紋認証を使った機能など
 を実装できます。\n当日のハングアウトへの参加方法
 は参加者のみ見えるところに書いてあります。\n必要
 な物\nAndroid Studio がインストールされたPC\n事前準備\n\n
 Android Studio をインストール　https://developer.android.com/stud
 io/\n\ndroid girls とは？\ndroid girls はAndroid開発に興味があ
 る女性のためのコミュニティです。 毎月Androidの特定
 の機能やライブラリを取り上げて実際に使ってみるmeet
 upを開催していく予定です。 業務でAndroid開発をしてい
 る方、フリーランスの方、個人でAndroidアプリを開発し
 ている方、Android開発について情報共有しましょう。 
 スタッフも随時募集中です！お気軽にイベントでスタ
 ッフにお声がけください。
LOCATION:オンライン
URL:https://techplay.jp/event/815006?utm_medium=referral&utm_source=ics&utm
 _campaign=ics
END:VEVENT
END:VCALENDAR
