BEGIN:VCALENDAR
VERSION:2.0
PRODID:-//https://techplay.jp//JP
CALSCALE:GREGORIAN
METHOD:PUBLISH
X-WR-CALDESC:オンライン講座４：良い悪いが比べてわかる
 ！使いやすいナビゲーション
X-WR-CALNAME:オンライン講座４：良い悪いが比べてわかる
 ！使いやすいナビゲーション
X-WR-TIMEZONE:Asia/Tokyo
BEGIN:VTIMEZONE
TZID:Asia/Tokyo
BEGIN:STANDARD
DTSTART:19700101T000000
TZOFFSETFROM:+0900
TZOFFSETTO:+0900
TZNAME:JST
END:STANDARD
END:VTIMEZONE
BEGIN:VEVENT
UID:815012@techplay.jp
SUMMARY:オンライン講座４：良い悪いが比べてわかる！使
 いやすいナビゲーション
DTSTART;TZID=Asia/Tokyo:20210501T170000
DTEND;TZID=Asia/Tokyo:20210501T183000
DTSTAMP:20260425T164158Z
CREATED:20210416T062041Z
DESCRIPTION:イベント詳細はこちら\nhttps://techplay.jp/event/81501
 2?utm_medium=referral&utm_source=ics&utm_campaign=ics\n\n大好評書籍
 「だから、そのデザインはダメなんだ。」の著者が、
 書籍には未掲載の最新ノウハウも交えて、「使いやす
 い・分かりやすいWEBデザイン」のためのプロでも知り
 たいテクニックや知識をご紹介します！\n著名サイト
 で表現されているデザインやインタフェースは参考事
 例として注目を集めますが、そのユーザビリティ性能
 を分析していくと、実はユーザーにとっては使いにく
 い理由が、数多く浮かび上がってきます！\nこの講座
 では、オンライン講座１〜３で学習した知識を踏まえ
 て、実在する著名サイトのWEBデザインを例に、具体的
 にどこが良くてどこが悪いかを解説。\nデザインバラ
 ンスが良いとか、社内やクライアントに評判が良いな
 どの表面的な評価では語られない、ほんとうに必要な
 ユーザー視点に立ったUIデザインが実現するべき性能
 とは何かを理解できます。\nサンプル動画\n｢カルーセ
 ルパネル｣の勘違いと直感性を失う現実\n講義内容\n◎
 トップページに求められる本当の役割\n◎｢カルーセ
 ルパネルの常識｣と実際の直感性\n◎グローバルナビ
 ゲーションに求められる｢直感的接続性｣\n◎ナビゲ
 ーションメニューのトレンド\n◎ナビゲーションの現
 在位置表示と訪問済み表示\n▼こんな方におすすめ\nWeb
 制作初心者だけでなく、本当にユーザーの役に立つWEB
 デザインを修得したい実務経験者にも最適です。\n* UI
 デザインに関わっている人（ディレクター、デザイナ
 ー、広報担当など）\n* もっと効率的で評価されるUIデ
 ザインを勉強したい方\n* WEBサイトやUIデザインについ
 て役立つ情報がほしい方\nなど、今までのWEBに対する
 知識や技量をもっと高めたいという方々にお奨めです
 。\n▼参加方法\nオンライン配信する講座の参加申し込
 みになります。\n「zoom」というオンライン会議用アプ
 リを利用します。\nお持ちのインターネットに接続で
 きるパソコンやスマホ・タブレットでご参加ください
 。\n「zoom」がはじめてという方は、[「zoomって何？参
 加するには、どうすればいいの？」](https://zoomy.info/manu
 als/what_is_zoom/)というページが参考になりますのでご覧
 下さい。\n▼事前準備・ご注意\n後日、講師よりグルー
 プメッセージ（メッセージ）にて講座の参加用URLが送
 られる\nzoomがはじめての方は、お送りしたオンライン
 接続URLをクリックし、画面の手順に沿ってzoomアプリを
 インストールしておいてください。\n※オンライン開
 催時のみ、ドキュメントのPDF（4面付け）の配布を行い
 ます。\n※音声等が途切れたりする場合があります。\n
 ※この講座は、受講内容の理解をより深める目的で、\
 n　講師が受講生と一部会話しながら進めて行く部分が
 あります。\n　話しかけられることが苦手な方は事前
 にお申し出ください。\n※ご質問は随時受け付けます
 が、ご自身の業務に関わる質問の場合、他の受講者に
 配慮してお応えできない場合があります。\n▼その他
 の講座も、多数受講することができます。\nUIデザイン
 各講座の詳細は下記をご覧ください。\nhttps://continue.con
 npass.com
LOCATION:オンライン オンライン
URL:https://techplay.jp/event/815012?utm_medium=referral&utm_source=ics&utm
 _campaign=ics
END:VEVENT
END:VCALENDAR
