BEGIN:VCALENDAR
VERSION:2.0
PRODID:-//https://techplay.jp//JP
CALSCALE:GREGORIAN
METHOD:PUBLISH
X-WR-CALDESC:【オンライン参加も可能】休日ゆったり「行
 列プログラマー」
X-WR-CALNAME:【オンライン参加も可能】休日ゆったり「行
 列プログラマー」
X-WR-TIMEZONE:Asia/Tokyo
BEGIN:VTIMEZONE
TZID:Asia/Tokyo
BEGIN:STANDARD
DTSTART:19700101T000000
TZOFFSETFROM:+0900
TZOFFSETTO:+0900
TZNAME:JST
END:STANDARD
END:VTIMEZONE
BEGIN:VEVENT
UID:815132@techplay.jp
SUMMARY:【オンライン参加も可能】休日ゆったり「行列プ
 ログラマー」
DTSTART;TZID=Asia/Tokyo:20210508T143000
DTEND;TZID=Asia/Tokyo:20210508T160000
DTSTAMP:20260425T033425Z
CREATED:20210417T142153Z
DESCRIPTION:イベント詳細はこちら\nhttps://techplay.jp/event/81513
 2?utm_medium=referral&utm_source=ics&utm_campaign=ics\n\nコロナ対策
 については「参加者への情報」のご一読をよろしくお
 願いいたします。\n\n\n\n内容概要\n休日に肩の力を抜い
 てゆったりと行列プログラマーを勉強していきます。\
 n\n今回はオフラインとオンラインの両方で開催します
 。\nオンライン参加の方は「参加者への情報」に記載
 されたGoogle MeetsのURLから参加してください。\nタイム
 スケジュール\n\n\n\n時間\n内容\n担当\n\n\n\n\n14:30 ~\n開場
 \n\n\n\n14:40 ~\nオンライン開場\n\n\n\n14:45 ~\n輪読開始1章 
 体2章 ベクトル\nKengoTobitaKeiichiOkubo\n\n\n15:45 ~\n輪読会終
 了 & オンライン閉場\n\n\n\n~ 16:00\n閉場\n\n\n\n\n開催日程\
 n\n\n\n日時\n内容\n\n\n\n\n5/8(土) 14:30 ~ 16:00\n1章 体 & 2章ベ
 クトル\n\n\n5/15(土) 14:30 ~ 16:00\n3章 ベクトル空間\n\n\n\n
 会場\n水道橋駅、神保町駅、九段下駅周辺\n千代田区西
 神田2-7-14 YS西神田ビル2F\n当日までの準備\n特にありま
 せんが、参考書籍や関連資料に目を通していただける
 と助かります。\n費用\n1000円\n・領収書発行の際は事務
 手数料として追加1\,000円のお支払いをよろしくお願い
 いたします\n定員\nオフライン: ３名（密集しないよう
 に席配置を行うために3名としました）\nオンライン: 
 特になし\nご参加にあたってのお願い\nオフラインの方
 は、キャンセルの際は当日でも構わないのでキャンセ
 ル対応だけよろしくお願いいたします。\n使用する教
 材\n行列プログラマー ――Pythonプログラムで学ぶ線形
 代数\n\n本書では数学的概念を実装するプログラムで実
 際に問題を解決しながら、その応用法を探求します。
 具体的には、図形変換、顔検出、画像圧縮、画像補正
 、ページランク、機械学習、暗号と秘密共有などの例
 を使い、ベクトルと行列、それらを動かすアルゴリズ
 ムについて学びます。対象は、プログラマーおよび具
 体計算を通じて線形代数を学びたい学生。厳密な証明
 が目的ではないので数学に詳しくなくてもかまいませ
 ん。Python 3プログラムを用いることで図やグラフから
 ベクトルと線形変換を視覚的にとらえることができる
 ため読者はイメージをつかみやすいでしょう。章末の
 問題を解くことで自分がその章で何を学んだのか、ま
 た自分の理解度を確認できます。(O'Reilly Japan\, Inc. 書
 籍紹介より抜粋)\n\n\n\nまた、輪読会を進めるにあたり
 、こちらのサイトにあるスライドを適宜使用していき
 ます。\nhttps://codingthematrix.com/
LOCATION:オンライン
URL:https://techplay.jp/event/815132?utm_medium=referral&utm_source=ics&utm
 _campaign=ics
END:VEVENT
END:VCALENDAR
