BEGIN:VCALENDAR
VERSION:2.0
PRODID:-//https://techplay.jp//JP
CALSCALE:GREGORIAN
METHOD:PUBLISH
X-WR-CALDESC:なぜファイルサーバはクラウドサービスがお
 すすめなのか？～オンプレと比較しながら選定のコツ
 をご紹介～
X-WR-CALNAME:なぜファイルサーバはクラウドサービスがお
 すすめなのか？～オンプレと比較しながら選定のコツ
 をご紹介～
X-WR-TIMEZONE:Asia/Tokyo
BEGIN:VTIMEZONE
TZID:Asia/Tokyo
BEGIN:STANDARD
DTSTART:19700101T000000
TZOFFSETFROM:+0900
TZOFFSETTO:+0900
TZNAME:JST
END:STANDARD
END:VTIMEZONE
BEGIN:VEVENT
UID:815195@techplay.jp
SUMMARY:なぜファイルサーバはクラウドサービスがおすす
 めなのか？～オンプレと比較しながら選定のコツをご
 紹介～
DTSTART;TZID=Asia/Tokyo:20210511T140000
DTEND;TZID=Asia/Tokyo:20210511T144000
DTSTAMP:20260424T121129Z
CREATED:20210418T235706Z
DESCRIPTION:イベント詳細はこちら\nhttps://techplay.jp/event/81519
 5?utm_medium=referral&utm_source=ics&utm_campaign=ics\n\nこんな方に
 オススメ\n\n社内ファイルサーバをクラウド化させたい
 方\nファイルサーバの運用負荷を低減させたい方\nファ
 イルサーバの利便性やセキュリティを高めることを検
 討している方\nテレワークでもファイルサーバにアク
 セスして利用したい方\n\nこのセミナーでわかること\n\
 nオンプレミスとIaaSとSaaSにおける機能や価格の違い\nSa
 aS同士の機能や価格の違い\nファイルサーバをクラウド
 に移行した企業の事例\nセキュアSAMBAを選定する理由\n\
 nセミナー概要\nみなさんの会社のファイルサーバは、
 オンプレミスでしょうか、もしくは既にクラウドサー
 ビスでしょうか。クラウドサービスは大容量のファイ
 ルをリアルタイムに共有保存しながら、サーバの管理
 に手間がなく、近年急速に導入が進んでいます。オン
 プレミスは「手元にある」という不確かな安心感だけ
 で、隠れているリスクも多くあります。\n本セミナー
 では、なぜファイルサーバはオンプレミスやIaaSよりも
 クラウドが良いのか、SaaSでもどの点を注意してサービ
 ス選定すべきか、比較をしながら、ファイルサーバ選
 定のコツをお伝えいたします。\n講師紹介\nスターティ
 アレイズ株式会社クラウドストレージ部　シニアマネ
 ージャー吉田 幸平 氏■経歴2007年、スターティアにネ
 ットワークソリューション営業として入社。東京、大
 阪、名古屋にてSI案件やSMB商材販売に従事し、2016年名
 古屋支店の支店長に就任。2017年スターティアレイズの
 前身である事業戦略本部にて、セキュアSAMBAの営業責
 任者に就任し、現在営業企画、提携、チームマネジメ
 ント全般を担当。\nセミナー詳細\n\n\n\n\n\n\n\n\n\nタイト
 ル\nなぜファイルサーバはクラウドサービスがおすす
 めなのか？～オンプレと比較しながら選定のコツをご
 紹介～\n\n\n日時\n2021年5月11日(火)14:00~14:40\n\n\n会場\nオ
 ンライン\n\n\n受講料\n無料\n\n\n主催\nスターティアレイ
 ズ株式会社\n\n\n\n・お申込みいただいた際に、Zoom登録
 用URLをご登録いただいたメールアドレスに送付致しま
 す。・セミナー当日のご参加も可能です。・プログラ
 ムは、都合により予告無く変更する場合がございます
 。・ユーザー企業様向けのセミナーの為、同業者様の
 ご参加はお断りさせていただく場合がございます。\n
 セミナープログラム\n\n\n\n\n\n\n\n\n\n14:00\n開始\n\n\n14:00~1
 4:25\nなぜファイルサーバはクラウドサービスがおすす
 めなのか？～オンプレと比較しながら選定のコツをご
 紹介～\n\n\n14:25~14:35\n質疑応答\n\n\n14:35~14:40\nアンケー
 ト・終了\n\n\n
LOCATION:オンライン
URL:https://techplay.jp/event/815195?utm_medium=referral&utm_source=ics&utm
 _campaign=ics
END:VEVENT
END:VCALENDAR
