BEGIN:VCALENDAR
VERSION:2.0
PRODID:-//https://techplay.jp//JP
CALSCALE:GREGORIAN
METHOD:PUBLISH
X-WR-CALDESC:【増枠】Ltech#16 LIFULL HOME'S におけるエンジニア
 ×マーケティングテクノロジー
X-WR-CALNAME:【増枠】Ltech#16 LIFULL HOME'S におけるエンジニア
 ×マーケティングテクノロジー
X-WR-TIMEZONE:Asia/Tokyo
BEGIN:VTIMEZONE
TZID:Asia/Tokyo
BEGIN:STANDARD
DTSTART:19700101T000000
TZOFFSETFROM:+0900
TZOFFSETTO:+0900
TZNAME:JST
END:STANDARD
END:VTIMEZONE
BEGIN:VEVENT
UID:815224@techplay.jp
SUMMARY:【増枠】Ltech#16 LIFULL HOME'S におけるエンジニア×マ
 ーケティングテクノロジー
DTSTART;TZID=Asia/Tokyo:20210513T190000
DTEND;TZID=Asia/Tokyo:20210513T201000
DTSTAMP:20260420T222725Z
CREATED:20210419T062132Z
DESCRIPTION:イベント詳細はこちら\nhttps://techplay.jp/event/81522
 4?utm_medium=referral&utm_source=ics&utm_campaign=ics\n\n5/13(木) 好評
 につき、45名まで増枠しました！\n5/13(木) 好評につき
 定員に達したため、40名まで再増枠しました！\n5/10(月)
  好評につき定員に達したため、35名まで増枠しました
 ！\n◆イベント概要\n今回の Ltech のテーマはエンジニ
 ア×マーケティングについてです！\n日本最大級の不動
 産・住宅情報サイト「LIFULL HOME'S（ライフル ホームズ
 ）」の開発を担当する「マーケティングテクノロジー
 エンジニア」は、マーケティングテクノロジーとエン
 ジニアリングを組み合わせることで、業務効率やサー
 ビス価値を向上する精鋭部隊です。\n今回のイベント
 では、LIFULL の「マーケティングテクノロジーエンジニ
 ア」という職種のご紹介から、マーケティングテクノ
 ロジースキルをエンジニアが実際の業務でどのように
 発揮していくかをお伝えします！\nLIFULL HOME'Sとは？\n
 「住む」ことに発見と喜びを。\nLIFULL HOME'Sは、ご利用
 者さまが最上の住まいに出逢えるよう、最大の不動産
 ・住宅情報と、最良の情報品質、\n最適な手法によっ
 て住まい探しをお手伝いする、不動産・住宅情報の総
 合サービスです！\nこんな人におすすめ\n\nエンジニア
 リングを勉強しているマーケター\nマーケティングを
 勉強しているエンジニア\nジェネラリスト志向のエン
 ジニア\n\nもちろん、興味がある方はどなたでも大歓迎
 です！\nセッション\nエンジニア × マーケティングテ
 クノロジーが必要な理由\nサービスを成長させていく
 上でエンジニアにもマーケティングテクノロジースキ
 ルが求められています。エンジニアがWebマーケティン
 グだけでなくCRMを理解することで、スムーズなリレー
 ションシップの構築を期待できます。今回はマーケテ
 ィングテクノロジーエンジニアに求められるスキルと
 その重要性についてお話しします。\nスピーカー：寒
 川 明好\n2010年にLIFULLに入社。Webアプリ、iOS・Androidア
 プリ、Salesforceの開発に従事した後、現在はLINEを中心
 としたオムニチャネル戦略を推進するマーケティング
 テクノロジーエンジニアの技術マネージャーを担当し
 ています。\n実践マーケティングテクノロジーエンジ
 ニア\nマーケティングテクノロジーエンジニアとして
 行った業務を実際の例をお見せしながら紹介します。 
 課題の発見から解決するためのプロジェクト内での動
 きやTableauを利用しデータを分析・可視化までの道のり
 をお話しいたします。\nスピーカー：孫 恩熙\n2019年6月
 LIFULL入社。韓国出身。前職はSEで事業主別カスタム式CR
 Mの開発や顔認証システムのAPIサーバーの開発に従事。
  LIFULLでは主にLINEを利用してユーザにホームズからの
 情報やサービスを提供する開発やユーザの行動を分析
 する業務に取り組んでいる。\n◆開催概要\n\n日程：2020
 /05/13(木)　18:50 開場　19:00 開始\n場所：オンライン（Zoo
 mウェビナー、URLは参加者に共有いたします。）\n\n◆
 タイムテーブル\n\n\n\n時間\nタイトル\n\n\n\n\n18:50 -\n開
 場\n\n\n19:00 - 19:10\nご挨拶・ご案内\n\n\n19:10 - 19:30\n「エ
 ンジニア × マーケティングテクノロジーが必要な理由
 」\n\n\n19:30 - 19:50\n実践マーケティングテクノロジーエ
 ンジニア\n\n\n19:50 - 20:10\nフリートーク＆質問コーナー\
 n\n\n20:10\n閉会\n\n\n\n◆Ltechってなに？\n株式会社LIFULL主
 催の、技術（エンジニアリング・テクノロジー）をテ
 ーマにしたイベントの総称です。\n特定の技術に偏ら
 ず、様々な技術をピックアップしていきます。\n◆LIFUL
 Lとは？\n不動産・住宅情報サイト「LIFULL HOME’S（ライ
 フル ホームズ）」の開発運営をはじめ、様々な暮らし
 や生活の課題を解決する事業をおこなっています。\n
 ◆Ltech イベント行動規範\nLIFULLが主催する「Ltech」のイ
 ベント行動規範は、イベントに関わる全ての人にとっ
 て安心安全で有意義なイベント体験を提供するための
 ものです。\nこれはイベントに関わる全ての人に適応
 されるものです。\n\nあらゆるハラスメントを認めない
 \n人への危害や物の損壊、危険行為や危険物の持ち込
 みを認めない\nイベントの趣旨や目的と反することは
 しない\n上記の行動規約違反を見聞きした場合、即座
 にLtechイベントスタッフに知らせる\n\nこの行動規範に
 違反する行為を発見した場合、即座に中止するよう求
 めます。\n場合によっては、イベントからの退席や今
 後のイベント参加への禁止等を求めることがあります
 。\n◆その他\n\nZoomURLは参加者にconnpassからのメッセー
 ジとして共有させていただきます。\nイベント趣旨に
 そぐわないと判断した方がいらっしゃる場合、事前、
 当日関係なく参加をご遠慮いただくことがあります。\
 nその他、ご不明な点がございましたら本ページからお
 気軽にお問合せください。\n
LOCATION:オンライン オンライン
URL:https://techplay.jp/event/815224?utm_medium=referral&utm_source=ics&utm
 _campaign=ics
END:VEVENT
END:VCALENDAR
