BEGIN:VCALENDAR
VERSION:2.0
PRODID:-//https://techplay.jp//JP
CALSCALE:GREGORIAN
METHOD:PUBLISH
X-WR-CALDESC:SORACOM UG ✕ JAWS-UG関西IoT専門支部「スマホで顔
 認証ハンズオン」
X-WR-CALNAME:SORACOM UG ✕ JAWS-UG関西IoT専門支部「スマホで顔
 認証ハンズオン」
X-WR-TIMEZONE:Asia/Tokyo
BEGIN:VTIMEZONE
TZID:Asia/Tokyo
BEGIN:STANDARD
DTSTART:19700101T000000
TZOFFSETFROM:+0900
TZOFFSETTO:+0900
TZNAME:JST
END:STANDARD
END:VTIMEZONE
BEGIN:VEVENT
UID:815254@techplay.jp
SUMMARY:SORACOM UG ✕ JAWS-UG関西IoT専門支部「スマホで顔認証
 ハンズオン」
DTSTART;TZID=Asia/Tokyo:20210515T130000
DTEND;TZID=Asia/Tokyo:20210515T160000
DTSTAMP:20260424T011319Z
CREATED:20210419T140021Z
DESCRIPTION:イベント詳細はこちら\nhttps://techplay.jp/event/81525
 4?utm_medium=referral&utm_source=ics&utm_campaign=ics\n\nJAWS-UG関西IoT
 専門支部re:Boot!\n\nオフラインイベントが開催できなく
 なってから、長らく関西IoT専門支部のイベントが開催
 できておりませんでしたが、re:Bootします！！コロナ渦
 にあってはオフライン開催は難しく、またデバイスが
 必要なハンズオンをオンラインで開催することもでき
 ずにおりました。オンラインでハンズオンを開催する
 なにか良い方法はないかと模索する中で、皆さんのお
 手元にあるスマホを使ったハンズオンを思い立ち、SORA
 COM + Amazon Rekognitionでスマホ用顔認証アプリを開発する
 コンテンツが出来上がりました。先立って2月13日にSORA
 COM UG単独で開催したハンズオンイベントではでは多く
 の方に完走いただくことができましたので、内容その
 ままでJAWS-UG共催とし、第2弾を開催します！\n\n申し込
 み\n\nできるだけSORACOM UGのconnpassで申し込んでください
 \n\nhttps://soracomug-tokyo.connpass.com/event/211045/\nDoorkeeperにし
 かアカウントがない方は、本ページでお申し込みいた
 だいても結構です。\n\nハンズオン「スマホ上のWebアプ
 リでAWSの顔認証サービスを利用する」\n\n対象\n\n\nSORACO
 M／AWSコンソールの操作ができる中・上級者\nUNIX系コマ
 ンドラインの基本的な作法が理解できている\nSIMフリ
 ースマホをもっており、事前にSORACOM Air SIMのセットア
 ップができる\n\n\nハンズオン内容\n\nスマホ上のWebアプ
 リ(SPA)から顔写真を撮影し、事前にAmazon Rekognitionに登
 録したコレクション写真との一致度合いを表示します
 。SORACOM Air メタデータサービス機能を利用しますのでS
 IM必須です(Wi-Fiでは動きません)。\nコンテンツはこち
 ら。\n\n用意するもの\n\n\nChromeが動作するPC(開発環境は
 Cloud 9を利用します)\nSIMフリースマホ\nスマホに挿さる
 サイズのSORACOM Air SIM(種別は不問)Amazonで買えます\nSIMの
 設定変更権限のあるSORACOMアカウント\nAdmin権限のあるAW
 Sアカウント\n\n\n事前準備\n\nイベント開始までに、ス
 マホにSORACOM Air SIMを挿してセットアップし、ネット接
 続できることを確認しておいてください。iOS端末の場
 合、既存のプロファイルがあれば削除し、SORACOMのプロ
 ファイルをインストールする必要があります。\nSORACOM 
 Air for セルラーの利用方法（個人・法人）\n\nスマホの
 セットアップをサポートします\n\n当日、ハンズオン開
 始前に雑談&スマホセットアップタイムを設けます。セ
 ットアップに自身のない方はご活用ください。\n※SIM
 フリーかどうかは必ず事前にご確認ください\n\nタイム
 テーブル\n\nZoomのURLは本ページで告知します(参加者の
 みに表示)。\n\n\n\n時間\nタイトル\nスピーカー\n\n\n\n12:2
 5\nZoom開場\n-\n\n\n12:30\n雑談&スマホセットアップタイム\
 n-\n\n\n13:00\nオープニング\n運営メンバ\n\n\n13:05\nSORACOM Ai
 r メタデータサービス機能とは\nソラコム max\n\n\n13:15\n
 ハンズオン説明\nIoT.kyoto 辻一郎\n\n\n13:30\nハンズオンコ
 ンテンツはこちら\n-\n\n\n15:30\n雑談タイム(各自おやつ
 と飲み物のご用意を！)\nみなさま\n\n\n15:50\nクロージン
 グ・Zoom上で記念撮影\n運営メンバ\n\n
LOCATION:オンライン
URL:https://techplay.jp/event/815254?utm_medium=referral&utm_source=ics&utm
 _campaign=ics
END:VEVENT
END:VCALENDAR
