BEGIN:VCALENDAR
VERSION:2.0
PRODID:-//https://techplay.jp//JP
CALSCALE:GREGORIAN
METHOD:PUBLISH
X-WR-CALDESC:「量子コンピュータによる機械学習」読書会 1
 0
X-WR-CALNAME:「量子コンピュータによる機械学習」読書会 1
 0
X-WR-TIMEZONE:Asia/Tokyo
BEGIN:VTIMEZONE
TZID:Asia/Tokyo
BEGIN:STANDARD
DTSTART:19700101T000000
TZOFFSETFROM:+0900
TZOFFSETTO:+0900
TZNAME:JST
END:STANDARD
END:VTIMEZONE
BEGIN:VEVENT
UID:815268@techplay.jp
SUMMARY:「量子コンピュータによる機械学習」読書会 10
DTSTART;TZID=Asia/Tokyo:20210426T210000
DTEND;TZID=Asia/Tokyo:20210426T220000
DTSTAMP:20260420T065017Z
CREATED:20210419T141711Z
DESCRIPTION:イベント詳細はこちら\nhttps://techplay.jp/event/81526
 8?utm_medium=referral&utm_source=ics&utm_campaign=ics\n\n 概要 \n\n4月
 29日に開催される回\nと同一内容です。 \n近年、素因数
 分解や探索問題など、いくつかの問題を従来のコンピ
 ュータよりも少ない計算量で解ける量子コンピュータ
 や情報論的な安全性をもつ量子暗号等によって量子情
 報科学が社会的にも注目されております。一方、ディ
 ープラーニングの登場によって始まった第三次AIブー
 ムは現在も続いており、日常生活のいたるところで人
 工知能は利用されています。従来のコンピュータの代
 わりに量子コンピュータを使って、より効率的に機械
 学習ができないかというのは自然な考えです。今回は
 量子コンピュータを用いた教師付き学習について、基
 本原理をしっかりと理解することを目指します。\n量
 子コンピュータの基礎と機械学習の基礎も教科書に書
 かれているので、通常の機械学習は知っているが量子
 コンピュータのことは知らない、あるいは量子力学は
 知っているが機械学習は知らないという方でも参加で
 きます。\nテキスト\n　共立出版から発行されている「
 量子コンピュータによる機械学習」　https://www.kyoritsu-p
 ub.co.jp/bookdetail/9784320124622　を使います。\nこの本は「Su
 pervised Learning with Quantum Computers」\nhttps://www.springer.com/gp/
 book/9783319964232\nの日本語訳です。\n今回の内容\n\nP.68 ホ
 ップフィールドネットワーク　から読みます。\n 進め
 方\n\nこの読書会はオンラインでスカイプをもちいて開
 催します。\n開始時刻になったら、主催者がこの読書
 会のスカイプの音声通話を開始します。\n基本的には
 主催者が教科書を音読し、それに対する説明をする、
 数式がある場合はその計算について解説をします。そ
 して参加者は適宜、質問して議論をして理解を深める
 という形を想定しています。なお洗練された講義とは
 ほど遠いと思いますので、参加される場合はその点ご
 了承ください。\n毎週月曜日の21:00~22:00の開催を想定し
 ています。\n参加方法\n\n参加する方はconnpassで参加申
 し込みをお願いします。申し込み後、「参加者への情
 報」においてこの読書会のスカイプに参加するための
 リンクが表示されます。そのリンクをクリックしてス
 カイプに参加してください。\n注意点\n今回読む本はブ
 ルーバックスのような啓蒙書ではありません。教養番
 組のように分かりやすいグラフィックで手軽に理解し
 たいという方・数式を使わずに理解したいという方に
 は向いていません。量子情報や通常の機械学習につい
 ては基礎が教科書でも2章、3章で解説されていますの
 で、前提ではありませんが、線形代数の基礎知識（例
 えば行列の固有値、固有ベクトルの計算）は必要です
 。また読み終わるまでに数か月~1年くらいの相当な時
 間がかかると思います。短期間で読み終えたいという
 方には向いておりません。\nスカイプの通話は通信容
 量やプライバシー等の問題からビデオはオフで参加し
 てください。またマイクも質問するとき以外は雑音を
 減らすためにオフに設定してください。
LOCATION:オンライン オンライン
URL:https://techplay.jp/event/815268?utm_medium=referral&utm_source=ics&utm
 _campaign=ics
END:VEVENT
END:VCALENDAR
