BEGIN:VCALENDAR
VERSION:2.0
PRODID:-//https://techplay.jp//JP
CALSCALE:GREGORIAN
METHOD:PUBLISH
X-WR-CALDESC:【特定割引制度あり】DXを推進！奇跡のデータ
 サイエンスセミナー
X-WR-CALNAME:【特定割引制度あり】DXを推進！奇跡のデータ
 サイエンスセミナー
X-WR-TIMEZONE:Asia/Tokyo
BEGIN:VTIMEZONE
TZID:Asia/Tokyo
BEGIN:STANDARD
DTSTART:19700101T000000
TZOFFSETFROM:+0900
TZOFFSETTO:+0900
TZNAME:JST
END:STANDARD
END:VTIMEZONE
BEGIN:VEVENT
UID:815270@techplay.jp
SUMMARY:【特定割引制度あり】DXを推進！奇跡のデータサ
 イエンスセミナー
DTSTART;TZID=Asia/Tokyo:20210426T131500
DTEND;TZID=Asia/Tokyo:20210426T141500
DTSTAMP:20260422T162517Z
CREATED:20210419T141714Z
DESCRIPTION:イベント詳細はこちら\nhttps://techplay.jp/event/81527
 0?utm_medium=referral&utm_source=ics&utm_campaign=ics\n\n概要\nデー
 タとデジタルを活用して、サービスの向上、組織や業
 務そのものを変革していくDX（デジタルトランスフォ
 ーメーション）。\nDXを企業で推進するには、データサ
 イエンスを理解しデータ分析技術を習得したDX人材の
 育成が必要です。\n本セミナーでは、GRIのデータサイ
 エンス講座をきっかけに組織変革を起こした事例と共
 に、データの理解と人工知能・機械学習の活用につい
 て講義形式で紹介します。\nまた、GRIが講師を担当す
 る講座のうち、これからのDX時代を支える若手の方とDX
 組織をまとめていく方それぞれににオススメの講座を
 紹介します。\nセミナーご参加の方には特別に「割引
 制度」を案内いたします！\n※同様の事業をされてい
 る方の講座受講はお断りする場合がございます\nタイ
 ムスケジュール\n13:15～14:00　DXを推進！奇跡のデータ
 サイエンス講座\n14:00～14:15　質疑応答（自由退出）\n
 登壇者\nヤン ジャクリン講師\n株式会社GRI　データ分
 析官 兼 講師\n参加方法\n時間になりましたら、下記Zoom
 URLよりご自由にご参加ください\nhttps://zoom.us/j/99297617257
 \n参加対象\nデータサイエンスに関心のある方\nDX時代
 を支える若手の方\nDX組織を統括する方\n参加費\n無料
LOCATION:オンライン
URL:https://techplay.jp/event/815270?utm_medium=referral&utm_source=ics&utm
 _campaign=ics
END:VEVENT
END:VCALENDAR
