BEGIN:VCALENDAR
VERSION:2.0
PRODID:-//https://techplay.jp//JP
CALSCALE:GREGORIAN
METHOD:PUBLISH
X-WR-CALDESC:3時間限定のWebサイト開発体験！
X-WR-CALNAME:3時間限定のWebサイト開発体験！
X-WR-TIMEZONE:Asia/Tokyo
BEGIN:VTIMEZONE
TZID:Asia/Tokyo
BEGIN:STANDARD
DTSTART:19700101T000000
TZOFFSETFROM:+0900
TZOFFSETTO:+0900
TZNAME:JST
END:STANDARD
END:VTIMEZONE
BEGIN:VEVENT
UID:815349@techplay.jp
SUMMARY:3時間限定のWebサイト開発体験！
DTSTART;TZID=Asia/Tokyo:20210425T180000
DTEND;TZID=Asia/Tokyo:20210425T210000
DTSTAMP:20260420T110512Z
CREATED:20210420T112817Z
DESCRIPTION:イベント詳細はこちら\nhttps://techplay.jp/event/81534
 9?utm_medium=referral&utm_source=ics&utm_campaign=ics\n\n【プログラ
 ムコード配布の特典あり】3時間限定のWebサイト開発体
 験！\n１．増え続ける「プログラミング」の需要\nたっ
 た３時間で作品を作る。そんなことができるのがこの
 イベントです。現在、世界の時価総額ランキングの上
 位に名を連ねるのは「GAFA」というIT企業郡。\nそれだ
 け「IT」の需要は増えつづけ、個人でも「仕事を自動
 化する」ことなどを目的にプログラミングは人　　　
 　　　　　気のスキルとなっています。\nそれほどの
 スキルを学生のうちに学ぶことは就活にとっても大き
 なアピールになります。他の人と一線を画すようなア
 ピールポイントを身につける第一歩を踏み出しません
 か？？\n【詳細】5/9 14:00-17:005/23 14:00-17:006/6 14:00-17:006/19
  14:00-17:00\n場所：オンライン（zoom開催）定員：10名(先
 着)\nコンテンツ内容：前半２時間　(体験会)　メンタ
 ーから実際にレクチャーを受けながら、プログラミン
 グを体験！後半1時間　(説明会)     希望者は体験会終
 了後、プログラミングの勉強方法などについての相談
 も承ります！\n２.タイムスケジュール\n\n\n\n時間\n内容
 \n\n\n\n\n18:00〜\n受付開始\n\n\n18:30〜19:30\n基礎知識のイ
 ンプット\n\n\n19:30〜20:30\nHP制作を実際に体験\n\n\n20:30〜
 21:00\nGeekSslonの紹介\n\n\n\n※ 当日予告なく時間配分・内
 容が変更になる可能性がございます。\n３.こんな人に
 オススメ！\n✅就活で周りの大学生にはない武器を作
 りたい！✅プログラミングに少し興味があるけど、や
 ったことがない！✅以前プログラミングに挑戦したけ
 ど、挫折した！
LOCATION:オンライン
URL:https://techplay.jp/event/815349?utm_medium=referral&utm_source=ics&utm
 _campaign=ics
END:VEVENT
END:VCALENDAR
