BEGIN:VCALENDAR
VERSION:2.0
PRODID:-//https://techplay.jp//JP
CALSCALE:GREGORIAN
METHOD:PUBLISH
X-WR-CALDESC:おみくじアプリを作ろう！<フロントエンド講
 座>
X-WR-CALNAME:おみくじアプリを作ろう！<フロントエンド講
 座>
X-WR-TIMEZONE:Asia/Tokyo
BEGIN:VTIMEZONE
TZID:Asia/Tokyo
BEGIN:STANDARD
DTSTART:19700101T000000
TZOFFSETFROM:+0900
TZOFFSETTO:+0900
TZNAME:JST
END:STANDARD
END:VTIMEZONE
BEGIN:VEVENT
UID:815360@techplay.jp
SUMMARY:おみくじアプリを作ろう！<フロントエンド講座>
DTSTART;TZID=Asia/Tokyo:20210421T170000
DTEND;TZID=Asia/Tokyo:20210421T190000
DTSTAMP:20260422T212559Z
CREATED:20210420T141158Z
DESCRIPTION:イベント詳細はこちら\nhttps://techplay.jp/event/81536
 0?utm_medium=referral&utm_source=ics&utm_campaign=ics\n\n内容\nフロ
 ントエンドに興味がある方向けの講座を開催します！\
 n申し込み方法\nTRUNKHPにアクセスして頂いて、参加する
 ボタンをクリックして下さい。\n当日予定のお知らせ\n
 当日の予定はLINEにてお送りしております。下記QRコー
 ド/リンクからご登録お願いします。\n※ご登録後「卒
 業年度」「氏名」をご送信ください。\nhttps://lin.ee/4DNTi
 09\n\nスケジュール\n2021/4/21 17~19\n注意事項\n\nオンライ
 ン開催\n応募者が多い場合、抽選をする場合がありま
 す\nPC持参\nTRUNKアカウントをあらかじめ取得しておい
 てください\n\n未経験者歓迎！！フロントエンドの講座
 を開催します！\n本講座ではJavaScriptを使って簡単なお
 みくじアプリを作ってみようと思います！\nJavaScriptに
 触ったことがないという方でも解説を交えながら進め
 るの気楽にご参加ください！
LOCATION:オンライン オンライン
URL:https://techplay.jp/event/815360?utm_medium=referral&utm_source=ics&utm
 _campaign=ics
END:VEVENT
END:VCALENDAR
