BEGIN:VCALENDAR
VERSION:2.0
PRODID:-//https://techplay.jp//JP
CALSCALE:GREGORIAN
METHOD:PUBLISH
X-WR-CALDESC:Hacking the JLPT and how to learn Japanese ‘Q&A’  日本
 語 up!
X-WR-CALNAME:Hacking the JLPT and how to learn Japanese ‘Q&A’  日本
 語 up!
X-WR-TIMEZONE:Asia/Tokyo
BEGIN:VTIMEZONE
TZID:Asia/Tokyo
BEGIN:STANDARD
DTSTART:19700101T000000
TZOFFSETFROM:+0900
TZOFFSETTO:+0900
TZNAME:JST
END:STANDARD
END:VTIMEZONE
BEGIN:VEVENT
UID:815644@techplay.jp
SUMMARY:Hacking the JLPT and how to learn Japanese ‘Q&A’  日本語 up!
DTSTART;TZID=Asia/Tokyo:20210426T120000
DTEND;TZID=Asia/Tokyo:20210426T135500
DTSTAMP:20260421T071824Z
CREATED:20210422T140029Z
DESCRIPTION:イベント詳細はこちら\nhttps://techplay.jp/event/81564
 4?utm_medium=referral&utm_source=ics&utm_campaign=ics\n\n[BIJ Event] Mond
 ay 4/26 12pm JST\n6am PDT | 9am EDT | 2pm GMT | 3pm CEST\n\nHacking the J
 LPT and how to learn Japanese ‘Q&A’  日本語 up!\n\nTyson Batino wi
 ll share his story of how he got #JLPT #N1\, how you can boost your JLPT 
 score\, and answer questions you have about learning the #Japanese #langu
 age professionally & in your personal life. Supported by Sam Bleaky from 
 Coto World / Coto Japanese Academy. Also supported by Japan Switch\n\n\n\
 nPlease share this block of text below with friends!\n\nWHAT: Hacking the
  JLPT and how to learn Japanese ‘Q&A’  日本語 up! [Clubhouse to Zo
 om!)\nWHEN: Monday\, April 26\, 2021\, 12pm to 1:30pm~\nCLUBHOUSE URL: ht
 tps://www.joinclubhouse.com/event/MOX6Le9X\nZOOM URL after RSVP: https://
 businessinjapan.doorkeeper.jp/events/121080\n\nYou can listen in on Zoom 
 or Clubhouse! While Clubhouse is an iPhone only\, Audio-only\, invite-onl
 y new Social Media platform\, we will stream the audio from Clubhouse int
 o Zoom.\n\n\nDuring Q&A\, AMA\, Zoom attendees can use Chat to have a mod
 erator ask a question on your behalf!\n\n\n\n\nDue to the Audio originati
 ng in Clubhouse\, for Zoom attendees\, we can take any questions from the
  Zoom audience by Chat. If you're on Clubhouse\, feel free to raise your 
 hand to come on stage to talk.\n\nIf you can\, we recommend joining the C
 lubhouse App - 'Drop-in\, Audio-only Chat' where you'll have a chance to 
 raise your hand to ask questions\, where people are 'brought up on stage'
  in an AMA format within Clubhouse. \n\nNews: as of April 2021 the founde
 rs of Clubhouse are saying Android version is 'weeks away'!
LOCATION:オンライン
URL:https://techplay.jp/event/815644?utm_medium=referral&utm_source=ics&utm
 _campaign=ics
END:VEVENT
END:VCALENDAR
