BEGIN:VCALENDAR
VERSION:2.0
PRODID:-//https://techplay.jp//JP
CALSCALE:GREGORIAN
METHOD:PUBLISH
X-WR-CALDESC:DX成功の鍵は、デザインの力で事業・組織を変
 えること＜デザイン思考を身につけるDX人材育成事例
 を紹介＞
X-WR-CALNAME:DX成功の鍵は、デザインの力で事業・組織を変
 えること＜デザイン思考を身につけるDX人材育成事例
 を紹介＞
X-WR-TIMEZONE:Asia/Tokyo
BEGIN:VTIMEZONE
TZID:Asia/Tokyo
BEGIN:STANDARD
DTSTART:19700101T000000
TZOFFSETFROM:+0900
TZOFFSETTO:+0900
TZNAME:JST
END:STANDARD
END:VTIMEZONE
BEGIN:VEVENT
UID:815685@techplay.jp
SUMMARY:DX成功の鍵は、デザインの力で事業・組織を変え
 ること＜デザイン思考を身につけるDX人材育成事例を
 紹介＞
DTSTART;TZID=Asia/Tokyo:20210513T110000
DTEND;TZID=Asia/Tokyo:20210513T120000
DTSTAMP:20260421T065515Z
CREATED:20210423T020830Z
DESCRIPTION:イベント詳細はこちら\nhttps://techplay.jp/event/81568
 5?utm_medium=referral&utm_source=ics&utm_campaign=ics\n\nDX成功の鍵
 は、デザインの力で事業・組織を変えること\n〈デザ
 イン思考を身につけるDX人材育成事例を紹介〉\n本ウェ
 ビナーでは、DX推進におけるデザインの重要性を考え
 るとともに、実際にモンスター・ラボが実施したDX人
 材育成事例を紹介。ビジネスパーソンがデザイン領域
 を理解することの必要性と組織のデザイン力を強化す
 ることのメリットを解説します。\n本企画の背景\n既存
 ビジネスのデジタル変革や新規事業の開発には、新し
 い価値の創造が必要不可欠。そのため、DX推進を担うDX
 人材には、ユーザーの潜在ニーズを紐解いてサービス
 に取り込むための“デザイン思考”が求められていま
 す。\nしかし、『自社にデザインに関する知見が無い
 』『どのように組織・ビジネスにデザイン思考を取り
 入れていけばいいのかわからない』と悩まれている方
 も多いのではないでしょうか。\nそこで、本セミナー
 ではビジネスパーソンにデザインの知見が求められる
 背景やDX推進におけるデザインの重要性を解説。同時
 に、デザイン領域を担うDX人材育成支援を行った事例
 を紹介します。\nこんな人におすすめ\n\n自社のDX人材
 育成に課題をお持ちのビジネス部門責任者\nDXにおける
 デザイン思考の必要性や成功事例を知りたい\nどのよ
 うに組織にデザイン思考を取り入れていけばいいのか
 悩んでいる\nDXプロジェクトを成功に導くデザイン人材
 の育成方法を知りたい\n\n登壇者\n神子 愛香\n株式会社
 モンスター・ラボセブ拠点 デザインチーム リード／
 モンスター・アカデミア COO\n村田 健介\n株式会社モン
 スター・ラボモンスター・アカデミア デザイン講師\n\
 n参加費\n無料
LOCATION:オンライン※詳細のご視聴方法はご登録いただい
 たメールアドレス宛てにご連絡いたします。
URL:https://techplay.jp/event/815685?utm_medium=referral&utm_source=ics&utm
 _campaign=ics
END:VEVENT
END:VCALENDAR
