BEGIN:VCALENDAR
VERSION:2.0
PRODID:-//https://techplay.jp//JP
CALSCALE:GREGORIAN
METHOD:PUBLISH
X-WR-CALDESC:それ使ってみたい！みんなのローカル環境座
 談会 - WP ZoomUP #64
X-WR-CALNAME:それ使ってみたい！みんなのローカル環境座
 談会 - WP ZoomUP #64
X-WR-TIMEZONE:Asia/Tokyo
BEGIN:VTIMEZONE
TZID:Asia/Tokyo
BEGIN:STANDARD
DTSTART:19700101T000000
TZOFFSETFROM:+0900
TZOFFSETTO:+0900
TZNAME:JST
END:STANDARD
END:VTIMEZONE
BEGIN:VEVENT
UID:815772@techplay.jp
SUMMARY:それ使ってみたい！みんなのローカル環境座談会 
 - WP ZoomUP #64
DTSTART;TZID=Asia/Tokyo:20210513T210000
DTEND;TZID=Asia/Tokyo:20210513T230000
DTSTAMP:20260424T041952Z
CREATED:20210423T142218Z
DESCRIPTION:イベント詳細はこちら\nhttps://techplay.jp/event/81577
 2?utm_medium=referral&utm_source=ics&utm_campaign=ics\n\nセッション
 概要\n皆さんは「ローカル環境」はお使いでしょうか
 ？自分のパソコンの中だけでWordPressを動かせるのはな
 にかと便利です。\n今回のWPZoomUPは「いまいちばん簡単
 なローカル環境の話」のミニセッションと、みんなの
 ローカル環境についていろいろと情報交換をする回で
 す。\nこれまでもバリバリ使っていた方も、まだ触っ
 たことがない方も、他の人がなにをどう使っているの
 かをわいわい話しましょう！！\n（随時更新）\nスピー
 カー\n齋木 弘樹 (さいき ひろき)\nフロントエンドエン
 ジニアを目指しているエンジニア。 大学卒業後、17年
 にわたってDucati専門のチューニングショップでメカニ
 ックとして勤務。腰痛のため退職の後、Webに関する勉
 強をイチから始め、手始めに勉強会に行きまくる。 1
 年の自炊代行会社勤務を経て2012年6月よりWeb制作会社
 に勤務。主にHTML・CSSのマークアップとWordPressの構築を
 業務とする。2016年4月より講師業。2017年10月から株式
 会社mgn所属。 WordCamp東京、WordBench東京などWordPress関連
 の勉強会、またCSS nite、HTML5 Conference、JavaScript祭、DIST
 など多くのWeb系イベントにスタッフとして参加。\nス
 ピーカーのご出演について\nご厚意により無償でご出
 演いただいております。\nイベント当日、スピーカー
 さんのAmazonウィッシュリストを公開しますので、おも
 しろかった・勉強になったと感じていただけましたら
 、ぜひお礼としてお送りいただけると嬉しいです！\n
 イベントの流れ\n開場は20:50です。21:00より開始となり
 ますので、それまでにご参加開始いただくとスムーズ
 です。\n（途中からでもお気軽にご参加ください）\n以
 下のように進行します。\n\nはじめの挨拶\n本イベント
 について、アンケート、注意事項\nセッション\n質問・
 回答タイム\nおわりの挨拶\n希望者のみ懇親会へ\n\n参
 加方法は？\n（動画と音声発信）で参加の方 ：\nイベ
 ント当日、1時間ほど前より connpassにご登録いただいた
 メールアドレスに勉強会専用のURLを運営よりお送りい
 たします ので、そちらにアクセスしてご参加ください
 。\n"見るだけ参加"をご希望の方は、映像とマイクをオ
 フにしてご覧ください。\n★はじめての方へ：ZoomでWP Z
 oomUPに参加する方法\nhttps://wpzoomup.com/how-to-use-the-zoom/\n
 ★はじめての方へ：オススメのデバイスについて\nhttps
 ://wpzoomup.com/recommended-device/\nZoom の録画機能を利用して
 、後日、YouTubeやWordPress.tvに公開することを考えていま
 す。\n歓迎されること ＆ されないこと\n歓迎されるこ
 と\nWP ZoomUP をすべての人たちにとって開かれた場所に
 します。ジェンダー、性的指向、障害、人種、宗教、
 好きなOS、好きなプログラミング言語、使っているテ
 キストエディター、使っているCMS、技術のレベルがな
 んであっても、誰でも安心していられて、自分は歓迎
 されているんだと思える、友好的な場所にします。\n
 以下のことを歓迎します。\n\n思慮深く、他者を尊重し
 、協力的であること。\n他の人の品位を傷つけたり、
 差別したり、嫌がらせとなる言動を控えること\n会の
 状況や他の参加者の様子に気を配ること。\nちょっと
 問題かな、と思えることがあったら、それをすぐに運
 営者に伝えること。\n積極的に参加して、提案して、
 発言することで、会をよくしていき、自分のものにし
 ていくこと。\n\n歓迎されないこと\n\n他の人の品位を
 傷つけたり、差別したり、嫌がらせとなる言動。\nこ
 こで出会った人へのハラスメント。\nスパム行為（リ
 ンクをおくったり、過度な勧誘をしたり）\n\nこうした
 ことを経験、目撃した人は、ものすごくきちんと対応
 しますので、スタッフにご連絡ください。\n参考にし
 た文書: Code of Conduct – Make WordPress Communities https://make.wo
 rdpress.org/community/handbook/meetup-organizer/resources/code-of-conduct
 /\nWP ZoomUP とは？\nWP ZoomUP は WordPress を使っている人、
 使いたい人たちが集まって、知識を共有したり質問を
 したりするオンライン勉強会です。\nWordPress を使って
 いる人、WordPress に興味がある人なら、知識の量や技術
 の有無に関係なく、誰でも参加することができます。\
 n月に2回の開催で、「セッション回」 と 「座談会」 
 を一度ずつ開催します。\n★はじめての方へ：WP ZoomUP 
 について\nhttps://wpzoomup.com/about/\nスタッフ\nWP ZoomUPは下
 記のメンバーがボランティアとしてスタッフをしてい
 ます。\n\n村上 直子 @ud_fibonacci\n中谷 智美 @imasara_king\n
 しずみ @Shizumi0705\n三浦 佐代子 @NOCE_WEB_DESIGN\n額賀 順子 
 @nukaga\n齋木 弘樹 @lunaluna_dev \n河野 千秋 @kouno_chiaki \nIppe
 i @ippey_s\nめがね @megane9988\n占部 紘 @Toro_Unit\n西川 伸一 @
 shinichiN\n本田 季之 @RocketMartue\n高橋 修 @osamunize\nはやし
 （ま） @haya2_\ndeni @deniyung\n\nフィードバック方法\n\n#wpzo
 omup をつけてつぶやく\n登壇者／セッション内容提案フ
 ォーム から、聞いてみたいセッションを送る\nセッシ
 ョン登壇立候補フォームから、話してみたいことを送
 る\nイベント改善提案フォームから、イベント自体の
 改善について提案する\n\nhttps://wpzoomup.com/contact/\nイベ
 ントがおもしろかった・ためになったら、ぜひ応援し
 てください\nWP ZOOMUPをささえる会\nhttps://wpzoomup.com/produc
 t-category/supporting-party-of-wp-zoomup
LOCATION:オンライン オンライン
URL:https://techplay.jp/event/815772?utm_medium=referral&utm_source=ics&utm
 _campaign=ics
END:VEVENT
END:VCALENDAR
