BEGIN:VCALENDAR
VERSION:2.0
PRODID:-//https://techplay.jp//JP
CALSCALE:GREGORIAN
METHOD:PUBLISH
X-WR-CALDESC:vol.22 AWSではじめるLinux入門ガイドのデモ(エデ
 ィタ、パーミッションなど)
X-WR-CALNAME:vol.22 AWSではじめるLinux入門ガイドのデモ(エデ
 ィタ、パーミッションなど)
X-WR-TIMEZONE:Asia/Tokyo
BEGIN:VTIMEZONE
TZID:Asia/Tokyo
BEGIN:STANDARD
DTSTART:19700101T000000
TZOFFSETFROM:+0900
TZOFFSETTO:+0900
TZNAME:JST
END:STANDARD
END:VTIMEZONE
BEGIN:VEVENT
UID:815851@techplay.jp
SUMMARY:vol.22 AWSではじめるLinux入門ガイドのデモ(エディタ
 、パーミッションなど)
DTSTART;TZID=Asia/Tokyo:20210508T093000
DTEND;TZID=Asia/Tokyo:20210508T100000
DTSTAMP:20260423T131432Z
CREATED:20210424T142341Z
DESCRIPTION:イベント詳細はこちら\nhttps://techplay.jp/event/81585
 1?utm_medium=referral&utm_source=ics&utm_campaign=ics\n\nAWSではじめ
 るLinux入門ガイドのデモ(エディタ、パーミッションな
 ど)を開催します。\nヤマムギ運営の私の拙著で恐れ入
 りますが、「AWSではじめるLinux入門ガイド」という本
 があります。\n本の内容に沿ってのライブデモをGW中毎
 朝やろうかなと考えてます。\nこの日は8~9章ぐらいま
 でを予定しています。\nLinuxサーバー上でテキストエデ
 ィタを操作したりパーミッションを設定したりデモを
 します。\nvol.22 のタイムテーブル\n時間は前後します
 。  \nデモや発表内容。書籍についてのご質問など、時
 間内でしたら、どんなご質問にもなるべくお答えしま
 す。\n\n\n\n時間\n内容\n担当\n\n\n\n\n9:30~10:00\n解説とデモ
 \nヤマムギ 山下 光洋\n\n\n\nグランドルールは以下です
 。\n\n質問は遠慮せずに！\n回答してくれた参加者さん
 には心からお礼を！\n質問には参加者だれでも積極的
 に回答してください！\n\n質問はZoomチャットでもTwitter
 でもなんでもOKです。\n回答もどこからでもOKですが、
 他の人も見たいのでプライベートメッセージ以外にし
 ましょう。\n対象者\n\nAWSではじめるLinux入門ガイドを
 お持ちの方\nAWSではじめるLinux入門ガイドに興味のある
 方\n\n必要なもの\n\nZoomに参加していただくインターネ
 ット環境\n\nGW10日間毎朝チャレンジ\nこれまでに執筆し
 た書籍の関連デモを解説する30分の勉強会を4/29~5/8の10
 日間、毎朝開催することにしました。\nやってみて続
 けられそうなら、今後も毎週土曜日の朝などに続けて
 いきたいと思います。\n本を読んでいただいている方
 や、本の内容に興味のある方、お気軽にご参加くださ
 い。\nAWSではじめるLinux入門ガイド\n4/29(木) AWSでLinux起
 動と様々な接続\n5/2(日) 管理者コマンド、インストー
 ルコマンドなど\n5/5(水) ファイル操作コマンドなど\n5/8
 (土) エディタ、パーミッションなど  \nAWS認定試験テキ
 スト AWS認定クラウドプラクティショナー\n4/30(金) AWSの
 基本\n5/3(月) コンピューティングサービス\n5/6(木) スト
 レージサービス  \nポケットスタディ AWS認定デベロッ
 パーアソシエイト\n5/1(土) デプロイサービスの1\n5/4(火)
  デプロイサービスの2\n5/7(金) セキュリティ  \nヤマム
 ギとは\n私と皆さまのファーストステップとなりまし
 たら幸いな、ハンズオンやデモを中心とした勉強会で
 す。\nゼロをイチにしていただける、そんなきっかけ
 になると嬉しいです！
LOCATION:オンライン オンライン
URL:https://techplay.jp/event/815851?utm_medium=referral&utm_source=ics&utm
 _campaign=ics
END:VEVENT
END:VCALENDAR
